Uber Exif Photo
Keywords : NewZealand, Other, PeopleTagged, Places, PlacesTagged, Rongitoto, Scenery
By-line : Chandrasekhar Velayudhan
Copyright Notice : Chandrasekhar Velayudhan
Caption-Abstract : To Rongitoto and back
Image Description : To Rongitoto and back
Make : NIKON CORPORATION
Camera Model Name : NIKON D70
Orientation : Horizontal (normal)
Software : Adobe Photoshop Lightroom 5.2 (Windows)
Modify Date : 2013:10:04 07:36:07
Artist : Chandrasekhar Velayudhan
Copyright : Chandrasekhar Velayudhan
Exposure Time : 1/500
F Number : 11.0
Exposure Program : Program AE
ISO : 200
Date/Time Original : 2005:03:27 18:02:52
Create Date : 2005:03:27 18:02:52
Shutter Speed Value : 1/500
Aperture Value : 11.0
Exposure Compensation : 0
Max Aperture Value : 4.3
Subject Distance : 4294967295 m
Metering Mode : Center-weighted average
Flash : No Flash
Focal Length : 40.0 mm
Maker Note Version : 2.10
Quality : Fine
White Balance : Auto
Sharpness : Auto
Focus Mode : AF-S
White Balance Fine Tune : 0
Program Shift : 0
Exposure Difference : 0
ISO Setting : 200
Image Boundary : 0 0 2240 1488
Flash Exposure Bracket Value : 0.0
Exposure Bracket Value : 0
Tone Comp : Auto
Lens Type : G
Flash Mode : Did Not Fire
AF Area Mode : Single Area
AF Point : Center
AF Points In Focus : Center
Shooting Mode : Single-Frame, Unused LE-NR Slowdown
Color Hue : Mode3a
Light Source : Natural
Hue Adjustment : 0
Noise Reduction : Off
WB RGBG Levels : 7 1 36353 1
Lens Data Version : 0101
Exit Pupil Position : 93.1 mm
AF Aperture : 4.4
Focus Position : 0x01
Focus Distance : 10.00 m
Lens ID Number : 127
Lens F Stops : 5.33
Min Focal Length : 18.3 mm
Max Focal Length : 71.3 mm
Max Aperture At Min Focal : 3.6
Max Aperture At Max Focal : 4.5
MCU Version : 132
Effective Max Aperture : 4.4
Sensor Pixel Size : 7.8 x 7.8 um
Image Data Size : 906985
Shutter Count : 4300
Image Optimization : Vivid
Saturation : Normal
Vari Program : IFD0 Offset : 10260
Preview IFD Offset : 10160
Color Space : sRGB
Exif Image Width : 2240
Exif Image Height : 1488
Sensing Method : One-chip color area
Scene Type : Directly photographed
CFA Pattern : [Blue,Green][Green,Red]
Serial Number : 20019632
Lens Info : 18-70mm f/3.5-4.5
Lens Model : 18.0-70.0 mm f/3.5-4.5
Profile Description : Nikon sRGB 4.0.0.3001
Creator Tool : Adobe Photoshop Lightroom 5.2 (Windows)
Lens : 18.0-70.0 mm f/3.5-4.5
Image Number : 4300
Approximate Focus Distance : 4294967295
Format : image/jpeg
Version : 8.2
Process Version : 5.7
Auto White Version : 134348800
Incremental Temperature : -6
Incremental Tint : +30
Exposure : 0.00
Shadows : 1
Brightness : +14
Contrast : +4
Luminance Smoothing : 0
Color Noise Reduction : 0
Vignette Amount : 0
Shadow Tint : 0
Red Hue : 0
Red Saturation : 0
Green Hue : 0
Green Saturation : 0
Blue Hue : 0
Blue Saturation : 0
Fill Light : 18
Vibrance : -2
Highlight Recovery : 0
Clarity : +14
Hue Adjustment Red : 0
Hue Adjustment Orange : 0
Hue Adjustment Yellow : 0
Hue Adjustment Green : 0
Hue Adjustment Aqua : 0
Hue Adjustment Blue : 0
Hue Adjustment Purple : 0
Hue Adjustment Magenta : 0
Saturation Adjustment Red : 0
Saturation Adjustment Orange : 0
Saturation Adjustment Yellow : 0
Saturation Adjustment Green : 0
Saturation Adjustment Aqua : 0
Saturation Adjustment Blue : 0
Saturation Adjustment Purple : 0
Saturation Adjustment Magenta : 0
Luminance Adjustment Red : 0
Luminance Adjustment Orange : 0
Luminance Adjustment Yellow : 0
Luminance Adjustment Green : 0
Luminance Adjustment Aqua : 0
Luminance Adjustment Blue : 0
Luminance Adjustment Purple : 0
Luminance Adjustment Magenta : 0
Split Toning Shadow Hue : 0
Split Toning Shadow Saturation : 0
Split Toning Highlight Hue : 0
Split Toning Highlight Saturation : 0
Split Toning Balance : 0
Parametric Shadows : 0
Parametric Darks : 0
Parametric Lights : 0
Parametric Highlights : 0
Parametric Shadow Split : 25
Parametric Midtone Split : 50
Parametric Highlight Split : 75
Sharpen Radius : +1.0
Sharpen Detail : 25
Sharpen Edge Masking : 0
Post Crop Vignette Amount : 0
Grain Amount : 0
Lens Profile Enable : 0
Lens Manual Distortion Amount : 0
Perspective Vertical : 0
Perspective Horizontal : 0
Perspective Rotate : 0.0
Perspective Scale : 100
Perspective Aspect : 0
Perspective Upright : Off
Auto Lateral CA : 0
Defringe Purple Amount : 0
Defringe Purple Hue Lo : 30
Defringe Purple Hue Hi : 70
Defringe Green Amount : 0
Defringe Green Hue Lo : 40
Defringe Green Hue Hi : 60
Convert To Grayscale : False
Tone Curve Name : Linear
Camera Profile : Embedded
Lens Profile Setup : LensDefaults
Has Settings : True
Crop Top : 0.029469
Crop Left : 0.008233
Crop Bottom : 0.970531
Crop Right : 0.991767
Crop Angle : -1.15552
Crop Constrain To Warp : 0
Has Crop : True
Already Applied : False
Raw File Name : 20050327180252.jpg
Photographic Sensitivity : 200
Creator : Chandrasekhar Velayudhan
Rights : Chandrasekhar Velayudhan
Subject : NewZealand, Other, PeopleTagged, Places, PlacesTagged, Rongitoto, Scenery
Description : To Rongitoto and back
Tone Curve : 0, 0, 255, 255
Tone Curve Red : 0, 0, 255, 255
Tone Curve Green : 0, 0, 255, 255
Tone Curve Blue : 0, 0, 255, 255
Gradient Based Corr What : Correction
Gradient Based Corr Amount : 1.000000
Gradient Based Corr Active : true
Gradient Based Corr Exposure : -0.379250
Gradient Based Corr Saturation : 0.000000
Gradient Based Corr Contrast : 0.471260
Gradient Based Corr Clarity : 0.885060
Gradient Based Corr Sharpness : 0.000000
Gradient Based Corr Brightness : 0.057470
Gradient Based Corr Toning Hue : 240.000000
Gradient Based Corr Toning Saturation : 0.000000
Gradient Based Corr Exposure 2012 : 0.000000
Gradient Based Corr Contrast 2012 : 0.000000
Gradient Based Corr Highlights 2012 : 0.000000
Gradient Based Corr Shadows 2012 : 0.000000
Gradient Based Corr Clarity 2012 : 0.000000
Gradient Based Corr Luminance Noise : 0.000000
Gradient Based Corr Moire : 0.000000
Gradient Based Corr Defringe : 0.000000
Gradient Based Corr Temperature : 0.000000
Gradient Based Corr Tint : 0.000000
Gradient Based Corr Mask What : Mask/Gradient
Gradient Based Corr Mask Value : 1.000000
Gradient Based Corr Mask Zero X : 0.529953
Gradient Based Corr Mask Zero Y : 0.842128
Gradient Based Corr Mask Full X : 0.525277
Gradient Based Corr Mask Full Y : 0.493153
Image Width : 300
Image Height : 199
Bits Per Sample : 8
Color Components : 3
Aperture : 11.0
Blue Balance : 36353
Image Size : 300x199
Megapixels : 0.060
Red Balance : 7
Shutter Speed : 1/500
Modify Date : 2013:10:04 07:36:07.068
Lens ID : AF-S DX Zoom-Nikkor 18-70mm f/3.5-4.5G IF-ED
Lens Spec : 18-70mm f/3.5-4.5 G
Light Value : 14.9