Uber Exif Photo
Photometric Interpretation : RGB
Make : NIKON CORPORATION
Camera Model Name : NIKON D4S
Orientation : Horizontal (normal)
Samples Per Pixel : 3
Software : Adobe Photoshop 22.1 (Windows)
Modify Date : 2024:12:15 22:02:58
Artist : IANCU CRISTI
Copyright : iancucristi.ro
Exposure Time : 1/200
F Number : 10.0
Exposure Program : Manual
ISO : 500
Sensitivity Type : Recommended Exposure Index
Date/Time Original : 2024:12:07 14:05:01
Create Date : 2024:12:07 14:05:01
Shutter Speed Value : 1/200
Aperture Value : 10.0
Exposure Compensation : 0
Max Aperture Value : 2.8
Metering Mode : Center-weighted average
Light Source : Unknown
Flash : On, Return not detected
Focal Length : 56.0 mm
Color Space : sRGB
Exif Image Width : 1200
Exif Image Height : 769
Sensing Method : One-chip color area
Scene Type : Directly photographed
CFA Pattern : [Red,Green][Green,Blue]
Custom Rendered : Normal
Exposure Mode : Manual
White Balance : Auto
Digital Zoom Ratio : 1
Focal Length In 35mm Format : 56 mm
Scene Capture Type : Standard
Gain Control : Low gain up
Contrast : Normal
Saturation : Normal
Sharpness : Normal
Subject Distance Range : Unknown
Serial Number : 2044106
Lens Info : 24-70mm f/2.8
Lens Model : 24.0-70.0 mm f/2.8
By-line : IANCU CRISTI
Copyright Notice : iancucristi.ro
Creator Tool : Adobe Photoshop Lightroom 5.7 (Windows)
Label : Green
Rating : 5
Format : image/jpeg
Lens : 24.0-70.0 mm f/2.8
Image Number : 241391
Approximate Focus Distance : 2
Date Created : 2024:12:07 14:05:01.072
Color Mode : RGB
ICC Profile Name : sRGB IEC61966-2.1
Version : 8.7
Process Version : 6.7
Auto White Version : 134348800
Color Temperature : 5600
Tint : +4
Luminance Smoothing : 0
Color Noise Reduction : 25
Vignette Amount : 0
Shadow Tint : 0
Red Hue : 0
Red Saturation : 0
Green Hue : 0
Green Saturation : 0
Blue Hue : 0
Blue Saturation : 0
Gray Mixer Red : +4
Gray Mixer Orange : +22
Gray Mixer Yellow : -12
Gray Mixer Green : -21
Gray Mixer Aqua : -22
Gray Mixer Blue : +2
Gray Mixer Purple : +14
Gray Mixer Magenta : +11
Split Toning Shadow Hue : 0
Split Toning Shadow Saturation : 0
Split Toning Highlight Hue : 0
Split Toning Highlight Saturation : 0
Split Toning Balance : 0
Parametric Shadows : 0
Parametric Darks : 0
Parametric Lights : 0
Parametric Highlights : 0
Parametric Shadow Split : 25
Parametric Midtone Split : 50
Parametric Highlight Split : 75
Sharpen Radius : +1.0
Sharpen Detail : 25
Sharpen Edge Masking : 0
Post Crop Vignette Amount : 0
Grain Amount : 0
Color Noise Reduction Detail : 50
Color Noise Reduction Smoothness : 50
Lens Profile Enable : 0
Lens Manual Distortion Amount : 0
Perspective Vertical : 0
Perspective Horizontal : 0
Perspective Rotate : 0.0
Perspective Scale : 100
Perspective Aspect : 0
Perspective Upright : Off
Auto Lateral CA : 0
Exposure 2012 : 0.00
Contrast 2012 : +50
Highlights 2012 : +19
Shadows 2012 : +17
Whites 2012 : 0
Blacks 2012 : 0
Clarity 2012 : +14
Convert To Grayscale : True
Tone Curve Name : Linear
Tone Curve Name 2012 : Linear
Camera Profile : Adobe Standard
Lens Profile Setup : LensDefaults
Has Settings : True
Crop Top : 0
Crop Left : 0.397933
Crop Bottom : 1
Crop Right : 0.82429
Crop Angle : 0
Crop Constrain To Warp : 0
Has Crop : True
Already Applied : True
Creator : IANCU CRISTI
Rights : iancucristi.ro
Tone Curve : 0, 0, 255, 255
Tone Curve Red : 0, 0, 255, 255
Tone Curve Green : 0, 0, 255, 255
Tone Curve Blue : 0, 0, 255, 255
Tone Curve PV2012 : 0, 0, 255, 255
Tone Curve PV2012 Red : 0, 0, 255, 255
Tone Curve PV2012 Green : 0, 0, 255, 255
Tone Curve PV2012 Blue : 0, 0, 255, 255
Paint Correction What : Correction
Paint Correction Amount : 1.000000
Paint Correction Active : true
Paint Correction Saturation : 0.000000
Paint Correction Sharpness : 0.119050
Paint Correction Brightness : 0.000000
Paint Correction Toning Hue : 0.000000
Paint Correction Toning Saturation : 0.000000
Paint Correction Exposure 2012 : -1.000000
Paint Correction Contrast 2012 : 0.000000
Paint Correction Highlights 2012 : 0.000000
Paint Correction Shadows 2012 : 0.000000
Paint Correction Clarity 2012 : 0.071430
Paint Correction Luminance Noise : 0.000000
Paint Correction Moire : 0.000000
Paint Correction Defringe : 0.000000
Paint Correction Temperature : 0.000000
Paint Correction Tint : 0.000000
Paint Correction Mask What : Mask/Paint
Paint Correction Mask Value : 1.000000
Paint Correction Mask Radius : 0.025854
Paint Correction Mask Flow : 1.000000
Paint Correction Mask Center Weight : 0.000000
Profile Description : sRGB IEC61966-2.1
Image Width : 400
Image Height : 256
Bits Per Sample : 8
Color Components : 3
Aperture : 10.0
Image Size : 400x256
Megapixels : 0.102
Scale Factor To 35 mm Equivalent : 1.0
Shutter Speed : 1/200
Create Date : 2024:12:07 14:05:01.72
Date/Time Original : 2024:12:07 14:05:01.72
Circle Of Confusion : 0.030 mm
Depth Of Field : 0.77 m (1.69 - 2.46 m)
Field Of View : 35.6 deg
Focal Length : 56.0 mm (35 mm equivalent: 56.0 mm)
Hyperfocal Distance : 10.44 m
Light Value : 12.0
Lens ID : AF-S Zoom-Nikkor 24-70mm f/2.8G ED