Uber Exif Photo
By-line : john_donato@yahoo.com
Make : NIKON CORPORATION
Camera Model Name : NIKON D7000
Orientation : Horizontal (normal)
Software : Adobe Photoshop CS6 (Windows)
Modify Date : 2014:01:09 12:21:27
Artist : john_donato@yahoo.com
Exposure Time : 1/1000
F Number : 5.0
Exposure Program : Aperture-priority AE
ISO : 100
Sensitivity Type : Recommended Exposure Index
Date/Time Original : 2014:01:08 17:46:14
Create Date : 2014:01:08 17:46:14
Shutter Speed Value : 1/1000
Aperture Value : 5.0
Exposure Compensation : 0
Max Aperture Value : 5.1
Metering Mode : Spot
Light Source : Unknown
Flash : Off, Did not fire
Focal Length : 82.0 mm
Color Space : sRGB
Exif Image Width : 3039
Exif Image Height : 4423
Sensing Method : One-chip color area
Scene Type : Directly photographed
CFA Pattern : [Red,Green][Green,Blue]
Custom Rendered : Normal
Exposure Mode : Auto
White Balance : Auto
Digital Zoom Ratio : 1
Focal Length In 35mm Format : 123 mm
Scene Capture Type : Standard
Gain Control : None
Contrast : Normal
Saturation : High
Sharpness : Hard
Subject Distance Range : Unknown
Serial Number : 2168159
Lens Info : 18-200mm f/3.5-5.6
Lens Model : 18.0-200.0 mm f/3.5-5.6
Profile Description : sRGB IEC61966-2.1
Format : image/jpeg
Creator Tool : Adobe Photoshop Camera Raw 7.1 (Windows)
Lens : 18.0-200.0 mm f/3.5-5.6
Image Number : 14170
Approximate Focus Distance : 21.1
Date Created : 2014:01:08 17:46:14
Color Mode : RGB
ICC Profile Name : sRGB IEC61966-2.1
Raw File Name : DSC_9000.NEF
Version : 7.1
Process Version : 6.7
Color Temperature : 5200
Tint : +9
Luminance Smoothing : 0
Color Noise Reduction : 0
Vignette Amount : 0
Shadow Tint : 0
Red Hue : 0
Red Saturation : 0
Green Hue : 0
Green Saturation : 0
Blue Hue : 0
Blue Saturation : 0
Vibrance : +35
Hue Adjustment Red : 0
Hue Adjustment Orange : 0
Hue Adjustment Yellow : 0
Hue Adjustment Green : 0
Hue Adjustment Aqua : 0
Hue Adjustment Blue : 0
Hue Adjustment Purple : 0
Hue Adjustment Magenta : 0
Saturation Adjustment Red : 0
Saturation Adjustment Orange : 0
Saturation Adjustment Yellow : 0
Saturation Adjustment Green : 0
Saturation Adjustment Aqua : 0
Saturation Adjustment Blue : +19
Saturation Adjustment Purple : 0
Saturation Adjustment Magenta : 0
Luminance Adjustment Red : 0
Luminance Adjustment Orange : +13
Luminance Adjustment Yellow : 0
Luminance Adjustment Green : 0
Luminance Adjustment Aqua : 0
Luminance Adjustment Blue : -13
Luminance Adjustment Purple : 0
Luminance Adjustment Magenta : 0
Split Toning Shadow Hue : 0
Split Toning Shadow Saturation : 0
Split Toning Highlight Hue : 0
Split Toning Highlight Saturation : 0
Split Toning Balance : 0
Parametric Shadows : 0
Parametric Darks : 0
Parametric Lights : 0
Parametric Highlights : 0
Parametric Shadow Split : 25
Parametric Midtone Split : 50
Parametric Highlight Split : 75
Sharpen Radius : +1.5
Sharpen Detail : 31
Sharpen Edge Masking : 40
Post Crop Vignette Amount : 0
Grain Amount : 0
Lens Profile Enable : 1
Lens Manual Distortion Amount : 0
Perspective Vertical : 0
Perspective Horizontal : 0
Perspective Rotate : 0.0
Perspective Scale : 100
Auto Lateral CA : 1
Exposure 2012 : +1.15
Contrast 2012 : +18
Highlights 2012 : -56
Shadows 2012 : +14
Whites 2012 : +26
Blacks 2012 : +7
Clarity 2012 : +15
Defringe Purple Amount : 0
Defringe Purple Hue Lo : 30
Defringe Purple Hue Hi : 70
Defringe Green Amount : 0
Defringe Green Hue Lo : 40
Defringe Green Hue Hi : 60
Convert To Grayscale : False
Tone Curve Name 2012 : Linear
Camera Profile : Adobe Standard
Lens Profile Setup : LensDefaults
Lens Profile Name : Adobe (Nikon AF-S DX NIKKOR 18-200mm f/3.5-5.6G ED VR II)
Lens Profile Filename : NIKON D90 (Nikon AF-S DX NIKKOR 18-200mm f3.5-5.6G ED VR II) - RAW.lcp
Lens Profile Distortion Scale : 100
Lens Profile Chromatic Aberration Scale : 100
Lens Profile Vignetting Scale : 100
Has Settings : True
Crop Top : 0
Crop Left : 0.080439
Crop Bottom : 0.93094
Crop Right : 0.978062
Crop Angle : 0
Crop Constrain To Warp : 1
Has Crop : True
Already Applied : True
Creator : john_donato@yahoo.com
Tone Curve PV2012 : 0, 0, 255, 255
Tone Curve PV2012 Red : 0, 0, 255, 255
Tone Curve PV2012 Green : 0, 0, 255, 255
Tone Curve PV2012 Blue : 0, 0, 255, 255
Image Width : 206
Image Height : 300
Bits Per Sample : 8
Color Components : 3
Aperture : 5.0
Image Size : 206x300
Megapixels : 0.062
Scale Factor To 35 mm Equivalent : 1.5
Shutter Speed : 1/1000
Create Date : 2014:01:08 17:46:14.00
Date/Time Original : 2014:01:08 17:46:14.00
Circle Of Confusion : 0.020 mm
Depth Of Field : 14.65 m (16.07 - 30.72 m)
Field Of View : 16.7 deg
Focal Length : 82.0 mm (35 mm equivalent: 123.0 mm)
Hyperfocal Distance : 67.14 m
Light Value : 14.6
Lens ID : AF-S DX VR Zoom-Nikkor 18-200mm f/3.5-5.6G IF-ED [II] or AF-S DX VR Zoom-Nikkor 18-200mm f/3.5-5.6G IF-ED