Uber Exif Photo
By-line : john_donato@yahoo.com
Copyright Notice : Kingspoint, Novaliches, QC
Make : NIKON CORPORATION
Camera Model Name : NIKON D7000
Software : Adobe Photoshop Camera Raw 7.1 (Windows)
Modify Date : 2013:09:17 13:28:09
Artist : john_donato@yahoo.com
Copyright : Kingspoint, Novaliches, QC
Exposure Time : 1/1000
F Number : 8.0
Exposure Program : Manual
ISO : 100
Sensitivity Type : Recommended Exposure Index
Date/Time Original : 2013:09:13 21:51:35
Create Date : 2013:09:13 21:51:35
Shutter Speed Value : 1/1000
Aperture Value : 8.0
Exposure Compensation : 0
Max Aperture Value : 4.8
Metering Mode : Multi-segment
Light Source : Unknown
Flash : Off, Did not fire
Focal Length : 14.0 mm
Sensing Method : One-chip color area
Scene Type : Directly photographed
CFA Pattern : [Red,Green][Green,Blue]
Custom Rendered : Normal
Exposure Mode : Manual
White Balance : Auto
Digital Zoom Ratio : 1
Focal Length In 35mm Format : 21 mm
Scene Capture Type : Standard
Gain Control : None
Contrast : Normal
Saturation : High
Sharpness : Hard
Subject Distance Range : Unknown
Serial Number : 2168159
Lens Info : 10-20mm f/4-5.6
Lens Model : 10.0-20.0 mm f/4.0-5.6
Profile Description : sRGB IEC61966-2.1
Format : image/jpeg
Creator Tool : Adobe Photoshop Camera Raw 7.1 (Windows)
Lens : 10.0-20.0 mm f/4.0-5.6
Image Number : 8626
Approximate Focus Distance : 2
Date Created : 2013:09:13 21:51:35.60
Raw File Name : DSC_8834.NEF
Version : 7.1
Process Version : 6.7
Color Temperature : 5700
Tint : +8
Luminance Smoothing : 0
Color Noise Reduction : 25
Vignette Amount : 0
Shadow Tint : 0
Red Hue : 0
Red Saturation : 0
Green Hue : 0
Green Saturation : 0
Blue Hue : 0
Blue Saturation : 0
Vibrance : +35
Hue Adjustment Red : 0
Hue Adjustment Orange : 0
Hue Adjustment Yellow : 0
Hue Adjustment Green : 0
Hue Adjustment Aqua : 0
Hue Adjustment Blue : 0
Hue Adjustment Purple : 0
Hue Adjustment Magenta : 0
Saturation Adjustment Red : 0
Saturation Adjustment Orange : 0
Saturation Adjustment Yellow : 0
Saturation Adjustment Green : 0
Saturation Adjustment Aqua : 0
Saturation Adjustment Blue : 0
Saturation Adjustment Purple : 0
Saturation Adjustment Magenta : 0
Luminance Adjustment Red : 0
Luminance Adjustment Orange : 0
Luminance Adjustment Yellow : 0
Luminance Adjustment Green : 0
Luminance Adjustment Aqua : 0
Luminance Adjustment Blue : 0
Luminance Adjustment Purple : 0
Luminance Adjustment Magenta : 0
Split Toning Shadow Hue : 0
Split Toning Shadow Saturation : 0
Split Toning Highlight Hue : 0
Split Toning Highlight Saturation : 0
Split Toning Balance : 0
Parametric Shadows : 0
Parametric Darks : 0
Parametric Lights : 0
Parametric Highlights : 0
Parametric Shadow Split : 25
Parametric Midtone Split : 50
Parametric Highlight Split : 75
Sharpen Radius : +1.8
Sharpen Detail : 50
Sharpen Edge Masking : 21
Post Crop Vignette Amount : 0
Grain Amount : 0
Color Noise Reduction Detail : 50
Lens Profile Enable : 1
Lens Manual Distortion Amount : 0
Perspective Vertical : 0
Perspective Horizontal : 0
Perspective Rotate : 0.0
Perspective Scale : 100
Auto Lateral CA : 0
Exposure 2012 : +0.90
Contrast 2012 : +38
Highlights 2012 : -73
Shadows 2012 : 0
Whites 2012 : +10
Blacks 2012 : -10
Clarity 2012 : +19
Defringe Purple Amount : 0
Defringe Purple Hue Lo : 30
Defringe Purple Hue Hi : 70
Defringe Green Amount : 0
Defringe Green Hue Lo : 40
Defringe Green Hue Hi : 60
Convert To Grayscale : False
Tone Curve Name 2012 : Linear
Camera Profile : Adobe Standard
Lens Profile Setup : LensDefaults
Lens Profile Name : Adobe (SIGMA 10-20mm F4-5.6 EX DC / HSM, NIKON CORPORATION)
Lens Profile Filename : NIKON CORPORATION (Sigma_10-20mm_F4-5.6_EX_DC_HSM ) - RAW.lcp
Lens Profile Distortion Scale : 100
Lens Profile Chromatic Aberration Scale : 100
Lens Profile Vignetting Scale : 100
Has Settings : True
Has Crop : False
Already Applied : True
Creator : john_donato@yahoo.com
Rights : Kingspoint, Novaliches, QC
Tone Curve PV2012 : 0, 0, 255, 255
Tone Curve PV2012 Red : 0, 0, 255, 255
Tone Curve PV2012 Green : 0, 0, 255, 255
Tone Curve PV2012 Blue : 0, 0, 255, 255
Image Width : 300
Image Height : 199
Bits Per Sample : 8
Color Components : 3
Aperture : 8.0
Image Size : 300x199
Megapixels : 0.060
Scale Factor To 35 mm Equivalent : 1.5
Shutter Speed : 1/1000
Create Date : 2013:09:13 21:51:35.60
Date/Time Original : 2013:09:13 21:51:35.60
Circle Of Confusion : 0.020 mm
Depth Of Field : inf (0.76 m - inf)
Field Of View : 81.2 deg
Focal Length : 14.0 mm (35 mm equivalent: 21.0 mm)
Hyperfocal Distance : 1.22 m
Light Value : 16.0
Lens ID : Sigma 10-20mm F4-5.6 EX DC HSM