Uber Exif Photo
By-line : john_donato@yahoo.com
Copyright Notice : Kingspoint, Novaliches, QC
Make : NIKON CORPORATION
Camera Model Name : NIKON D7000
Software : Adobe Photoshop Camera Raw 7.1 (Windows)
Modify Date : 2013:08:17 06:34:32
Artist : john_donato@yahoo.com
Copyright : Kingspoint, Novaliches, QC
Exposure Time : 1/250
F Number : 14.0
Exposure Program : Manual
ISO : 100
Sensitivity Type : Recommended Exposure Index
Date/Time Original : 2013:08:10 15:50:40
Create Date : 2013:08:10 15:50:40
Shutter Speed Value : 1/250
Aperture Value : 14.0
Exposure Compensation : 0
Max Aperture Value : 3.5
Metering Mode : Multi-segment
Light Source : Unknown
Flash : Off, Did not fire
Focal Length : 8.0 mm
Sensing Method : One-chip color area
Scene Type : Directly photographed
CFA Pattern : [Red,Green][Green,Blue]
Custom Rendered : Normal
Exposure Mode : Manual
White Balance : Auto
Digital Zoom Ratio : 1
Focal Length In 35mm Format : 12 mm
Scene Capture Type : Standard
Gain Control : None
Contrast : Normal
Saturation : High
Sharpness : Hard
Subject Distance Range : Unknown
Serial Number : 2168159
Lens Info : 8mm f/3.5-1.4
Lens Model : 8.0 mm f/3.5
Profile Description : sRGB IEC61966-2.1
Format : image/jpeg
Creator Tool : Adobe Photoshop Camera Raw 7.1 (Windows)
Lens : 8.0 mm f/3.5
Image Number : 7104
Approximate Focus Distance : 4294967295
Date Created : 2013:08:10 15:50:40.40
Raw File Name : DSC_7331.NEF
Version : 7.1
Process Version : 6.7
Color Temperature : 5650
Tint : +17
Luminance Smoothing : 0
Color Noise Reduction : 25
Vignette Amount : 0
Shadow Tint : 0
Red Hue : 0
Red Saturation : 0
Green Hue : 0
Green Saturation : 0
Blue Hue : 0
Blue Saturation : 0
Vibrance : +37
Hue Adjustment Red : 0
Hue Adjustment Orange : 0
Hue Adjustment Yellow : 0
Hue Adjustment Green : 0
Hue Adjustment Aqua : 0
Hue Adjustment Blue : 0
Hue Adjustment Purple : 0
Hue Adjustment Magenta : 0
Saturation Adjustment Red : 0
Saturation Adjustment Orange : 0
Saturation Adjustment Yellow : 0
Saturation Adjustment Green : +33
Saturation Adjustment Aqua : 0
Saturation Adjustment Blue : +34
Saturation Adjustment Purple : 0
Saturation Adjustment Magenta : 0
Luminance Adjustment Red : 0
Luminance Adjustment Orange : 0
Luminance Adjustment Yellow : 0
Luminance Adjustment Green : +33
Luminance Adjustment Aqua : 0
Luminance Adjustment Blue : -33
Luminance Adjustment Purple : 0
Luminance Adjustment Magenta : 0
Split Toning Shadow Hue : 0
Split Toning Shadow Saturation : 0
Split Toning Highlight Hue : 0
Split Toning Highlight Saturation : 0
Split Toning Balance : 0
Parametric Shadows : 0
Parametric Darks : 0
Parametric Lights : 0
Parametric Highlights : 0
Parametric Shadow Split : 25
Parametric Midtone Split : 50
Parametric Highlight Split : 75
Sharpen Radius : +2.0
Sharpen Detail : 59
Sharpen Edge Masking : 30
Post Crop Vignette Amount : 0
Grain Amount : 0
Color Noise Reduction Detail : 50
Lens Profile Enable : 0
Lens Manual Distortion Amount : 0
Perspective Vertical : 0
Perspective Horizontal : 0
Perspective Rotate : -0.8
Perspective Scale : 100
Auto Lateral CA : 0
Exposure 2012 : +1.40
Contrast 2012 : +33
Highlights 2012 : -67
Shadows 2012 : +57
Whites 2012 : -18
Blacks 2012 : +33
Clarity 2012 : +14
Defringe Purple Amount : 0
Defringe Purple Hue Lo : 30
Defringe Purple Hue Hi : 70
Defringe Green Amount : 0
Defringe Green Hue Lo : 40
Defringe Green Hue Hi : 60
Convert To Grayscale : False
Tone Curve Name 2012 : Linear
Camera Profile : Adobe Standard
Lens Profile Setup : LensDefaults
Has Settings : True
Crop Top : 0.010312
Crop Left : 0.008514
Crop Bottom : 0.989687
Crop Right : 0.991483
Crop Angle : 0
Crop Constrain To Warp : 1
Has Crop : True
Already Applied : True
Creator : john_donato@yahoo.com
Rights : Kingspoint, Novaliches, QC
Tone Curve PV2012 : 0, 0, 255, 255
Tone Curve PV2012 Red : 0, 0, 255, 255
Tone Curve PV2012 Green : 0, 0, 255, 255
Tone Curve PV2012 Blue : 0, 0, 255, 255
Image Width : 300
Image Height : 198
Bits Per Sample : 8
Color Components : 3
Aperture : 14.0
Image Size : 300x198
Megapixels : 0.059
Scale Factor To 35 mm Equivalent : 1.5
Shutter Speed : 1/250
Create Date : 2013:08:10 15:50:40.40
Date/Time Original : 2013:08:10 15:50:40.40
Circle Of Confusion : 0.020 mm
Depth Of Field : inf (0.23 m - inf)
Field Of View : 112.6 deg
Focal Length : 8.0 mm (35 mm equivalent: 12.0 mm)
Hyperfocal Distance : 0.23 m
Light Value : 15.6
Lens ID : Samyang 8mm f/3.5 Fish-Eye CS