Uber Exif Photo
Make : NIKON CORPORATION
Camera Model Name : NIKON D90
Orientation : Horizontal (normal)
Software : Adobe Photoshop CS6 (Windows)
Modify Date : 2013:07:20 13:39:07
Exposure Time : 1/250
F Number : 13.0
Exposure Program : Manual
ISO : 200
Date/Time Original : 2013:07:20 11:13:30
Create Date : 2013:07:20 11:13:30
Shutter Speed Value : 1/250
Aperture Value : 13.0
Exposure Compensation : 0
Max Aperture Value : 4.0
Subject Distance : 0.4 m
Metering Mode : Multi-segment
Light Source : Unknown
Flash : No Flash
Focal Length : 90.0 mm
User Comment : http://www.facebook.com/ridzuan
Color Space : Uncalibrated
Exif Image Width : 4288
Exif Image Height : 2848
Sensing Method : One-chip color area
Scene Type : Directly photographed
CFA Pattern : [Green,Blue][Red,Green]
Custom Rendered : Normal
Exposure Mode : Manual
White Balance : Auto
Digital Zoom Ratio : 1
Focal Length In 35mm Format : 135 mm
Scene Capture Type : Standard
Gain Control : None
Contrast : Normal
Saturation : Normal
Sharpness : Hard
Subject Distance Range : Unknown
Serial Number : 8399183
Lens Info : 90mm f/2.8
Lens Model : 90.0 mm f/2.8
Profile Description : Adobe RGB (1998)
Creator Tool : Adobe Photoshop CS5 Windows
Rating : 0
Lens : 90.0 mm f/2.8
Image Number : 37108
Approximate Focus Distance : 0.4
Date Created : 2013:07:20 11:13:30
Color Mode : RGB
ICC Profile Name : Adobe RGB (1998)
Format : image/jpeg
Raw File Name : DSC_0084.NEF
Version : 6.7
Process Version : 5.7
Color Temperature : 4700
Tint : +1
Exposure : 0.00
Shadows : 7
Brightness : +57
Luminance Smoothing : 0
Color Noise Reduction : 25
Vignette Amount : 0
Shadow Tint : 0
Red Hue : 0
Red Saturation : 0
Green Hue : 0
Green Saturation : 0
Blue Hue : 0
Blue Saturation : 0
Fill Light : 0
Vibrance : 0
Highlight Recovery : 18
Clarity : 0
Defringe : 0
Hue Adjustment Red : 0
Hue Adjustment Orange : 0
Hue Adjustment Yellow : 0
Hue Adjustment Green : 0
Hue Adjustment Aqua : 0
Hue Adjustment Blue : 0
Hue Adjustment Purple : 0
Hue Adjustment Magenta : 0
Saturation Adjustment Red : 0
Saturation Adjustment Orange : 0
Saturation Adjustment Yellow : 0
Saturation Adjustment Green : 0
Saturation Adjustment Aqua : 0
Saturation Adjustment Blue : 0
Saturation Adjustment Purple : 0
Saturation Adjustment Magenta : 0
Luminance Adjustment Red : 0
Luminance Adjustment Orange : 0
Luminance Adjustment Yellow : 0
Luminance Adjustment Green : 0
Luminance Adjustment Aqua : 0
Luminance Adjustment Blue : 0
Luminance Adjustment Purple : 0
Luminance Adjustment Magenta : 0
Split Toning Shadow Hue : 0
Split Toning Shadow Saturation : 0
Split Toning Highlight Hue : 0
Split Toning Highlight Saturation : 0
Split Toning Balance : 0
Parametric Shadows : 0
Parametric Darks : 0
Parametric Lights : 0
Parametric Highlights : 0
Parametric Shadow Split : 25
Parametric Midtone Split : 50
Parametric Highlight Split : 75
Sharpen Radius : +1.0
Sharpen Detail : 25
Sharpen Edge Masking : 0
Post Crop Vignette Amount : 0
Grain Amount : 0
Color Noise Reduction Detail : 50
Lens Profile Enable : 1
Lens Manual Distortion Amount : 0
Perspective Vertical : 0
Perspective Horizontal : 0
Perspective Rotate : 0.0
Perspective Scale : 100
Auto Lateral CA : 1
Exposure 2012 : 0.00
Contrast 2012 : 0
Highlights 2012 : 0
Shadows 2012 : 0
Whites 2012 : 0
Blacks 2012 : 0
Clarity 2012 : 0
Convert To Grayscale : False
Tone Curve Name : Medium Contrast
Tone Curve Name 2012 : Linear
Camera Profile : Adobe Standard
Lens Profile Setup : Custom
Lens Profile Name : Adobe (TAMRON SP 90mm F/2.8 Di MACRO 1:1 272EN, NIKON CORPORATION)
Lens Profile Filename : NIKON CORPORATION (TAMRON SP 90mm F2.8 Di MACRO 272EN) - RAW.lcp
Lens Profile Distortion Scale : 100
Lens Profile Chromatic Aberration Scale : 100
Lens Profile Vignetting Scale : 100
Has Settings : True
Has Crop : False
Already Applied : True
Tone Curve : 0, 0, 32, 22, 64, 56, 128, 128, 192, 196, 255, 255
Tone Curve Red : 0, 0, 255, 255
Tone Curve Green : 0, 0, 255, 255
Tone Curve Blue : 0, 0, 255, 255
Tone Curve PV2012 : 0, 0, 255, 255
Tone Curve PV2012 Red : 0, 0, 255, 255
Tone Curve PV2012 Green : 0, 0, 255, 255
Tone Curve PV2012 Blue : 0, 0, 255, 255
Gradient Based Corr What : Correction
Gradient Based Corr Amount : 1.000000
Gradient Based Corr Active : true
Gradient Based Corr Exposure : 0.050000
Gradient Based Corr Saturation : 0.300000
Gradient Based Corr Contrast : 0.120000
Gradient Based Corr Clarity : 0.130000
Gradient Based Corr Sharpness : 0.080000
Gradient Based Corr Brightness : 0.085000
Gradient Based Corr Toning Hue : 0.000000
Gradient Based Corr Toning Saturation : 0.000000
Gradient Based Corr Exposure 2012 : 0.000000
Gradient Based Corr Contrast 2012 : 0.000000
Gradient Based Corr Highlights 2012 : 0.000000
Gradient Based Corr Shadows 2012 : 0.000000
Gradient Based Corr Clarity 2012 : 0.000000
Gradient Based Corr Luminance Noise : 0.000000
Gradient Based Corr Moire : 0.000000
Gradient Based Corr Temperature : 0.000000
Gradient Based Corr Tint : 0.000000
Gradient Based Corr Mask What : Mask/Gradient
Gradient Based Corr Mask Value : 1.000000
Gradient Based Corr Mask Zero X : 0.247573
Gradient Based Corr Mask Zero Y : 0.809872
Gradient Based Corr Mask Full X : 0.439320
Gradient Based Corr Mask Full Y : 0.371115
Image Width : 300
Image Height : 199
Bits Per Sample : 8
Color Components : 3
Aperture : 13.0
Image Size : 300x199
Megapixels : 0.060
Scale Factor To 35 mm Equivalent : 1.5
Shutter Speed : 1/250
Create Date : 2013:07:20 11:13:30.00
Date/Time Original : 2013:07:20 11:13:30.00
Modify Date : 2013:07:20 13:39:07.00
Circle Of Confusion : 0.020 mm
Depth Of Field : 0.008 m (0.396 - 0.404 m)
Field Of View : 15.2 deg
Focal Length : 90.0 mm (35 mm equivalent: 135.0 mm)
Hyperfocal Distance : 31.11 m
Light Value : 14.4
Lens ID : Tamron SP AF 90mm f/2.8 Di Macro 1:1 (272NII)