Uber Exif Photo
By-line : ANDREW PAQUETTE
Photometric Interpretation : BlackIsZero
Make : NIKON CORPORATION
Camera Model Name : NIKON D800
Orientation : Horizontal (normal)
Samples Per Pixel : 1
Software : Adobe Photoshop CS6 (Windows)
Modify Date : 2013:10:13 18:59:22
Artist : ANDREW PAQUETTE
Exposure Time : 1/2000
F Number : 1.4
Exposure Program : Shutter speed priority AE
ISO : 3200
Sensitivity Type : Recommended Exposure Index
Date/Time Original : 2013:10:11 19:40:22
Create Date : 2013:10:11 19:40:22
Shutter Speed Value : 1/2000
Aperture Value : 1.4
Exposure Compensation : 0
Max Aperture Value : 1.4
Metering Mode : Spot
Light Source : Unknown
Flash : Off, Did not fire
Focal Length : 85.0 mm
Color Space : sRGB
Exif Image Width : 1500
Exif Image Height : 1000
Sensing Method : One-chip color area
Scene Type : Directly photographed
CFA Pattern : [Red,Green][Green,Blue]
Custom Rendered : Normal
Exposure Mode : Auto
White Balance : Auto
Digital Zoom Ratio : 1
Focal Length In 35mm Format : 85 mm
Scene Capture Type : Standard
Gain Control : High gain up
Contrast : Normal
Saturation : Normal
Sharpness : Normal
Subject Distance Range : Unknown
Serial Number : 6087608
Lens Info : 85mm f/1.4
Lens Model : 85.0 mm f/1.4
Format : image/jpeg
Creator Tool : Adobe Photoshop CS6 (Windows)
Rating : 0
Lens : 85.0 mm f/1.4
Image Number : 17860
Approximate Focus Distance : 5.62
Date Created : 2013:10:11 19:40:22.003
Color Mode : RGB
ICC Profile Name : sRGB IEC61966-2.1
Raw File Name : _BRF5449.NEF
Version : 7.1
Process Version : 6.7
Color Temperature : 4350
Tint : +20
Luminance Smoothing : 0
Color Noise Reduction : 25
Vignette Amount : 0
Shadow Tint : 0
Red Hue : 0
Red Saturation : 0
Green Hue : 0
Green Saturation : 0
Blue Hue : 0
Blue Saturation : 0
Vibrance : 0
Hue Adjustment Red : 0
Hue Adjustment Orange : 0
Hue Adjustment Yellow : 0
Hue Adjustment Green : 0
Hue Adjustment Aqua : 0
Hue Adjustment Blue : 0
Hue Adjustment Purple : 0
Hue Adjustment Magenta : 0
Saturation Adjustment Red : 0
Saturation Adjustment Orange : 0
Saturation Adjustment Yellow : 0
Saturation Adjustment Green : 0
Saturation Adjustment Aqua : 0
Saturation Adjustment Blue : 0
Saturation Adjustment Purple : 0
Saturation Adjustment Magenta : 0
Luminance Adjustment Red : 0
Luminance Adjustment Orange : 0
Luminance Adjustment Yellow : 0
Luminance Adjustment Green : 0
Luminance Adjustment Aqua : 0
Luminance Adjustment Blue : 0
Luminance Adjustment Purple : 0
Luminance Adjustment Magenta : 0
Split Toning Shadow Hue : 0
Split Toning Shadow Saturation : 0
Split Toning Highlight Hue : 0
Split Toning Highlight Saturation : 0
Split Toning Balance : 0
Parametric Shadows : 0
Parametric Darks : 0
Parametric Lights : 0
Parametric Highlights : 0
Parametric Shadow Split : 25
Parametric Midtone Split : 50
Parametric Highlight Split : 75
Sharpen Radius : +1.0
Sharpen Detail : 25
Sharpen Edge Masking : 0
Post Crop Vignette Amount : 0
Grain Amount : 0
Color Noise Reduction Detail : 50
Lens Profile Enable : 0
Lens Manual Distortion Amount : 0
Perspective Vertical : 0
Perspective Horizontal : 0
Perspective Rotate : 0.0
Perspective Scale : 100
Auto Lateral CA : 0
Exposure 2012 : +2.25
Contrast 2012 : -25
Highlights 2012 : -30
Shadows 2012 : +30
Whites 2012 : +37
Blacks 2012 : +26
Clarity 2012 : 0
Defringe Purple Amount : 0
Defringe Purple Hue Lo : 30
Defringe Purple Hue Hi : 70
Defringe Green Amount : 0
Defringe Green Hue Lo : 40
Defringe Green Hue Hi : 60
Convert To Grayscale : False
Tone Curve Name 2012 : Linear
Camera Profile : Adobe Standard
Lens Profile Setup : LensDefaults
Has Settings : True
Has Crop : False
Already Applied : True
Creator : ANDREW PAQUETTE
Tone Curve PV2012 : 0, 0, 255, 255
Tone Curve PV2012 Red : 0, 0, 255, 255
Tone Curve PV2012 Green : 0, 0, 255, 255
Tone Curve PV2012 Blue : 0, 0, 255, 255
Image Width : 300
Image Height : 200
Bits Per Sample : 8
Color Components : 1
Aperture : 1.4
Image Size : 300x200
Megapixels : 0.060
Scale Factor To 35 mm Equivalent : 1.0
Shutter Speed : 1/2000
Create Date : 2013:10:11 19:40:22.30
Date/Time Original : 2013:10:11 19:40:22.30
Modify Date : 2013:10:13 18:59:22.30
Circle Of Confusion : 0.030 mm
Depth Of Field : 0.36 m (5.44 - 5.81 m)
Field Of View : 23.9 deg
Focal Length : 85.0 mm (35 mm equivalent: 85.0 mm)
Hyperfocal Distance : 171.76 m
Light Value : 6.9
Lens ID : AF-S Nikkor 85mm f/1.4G