Uber Exif Photo
Make : NIKON CORPORATION
Camera Model Name : NIKON D90
Software : Adobe Photoshop Lightroom 4.4 (Windows)
Modify Date : 2013:06:10 11:07:23
Exposure Time : 1/1250
F Number : 5.6
Exposure Program : Manual
ISO : 200
Date/Time Original : 2012:09:09 12:00:52
Create Date : 2012:09:09 12:00:52
Shutter Speed Value : 1/1250
Aperture Value : 5.6
Exposure Compensation : 0
Max Aperture Value : 5.3
Metering Mode : Spot
Light Source : Unknown
Flash : No Flash
Focal Length : 195.0 mm
Sensing Method : One-chip color area
Scene Type : Directly photographed
CFA Pattern : [Green,Blue][Red,Green]
Custom Rendered : Normal
Exposure Mode : Manual
White Balance : Auto
Digital Zoom Ratio : 1
Focal Length In 35mm Format : 292 mm
Scene Capture Type : Standard
Gain Control : None
Contrast : Normal
Saturation : Normal
Sharpness : Hard
Subject Distance Range : Unknown
Serial Number : 7439790
Lens Info : 70-300mm f/4.5-5.6
Lens Model : 70.0-300.0 mm f/4.5-5.6
Profile Description : sRGB IEC61966-2.1
Creator Tool : Adobe Photoshop Lightroom 4.4 (Windows)
Lens : 70.0-300.0 mm f/4.5-5.6
Image Number : 19446
Approximate Focus Distance : 2.11
Date Created : 2012:09:09 12:00:52.00
Format : image/jpeg
Version : 7.4
Process Version : 6.7
Color Temperature : 5300
Tint : 0
Luminance Smoothing : 50
Color Noise Reduction : 50
Vignette Amount : 0
Shadow Tint : 0
Red Hue : 0
Red Saturation : 0
Green Hue : 0
Green Saturation : 0
Blue Hue : 0
Blue Saturation : 0
Vibrance : +14
Hue Adjustment Red : 0
Hue Adjustment Orange : 0
Hue Adjustment Yellow : 0
Hue Adjustment Green : 0
Hue Adjustment Aqua : 0
Hue Adjustment Blue : 0
Hue Adjustment Purple : 0
Hue Adjustment Magenta : 0
Saturation Adjustment Red : 0
Saturation Adjustment Orange : 0
Saturation Adjustment Yellow : 0
Saturation Adjustment Green : 0
Saturation Adjustment Aqua : 0
Saturation Adjustment Blue : 0
Saturation Adjustment Purple : 0
Saturation Adjustment Magenta : 0
Luminance Adjustment Red : 0
Luminance Adjustment Orange : 0
Luminance Adjustment Yellow : 0
Luminance Adjustment Green : 0
Luminance Adjustment Aqua : 0
Luminance Adjustment Blue : 0
Luminance Adjustment Purple : 0
Luminance Adjustment Magenta : 0
Split Toning Shadow Hue : 0
Split Toning Shadow Saturation : 0
Split Toning Highlight Hue : 0
Split Toning Highlight Saturation : 0
Split Toning Balance : 0
Parametric Shadows : 0
Parametric Darks : 0
Parametric Lights : 0
Parametric Highlights : 0
Parametric Shadow Split : 25
Parametric Midtone Split : 50
Parametric Highlight Split : 75
Sharpen Radius : +2.0
Sharpen Detail : 50
Sharpen Edge Masking : 50
Post Crop Vignette Amount : 0
Grain Amount : 0
Luminance Noise Reduction Detail : 50
Color Noise Reduction Detail : 50
Luminance Noise Reduction Contrast : 50
Lens Profile Enable : 0
Lens Manual Distortion Amount : 0
Perspective Vertical : 0
Perspective Horizontal : 0
Perspective Rotate : 0.0
Perspective Scale : 100
Auto Lateral CA : 0
Exposure 2012 : +0.12
Contrast 2012 : +10
Highlights 2012 : -100
Shadows 2012 : 0
Whites 2012 : +21
Blacks 2012 : -10
Clarity 2012 : +24
Defringe Purple Amount : 0
Defringe Purple Hue Lo : 30
Defringe Purple Hue Hi : 70
Defringe Green Amount : 0
Defringe Green Hue Lo : 40
Defringe Green Hue Hi : 60
Convert To Grayscale : False
Tone Curve Name 2012 : Linear
Camera Profile : Adobe Standard
Lens Profile Setup : LensDefaults
Has Settings : True
Crop Top : 0.195818
Crop Left : 0
Crop Bottom : 1
Crop Right : 0.804182
Crop Angle : 0
Crop Constrain To Warp : 0
Crop Width : 2000
Crop Height : 1328
Crop Unit : pixels
Has Crop : True
Already Applied : True
Tone Curve PV2012 : 0, 0, 255, 255
Tone Curve PV2012 Red : 0, 0, 255, 255
Tone Curve PV2012 Green : 0, 0, 255, 255
Tone Curve PV2012 Blue : 0, 0, 255, 255
Image Width : 300
Image Height : 199
Bits Per Sample : 8
Color Components : 3
Aperture : 5.6
Image Size : 300x199
Megapixels : 0.060
Scale Factor To 35 mm Equivalent : 1.5
Shutter Speed : 1/1250
Create Date : 2012:09:09 12:00:52.00
Date/Time Original : 2012:09:09 12:00:52.00
Circle Of Confusion : 0.020 mm
Depth Of Field : 0.02 m (2.10 - 2.12 m)
Field Of View : 7.1 deg
Focal Length : 195.0 mm (35 mm equivalent: 292.0 mm)
Hyperfocal Distance : 338.41 m
Light Value : 14.3
Lens ID : AF-S VR Zoom-Nikkor 70-300mm f/4.5-5.6G IF-ED