Uber Exif Photo
Make : NIKON CORPORATION
Camera Model Name : NIKON D7000
Software : Adobe Photoshop Lightroom 4.4 (Windows)
Modify Date : 2013:04:20 16:04:55
Exposure Time : 1/1000
F Number : 4.0
Exposure Program : Aperture-priority AE
ISO : 100
Sensitivity Type : Recommended Exposure Index
Date/Time Original : 2011:04:14 10:50:27
Create Date : 2011:04:14 10:50:27
Shutter Speed Value : 1/1000
Aperture Value : 4.0
Exposure Compensation : -1/3
Max Aperture Value : 3.5
Metering Mode : Multi-segment
Light Source : Unknown
Flash : Off, Did not fire
Focal Length : 16.0 mm
Sensing Method : One-chip color area
Scene Type : Directly photographed
CFA Pattern : [Red,Green][Green,Blue]
Custom Rendered : Normal
Exposure Mode : Auto
White Balance : Auto
Digital Zoom Ratio : 1
Focal Length In 35mm Format : 24 mm
Scene Capture Type : Standard
Gain Control : None
Contrast : Normal
Saturation : Normal
Sharpness : Hard
Subject Distance Range : Unknown
Serial Number : 3079287
Lens Info : 16-85mm f/3.5-5.6
Lens Model : 16.0-85.0 mm f/3.5-5.6
Profile Description : sRGB IEC61966-2.1
Creator Tool : Adobe Photoshop Lightroom 4.4 (Windows)
Lens : 16.0-85.0 mm f/3.5-5.6
Image Number : 1208
Approximate Focus Distance : 2
Date Created : 2011:04:14 10:50:27.10
Format : image/jpeg
Version : 7.4
Process Version : 6.7
Color Temperature : 5300
Tint : +13
Luminance Smoothing : 0
Color Noise Reduction : 25
Vignette Amount : 0
Shadow Tint : 0
Red Hue : 0
Red Saturation : 0
Green Hue : 0
Green Saturation : 0
Blue Hue : 0
Blue Saturation : 0
Vibrance : 0
Hue Adjustment Red : 0
Hue Adjustment Orange : 0
Hue Adjustment Yellow : 0
Hue Adjustment Green : 0
Hue Adjustment Aqua : 0
Hue Adjustment Blue : 0
Hue Adjustment Purple : 0
Hue Adjustment Magenta : 0
Saturation Adjustment Red : 0
Saturation Adjustment Orange : 0
Saturation Adjustment Yellow : 0
Saturation Adjustment Green : 0
Saturation Adjustment Aqua : 0
Saturation Adjustment Blue : +47
Saturation Adjustment Purple : +2
Saturation Adjustment Magenta : 0
Luminance Adjustment Red : 0
Luminance Adjustment Orange : 0
Luminance Adjustment Yellow : 0
Luminance Adjustment Green : 0
Luminance Adjustment Aqua : 0
Luminance Adjustment Blue : 0
Luminance Adjustment Purple : 0
Luminance Adjustment Magenta : 0
Split Toning Shadow Hue : 0
Split Toning Shadow Saturation : 0
Split Toning Highlight Hue : 0
Split Toning Highlight Saturation : 0
Split Toning Balance : 0
Parametric Shadows : 0
Parametric Darks : +7
Parametric Lights : -46
Parametric Highlights : +36
Parametric Shadow Split : 25
Parametric Midtone Split : 50
Parametric Highlight Split : 75
Sharpen Radius : +1.0
Sharpen Detail : 25
Sharpen Edge Masking : 0
Post Crop Vignette Amount : -16
Post Crop Vignette Midpoint : 47
Post Crop Vignette Feather : 61
Post Crop Vignette Roundness : 0
Post Crop Vignette Style : Highlight Priority
Post Crop Vignette Highlight Contrast : 0
Grain Amount : 0
Color Noise Reduction Detail : 50
Lens Profile Enable : 0
Lens Manual Distortion Amount : 0
Perspective Vertical : 0
Perspective Horizontal : 0
Perspective Rotate : 0.0
Perspective Scale : 100
Auto Lateral CA : 0
Exposure 2012 : +0.20
Contrast 2012 : +28
Highlights 2012 : -100
Shadows 2012 : +100
Whites 2012 : +27
Blacks 2012 : -29
Clarity 2012 : +100
Defringe Purple Amount : 0
Defringe Purple Hue Lo : 30
Defringe Purple Hue Hi : 70
Defringe Green Amount : 0
Defringe Green Hue Lo : 40
Defringe Green Hue Hi : 60
Convert To Grayscale : False
Tone Curve Name 2012 : Linear
Camera Profile : Adobe Standard
Lens Profile Setup : LensDefaults
Has Settings : True
Crop Top : 0.015932
Crop Left : 0.004471
Crop Bottom : 0.984068
Crop Right : 0.995529
Crop Angle : -0.614356
Crop Constrain To Warp : 0
Crop Width : 1300
Crop Height : 861
Crop Unit : pixels
Has Crop : True
Already Applied : True
Tone Curve PV2012 : 0, 0, 255, 255
Tone Curve PV2012 Red : 0, 0, 255, 255
Tone Curve PV2012 Green : 0, 0, 255, 255
Tone Curve PV2012 Blue : 0, 0, 255, 255
Paint Correction What : Correction
Paint Correction Amount : 1.000000
Paint Correction Active : true
Paint Correction Saturation : 0.000000
Paint Correction Sharpness : 0.000000
Paint Correction Brightness : 0.000000
Paint Correction Toning Hue : 230.000000
Paint Correction Toning Saturation : 0.500000
Paint Correction Exposure 2012 : 0.000000
Paint Correction Contrast 2012 : 0.000000
Paint Correction Highlights 2012 : 0.000000
Paint Correction Shadows 2012 : 0.000000
Paint Correction Clarity 2012 : 0.000000
Paint Correction Luminance Noise : 0.000000
Paint Correction Moire : 0.000000
Paint Correction Defringe : 0.000000
Paint Correction Temperature : 0.000000
Paint Correction Tint : 0.000000
Paint Correction Mask What : Mask/Paint
Paint Correction Mask Value : 0.803000
Paint Correction Mask Radius : 0.012313
Paint Correction Mask Flow : 1.000000
Paint Correction Mask Center Weight : 0.098225
Image Width : 300
Image Height : 199
Bits Per Sample : 8
Color Components : 3
Aperture : 4.0
Image Size : 300x199
Megapixels : 0.060
Scale Factor To 35 mm Equivalent : 1.5
Shutter Speed : 1/1000
Create Date : 2011:04:14 10:50:27.10
Date/Time Original : 2011:04:14 10:50:27.10
Circle Of Confusion : 0.020 mm
Depth Of Field : 4.04 m (1.23 - 5.28 m)
Field Of View : 73.7 deg
Focal Length : 16.0 mm (35 mm equivalent: 24.0 mm)
Hyperfocal Distance : 3.20 m
Light Value : 14.0
Lens ID : AF-S DX VR Zoom-Nikkor 16-85mm f/3.5-5.6G ED