Uber Exif Photo
By-line : Vic Buhay
Copyright Notice : Vic Buhay
Make : NIKON CORPORATION
Camera Model Name : NIKON D800E
Software : Adobe Photoshop Lightroom 6.6.1 (Windows)
Modify Date : 2017:01:28 21:25:57
Artist : Vic Buhay
Copyright : Vic Buhay
Exposure Time : 15
F Number : 4.5
Exposure Program : Manual
ISO : 400
Sensitivity Type : Recommended Exposure Index
Date/Time Original : 2017:01:28 17:50:30
Create Date : 2017:01:28 17:50:30
Shutter Speed Value : 15
Aperture Value : 4.5
Exposure Compensation : -1
Max Aperture Value : 2.8
Metering Mode : Spot
Light Source : Cloudy
Flash : Off, Did not fire
Focal Length : 23.0 mm
Color Space : sRGB
Sensing Method : One-chip color area
Scene Type : Directly photographed
CFA Pattern : [Red,Green][Green,Blue]
Custom Rendered : Normal
Exposure Mode : Manual
White Balance : Manual
Digital Zoom Ratio : 1
Focal Length In 35mm Format : 23 mm
Scene Capture Type : Standard
Gain Control : Low gain up
Contrast : Normal
Saturation : Normal
Sharpness : Normal
Subject Distance Range : Unknown
Serial Number : 3016005
Lens Info : 14-24mm f/2.8
Lens Model : 14.0-24.0 mm f/2.8
Profile Description : sRGB IEC61966-2.1
Format : image/jpeg
Creator Tool : Adobe Photoshop Lightroom 6.6.1 (Windows)
Lens : 14.0-24.0 mm f/2.8
Image Number : 41581
Approximate Focus Distance : 4294967295
Date Created : 2017:01:28 17:50:30.10
Version : 9.6
Process Version : 6.7
Auto White Version : 134348800
Color Temperature : 6461
Tint : +3
Luminance Smoothing : 3
Color Noise Reduction : 25
Vignette Amount : 0
Shadow Tint : 0
Red Hue : 0
Red Saturation : 0
Green Hue : 0
Green Saturation : 0
Blue Hue : 0
Blue Saturation : 0
Vibrance : 0
Hue Adjustment Red : 0
Hue Adjustment Orange : 0
Hue Adjustment Yellow : 0
Hue Adjustment Green : 0
Hue Adjustment Aqua : 0
Hue Adjustment Blue : 0
Hue Adjustment Purple : 0
Hue Adjustment Magenta : 0
Saturation Adjustment Red : 0
Saturation Adjustment Orange : 0
Saturation Adjustment Yellow : 0
Saturation Adjustment Green : 0
Saturation Adjustment Aqua : 0
Saturation Adjustment Blue : 0
Saturation Adjustment Purple : 0
Saturation Adjustment Magenta : 0
Luminance Adjustment Red : 0
Luminance Adjustment Orange : 0
Luminance Adjustment Yellow : 0
Luminance Adjustment Green : 0
Luminance Adjustment Aqua : 0
Luminance Adjustment Blue : 0
Luminance Adjustment Purple : 0
Luminance Adjustment Magenta : 0
Split Toning Shadow Hue : 0
Split Toning Shadow Saturation : 0
Split Toning Highlight Hue : 0
Split Toning Highlight Saturation : 0
Split Toning Balance : 0
Parametric Shadows : 0
Parametric Darks : 0
Parametric Lights : 0
Parametric Highlights : 0
Parametric Shadow Split : 25
Parametric Midtone Split : 50
Parametric Highlight Split : 75
Sharpen Radius : +1.0
Sharpen Detail : 27
Sharpen Edge Masking : 5
Post Crop Vignette Amount : -5
Post Crop Vignette Midpoint : 50
Post Crop Vignette Feather : 50
Post Crop Vignette Roundness : 0
Post Crop Vignette Style : Highlight Priority
Post Crop Vignette Highlight Contrast : 0
Grain Amount : 0
Luminance Noise Reduction Detail : 50
Color Noise Reduction Detail : 50
Luminance Noise Reduction Contrast : 5
Color Noise Reduction Smoothness : 50
Lens Profile Enable : 1
Lens Manual Distortion Amount : 0
Perspective Vertical : 0
Perspective Horizontal : 0
Perspective Rotate : 0.0
Perspective Scale : 100
Perspective Aspect : 0
Perspective Upright : Off
Perspective X : 0.00
Perspective Y : 0.00
Auto Lateral CA : 1
Exposure 2012 : +1.67
Contrast 2012 : +80
Highlights 2012 : +33
Shadows 2012 : +100
Whites 2012 : -47
Blacks 2012 : -49
Clarity 2012 : 0
Defringe Purple Amount : 0
Defringe Purple Hue Lo : 30
Defringe Purple Hue Hi : 70
Defringe Green Amount : 0
Defringe Green Hue Lo : 40
Defringe Green Hue Hi : 60
Dehaze : +24
Tone Map Strength : 0
Convert To Grayscale : False
Tone Curve Name : Linear
Tone Curve Name 2012 : Linear
Camera Profile : Adobe Standard
Lens Profile Setup : LensDefaults
Lens Profile Name : Adobe (Nikon AF-S NIKKOR 14-24mm f/2.8G ED)
Lens Profile Filename : NIKON D3X (Nikon FX 14-24mm f2.8 G ED) - RAW.lcp
Lens Profile Distortion Scale : 100
Lens Profile Chromatic Aberration Scale : 100
Lens Profile Vignetting Scale : 100
Has Settings : True
Has Crop : False
Already Applied : True
Creator : Vic Buhay
Rights : Vic Buhay
Tone Curve : 0, 0, 255, 255
Tone Curve Red : 0, 0, 255, 255
Tone Curve Green : 0, 0, 255, 255
Tone Curve Blue : 0, 0, 255, 255
Tone Curve PV2012 : 0, 0, 255, 255
Tone Curve PV2012 Red : 0, 0, 255, 255
Tone Curve PV2012 Green : 0, 0, 255, 255
Tone Curve PV2012 Blue : 0, 0, 255, 255
Gradient Based Corr What : Correction
Gradient Based Corr Amount : 1.000000
Gradient Based Corr Active : true
Gradient Based Corr Saturation : -0.600000
Gradient Based Corr Sharpness : 0.000000
Gradient Based Corr Brightness : 0.000000
Gradient Based Corr Toning Hue : 233.000000
Gradient Based Corr Toning Saturation : 0.000000
Gradient Based Corr Exposure 2012 : -0.515250
Gradient Based Corr Contrast 2012 : 0.000000
Gradient Based Corr Highlights 2012 : -1.000000
Gradient Based Corr Shadows 2012 : 0.000000
Gradient Based Corr Whites 2012 : 0.000000
Gradient Based Corr Blacks 2012 : 0.000000
Gradient Based Corr Clarity 2012 : 0.000000
Gradient Based Corr Dehaze : 0.000000
Gradient Based Corr Luminance Noise : 0.000000
Gradient Based Corr Moire : 0.000000
Gradient Based Corr Defringe : 0.000000
Gradient Based Corr Temperature : 0.000000
Gradient Based Corr Tint : 0.000000
Gradient Based Corr Mask What : Mask/Gradient
Gradient Based Corr Mask Value : 1.000000
Gradient Based Corr Mask Zero X : 0.839090
Gradient Based Corr Mask Zero Y : 0.561770
Gradient Based Corr Mask Full X : 0.882461
Gradient Based Corr Mask Full Y : -0.105697
Image Width : 300
Image Height : 200
Bits Per Sample : 8
Color Components : 3
Aperture : 4.5
Image Size : 300x200
Megapixels : 0.060
Scale Factor To 35 mm Equivalent : 1.0
Shutter Speed : 15
Create Date : 2017:01:28 17:50:30.10
Date/Time Original : 2017:01:28 17:50:30.10
Circle Of Confusion : 0.030 mm
Depth Of Field : inf (3.91 m - inf)
Field Of View : 76.1 deg
Focal Length : 23.0 mm (35 mm equivalent: 23.0 mm)
Hyperfocal Distance : 3.91 m
Light Value : -1.6
Lens ID : AF-S Zoom-Nikkor 14-24mm f/2.8G ED