Uber Exif Photo
By-line : VIC BUHAY
Copyright Notice : VIC IMAGING
Make : NIKON CORPORATION
Camera Model Name : NIKON Z 9
Software : Adobe Photoshop Lightroom Classic 11.3.1 (Windows)
Modify Date : 2022:05:15 23:09:56
Artist : VIC BUHAY
Copyright : VIC IMAGING
Exposure Time : 1/400
F Number : 5.6
Exposure Program : Manual
ISO : 800
Sensitivity Type : Recommended Exposure Index
Recommended Exposure Index : 800
Date/Time Original : 2022:05:15 19:53:56
Create Date : 2022:05:15 19:53:56
Shutter Speed Value : 1/400
Aperture Value : 5.6
Exposure Compensation : 0
Metering Mode : Center-weighted average
Light Source : Unknown
Flash : No Flash
Focal Length : 400.0 mm
Color Space : sRGB
Sensing Method : One-chip color area
Scene Type : Directly photographed
CFA Pattern : [Red,Green][Green,Blue]
Custom Rendered : Custom
Exposure Mode : Manual
White Balance : Auto
Focal Length In 35mm Format : 600 mm
Scene Capture Type : Standard
Gain Control : Low gain up
Contrast : Normal
Saturation : Normal
Sharpness : Normal
Subject Distance Range : Unknown
Serial Number : 3005220
Lens Info : 100-400mm f/4.5-5.6
Lens Make : NIKON
Lens Model : NIKKOR Z 100-400mm f/4.5-5.6 VR S
Lens Serial Number : 20010499
GPS Version ID : 2.3.0.0
GPS Latitude Ref : North
GPS Longitude Ref : West
GPS Altitude Ref : Above Sea Level
GPS Time Stamp : 02:53:43
GPS Satellites : 12
GPS Date Stamp : 2022:05:16
Profile Description : sRGB IEC61966-2.1
Creator Tool : Adobe Photoshop Lightroom Classic 11.3.1 (Windows)
Date Created : 2022:05:15 19:53:56.31-07:00
Format : image/jpeg
Lens : NIKKOR Z 100-400mm f/4.5-5.6 VR S
Image Number : 45706
Preserved File Name : VZ9_0001.NEF
Version : 14.3
Process Version : 11.0
Color Temperature : 7843
Tint : -7
Exposure 2012 : +0.59
Contrast 2012 : -8
Highlights 2012 : -17
Shadows 2012 : +100
Whites 2012 : +38
Blacks 2012 : -46
Texture : 0
Clarity 2012 : +42
Dehaze : +46
Vibrance : +8
Parametric Shadows : 0
Parametric Darks : 0
Parametric Lights : 0
Parametric Highlights : 0
Parametric Shadow Split : 25
Parametric Midtone Split : 50
Parametric Highlight Split : 75
Sharpen Radius : +1.0
Sharpen Detail : 25
Sharpen Edge Masking : 0
Luminance Smoothing : 0
Color Noise Reduction : 25
Color Noise Reduction Detail : 50
Color Noise Reduction Smoothness : 50
Hue Adjustment Red : 0
Hue Adjustment Orange : 0
Hue Adjustment Yellow : 0
Hue Adjustment Green : 0
Hue Adjustment Aqua : 0
Hue Adjustment Blue : 0
Hue Adjustment Purple : 0
Hue Adjustment Magenta : 0
Saturation Adjustment Red : 0
Saturation Adjustment Orange : 0
Saturation Adjustment Yellow : 0
Saturation Adjustment Green : 0
Saturation Adjustment Aqua : 0
Saturation Adjustment Blue : 0
Saturation Adjustment Purple : 0
Saturation Adjustment Magenta : 0
Luminance Adjustment Red : 0
Luminance Adjustment Orange : 0
Luminance Adjustment Yellow : 0
Luminance Adjustment Green : 0
Luminance Adjustment Aqua : 0
Luminance Adjustment Blue : 0
Luminance Adjustment Purple : 0
Luminance Adjustment Magenta : 0
Split Toning Shadow Hue : 0
Split Toning Shadow Saturation : 0
Split Toning Highlight Hue : 0
Split Toning Highlight Saturation : 0
Split Toning Balance : 0
Color Grade Midtone Hue : 0
Color Grade Midtone Sat : 0
Color Grade Shadow Lum : 0
Color Grade Midtone Lum : 0
Color Grade Highlight Lum : 0
Color Grade Blending : 50
Color Grade Global Hue : 0
Color Grade Global Sat : 0
Color Grade Global Lum : 0
Auto Lateral CA : 0
Lens Profile Enable : 1
Lens Manual Distortion Amount : 0
Vignette Amount : 0
Defringe Purple Amount : 0
Defringe Purple Hue Lo : 30
Defringe Purple Hue Hi : 70
Defringe Green Amount : 0
Defringe Green Hue Lo : 40
Defringe Green Hue Hi : 60
Perspective Upright : Off
Perspective Vertical : 0
Perspective Horizontal : 0
Perspective Rotate : 0.0
Perspective Aspect : 0
Perspective Scale : 100
Perspective X : 0.00
Perspective Y : 0.00
Grain Amount : 0
Post Crop Vignette Amount : 0
Shadow Tint : 0
Red Hue : 0
Red Saturation : 0
Green Hue : 0
Green Saturation : 0
Blue Hue : 0
Blue Saturation : 0
Override Look Vignette : False
Tone Curve Name 2012 : Linear
Camera Profile : Adobe Standard
Lens Profile Setup : LensDefaults
Lens Profile Name : Camera Settings
Lens Profile Is Embedded : True
Lens Profile Distortion Scale : 100
Lens Profile Vignetting Scale : 100
Has Settings : True
Crop Top : 0.279917
Crop Left : 0.158605
Crop Bottom : 0.853278
Crop Right : 0.731966
Crop Angle : 0
Crop Constrain To Warp : 0
Has Crop : True
Already Applied : True
Camera Profiles Author : Adobe
Camera Profiles Make : NIKON CORPORATION
Camera Profiles Model : NIKON Z 9
Camera Profiles Unique Camera Model : Nikon Z 9
Camera Profiles Camera Raw Profile : True
Camera Profiles Auto Scale : False
Camera Profiles Lens : NIKKOR Z 100-400mm f/4.5-5.6 VR S
Camera Profiles Camera Pretty Name : Nikon Z 9
Camera Profiles Lens Pretty Name : NIKKOR Z 100-400mm f/4.5-5.6 VR S
Camera Profiles Profile Name : Camera Settings
Camera Profiles Sensor Format Factor : 1.536843
Camera Profiles Focal Length : 400
Camera Profiles Focus Distance : 10000
Camera Profiles Aperture Value : 4.970854
Camera Profiles Perspective Model Version : 2
Camera Profiles Perspective Model Image X Center : 0.500393
Camera Profiles Perspective Model Image Y Center : 0.496967
Camera Profiles Perspective Model Scale Factor : 0.98861
Camera Profiles Perspective Model Radial Distort Param 1 : 8.839479
Camera Profiles Perspective Model Radial Distort Param 2 : 90.184865
Camera Profiles Perspective Model Radial Distort Param 3 : 117031.306118
Camera Profiles Perspective Model Vignette Model Image X Center : 0.500393
Camera Profiles Perspective Model Vignette Model Image Y Center : 0.496967
Camera Profiles Perspective Model Vignette Model Vignette Model Param 1 : 1
Creator : VIC BUHAY
Rights : VIC IMAGING
Tone Curve PV2012 : 0, 0, 255, 255
Tone Curve PV2012 Red : 0, 0, 255, 255
Tone Curve PV2012 Green : 0, 0, 255, 255
Tone Curve PV2012 Blue : 0, 0, 255, 255
Look Name : Adobe Color
Look Amount : 1
Look Supports Amount : false
Look Supports Monochrome : false
Look Supports Output Referred : false
Look Group : Profiles
Look Parameters Version : 14.3
Look Parameters Process Version : 11.0
Look Parameters Convert To Grayscale : False
Look Parameters Camera Profile : Adobe Standard
Look Parameters Look Table : E1095149FDB39D7A057BAB208837E2E1
Look Parameters Tone Curve PV2012 : 0, 0, 22, 16, 40, 35, 127, 127, 224, 230, 240, 246, 255, 255
Look Parameters Tone Curve PV2012 Red : 0, 0, 255, 255
Look Parameters Tone Curve PV2012 Green : 0, 0, 255, 255
Look Parameters Tone Curve PV2012 Blue : 0, 0, 255, 255
Image Width : 400
Image Height : 267
Bits Per Sample : 8
Color Components : 3
Aperture : 5.6
Image Size : 400x267
Megapixels : 0.107
Scale Factor To 35 mm Equivalent : 1.5
Shutter Speed : 1/400
Create Date : 2022:05:15 19:53:56.31-07:00
Date/Time Original : 2022:05:15 19:53:56.31-07:00
Modify Date : 2022:05:15 23:09:56-07:00
GPS Altitude : 22 m Above Sea Level
GPS Date/Time : 2022:05:16 02:53:43Z
GPS Latitude : 33 deg 42' 33.94" N
GPS Longitude : 118 deg 2' 26.74" W
Circle Of Confusion : 0.020 mm
Field Of View : 3.4 deg
Focal Length : 400.0 mm (35 mm equivalent: 600.0 mm)
GPS Position : 33 deg 42' 33.94" N, 118 deg 2' 26.74" W
Hyperfocal Distance : 1426.37 m
Light Value : 10.6
Lens ID : NIKKOR Z 100-400mm f/4.5-5.6 VR S