Uber Exif Photo
By-line : VIC BUHAY
Copyright Notice : 2020
Make : NIKON CORPORATION
Camera Model Name : NIKON Z 50
Software : Adobe Photoshop Lightroom Classic 11.4.1 (Windows)
Modify Date : 2022:07:13 20:31:00
Artist : VIC BUHAY
Copyright : 2020
Exposure Time : 1/1000
F Number : 5.6
Exposure Program : Manual
ISO : 9000
Sensitivity Type : Recommended Exposure Index
Recommended Exposure Index : 9000
Date/Time Original : 2022:07:01 09:36:33
Create Date : 2022:07:01 09:36:33
Shutter Speed Value : 1/1000
Aperture Value : 5.6
Exposure Compensation : 0
Metering Mode : Multi-segment
Light Source : Unknown
Flash : Off, Did not fire
Focal Length : 24.0 mm
Color Space : sRGB
Sensing Method : One-chip color area
Scene Type : Directly photographed
CFA Pattern : [Red,Green][Green,Blue]
Custom Rendered : Custom
Exposure Mode : Manual
White Balance : Auto
Focal Length In 35mm Format : 36 mm
Scene Capture Type : Standard
Gain Control : High gain up
Contrast : Normal
Saturation : Normal
Sharpness : Normal
Subject Distance Range : Unknown
Serial Number : 3005743
Lens Info : 16-50mm f/3.5-6.3
Lens Make : NIKON
Lens Model : NIKKOR Z DX 16-50mm f/3.5-6.3 VR
Lens Serial Number : 20016446
Profile Description : sRGB IEC61966-2.1
Creator Tool : Adobe Photoshop Lightroom Classic 11.4.1 (Windows)
Format : image/jpeg
Lens : NIKKOR Z DX 16-50mm f/3.5-6.3 VR
Image Number : 17906
Distortion Correction Already Applied : True
Lateral Chromatic Aberration Correction Already Applied : True
Date Created : 2022:07:01 09:36:33.04-04:00
Preserved File Name : Z50_7929.NEF
Raw File Name : Z50_7929.NEF
Version : 14.4.1
Process Version : 11.0
Color Temperature : 5800
Tint : +45
Exposure 2012 : -0.39
Contrast 2012 : -25
Highlights 2012 : -100
Shadows 2012 : +90
Whites 2012 : -63
Blacks 2012 : -9
Texture : 0
Clarity 2012 : +24
Dehaze : +25
Vibrance : +22
Parametric Shadows : 0
Parametric Darks : 0
Parametric Lights : 0
Parametric Highlights : 0
Parametric Shadow Split : 25
Parametric Midtone Split : 50
Parametric Highlight Split : 75
Sharpen Radius : +1.0
Sharpen Detail : 25
Sharpen Edge Masking : 0
Luminance Smoothing : 0
Color Noise Reduction : 25
Color Noise Reduction Detail : 50
Color Noise Reduction Smoothness : 50
Hue Adjustment Red : 0
Hue Adjustment Orange : 0
Hue Adjustment Yellow : 0
Hue Adjustment Green : 0
Hue Adjustment Aqua : 0
Hue Adjustment Blue : 0
Hue Adjustment Purple : 0
Hue Adjustment Magenta : 0
Saturation Adjustment Red : 0
Saturation Adjustment Orange : 0
Saturation Adjustment Yellow : 0
Saturation Adjustment Green : 0
Saturation Adjustment Aqua : 0
Saturation Adjustment Blue : 0
Saturation Adjustment Purple : 0
Saturation Adjustment Magenta : 0
Luminance Adjustment Red : 0
Luminance Adjustment Orange : 0
Luminance Adjustment Yellow : 0
Luminance Adjustment Green : 0
Luminance Adjustment Aqua : 0
Luminance Adjustment Blue : 0
Luminance Adjustment Purple : 0
Luminance Adjustment Magenta : 0
Split Toning Shadow Hue : 0
Split Toning Shadow Saturation : 0
Split Toning Highlight Hue : 0
Split Toning Highlight Saturation : 0
Split Toning Balance : 0
Color Grade Midtone Hue : 0
Color Grade Midtone Sat : 0
Color Grade Shadow Lum : 0
Color Grade Midtone Lum : 0
Color Grade Highlight Lum : 0
Color Grade Blending : 50
Color Grade Global Hue : 0
Color Grade Global Sat : 0
Color Grade Global Lum : 0
Auto Lateral CA : 1
Lens Profile Enable : 0
Lens Manual Distortion Amount : 0
Vignette Amount : 0
Defringe Purple Amount : 0
Defringe Purple Hue Lo : 30
Defringe Purple Hue Hi : 70
Defringe Green Amount : 0
Defringe Green Hue Lo : 40
Defringe Green Hue Hi : 60
Perspective Upright : Off
Perspective Vertical : 0
Perspective Horizontal : 0
Perspective Rotate : 0.0
Perspective Aspect : 0
Perspective Scale : 100
Perspective X : 0.00
Perspective Y : 0.00
Grain Amount : 0
Post Crop Vignette Amount : 0
Shadow Tint : 0
Red Hue : 0
Red Saturation : 0
Green Hue : 0
Green Saturation : 0
Blue Hue : 0
Blue Saturation : 0
Override Look Vignette : False
Tone Curve Name 2012 : Linear
Camera Profile : Adobe Standard
Has Settings : True
Crop Top : 0.077083
Crop Left : 0
Crop Bottom : 0.920833
Crop Right : 1
Crop Angle : 0
Crop Constrain To Warp : 0
Has Crop : True
Already Applied : True
Creator : VIC BUHAY
Rights : 2020
Tone Curve PV2012 : 0, 0, 255, 255
Tone Curve PV2012 Red : 0, 0, 255, 255
Tone Curve PV2012 Green : 0, 0, 255, 255
Tone Curve PV2012 Blue : 0, 0, 255, 255
Look Name : Adobe Color
Look Amount : 1
Look Supports Amount : false
Look Supports Monochrome : false
Look Supports Output Referred : false
Look Group : Profiles
Look Parameters Version : 14.4.1
Look Parameters Process Version : 11.0
Look Parameters Convert To Grayscale : False
Look Parameters Camera Profile : Adobe Standard
Look Parameters Look Table : E1095149FDB39D7A057BAB208837E2E1
Look Parameters Tone Curve PV2012 : 0, 0, 22, 16, 40, 35, 127, 127, 224, 230, 240, 246, 255, 255
Look Parameters Tone Curve PV2012 Red : 0, 0, 255, 255
Look Parameters Tone Curve PV2012 Green : 0, 0, 255, 255
Look Parameters Tone Curve PV2012 Blue : 0, 0, 255, 255
Image Width : 400
Image Height : 225
Bits Per Sample : 8
Color Components : 3
Aperture : 5.6
Image Size : 400x225
Megapixels : 0.090
Scale Factor To 35 mm Equivalent : 1.5
Shutter Speed : 1/1000
Create Date : 2022:07:01 09:36:33.04-04:00
Date/Time Original : 2022:07:01 09:36:33.04-04:00
Modify Date : 2022:07:13 20:31:00-07:00
Circle Of Confusion : 0.020 mm
Field Of View : 53.1 deg
Focal Length : 24.0 mm (35 mm equivalent: 36.0 mm)
Hyperfocal Distance : 5.13 m
Light Value : 8.4
Lens ID : NIKKOR Z DX 16-50mm f/3.5-6.3 VR