Uber Exif Photo
By-line : VIC BUHAY
Copyright Notice : VIC BUHAY 2017
Make : NIKON CORPORATION
Camera Model Name : NIKON D850
Software : Adobe Photoshop Lightroom Classic 7.0 (Windows)
Modify Date : 2019:06:07 02:41:05
Artist : VIC BUHAY
Copyright : VIC BUHAY 2017
Exposure Time : 1/1000
F Number : 5.6
Exposure Program : Manual
ISO : 64
Sensitivity Type : Recommended Exposure Index
Recommended Exposure Index : 64
Date/Time Original : 2019:05:29 18:20:46
Create Date : 2019:05:29 18:20:46
Shutter Speed Value : 1/1000
Aperture Value : 5.6
Exposure Compensation : -1/3
Max Aperture Value : 2.8
Metering Mode : Spot
Light Source : Unknown
Flash : No Flash
Focal Length : 29.0 mm
Color Space : sRGB
Sensing Method : One-chip color area
Scene Type : Directly photographed
CFA Pattern : [Red,Green][Green,Blue]
Custom Rendered : Normal
Exposure Mode : Manual
White Balance : Auto
Focal Length In 35mm Format : 29 mm
Scene Capture Type : Standard
Gain Control : None
Contrast : Normal
Saturation : Normal
Sharpness : Normal
Subject Distance Range : Unknown
Serial Number : 3001588
Lens Info : 24-70mm f/2.8
Lens Model : 24.0-70.0 mm f/2.8
Profile Description : sRGB IEC61966-2.1
Creator Tool : Adobe Photoshop Lightroom Classic 7.0 (Windows)
Format : image/jpeg
Lens : 24.0-70.0 mm f/2.8
Image Number : 61172
Approximate Focus Distance : 3.35
Is Merged Panorama : True
Distortion Correction Already Applied : True
Lateral Chromatic Aberration Correction Already Applied : True
Vignette Correction Already Applied : True
Date Created : 2019:05:29 18:20:09.63
Transformation : Spherical
Virtual Focal Length : 0.288967
Virtual Image X Center : 0.482818
Virtual Image Y Center : 0.160674
Version : 10.0
Process Version : 10.0
Color Temperature : 8300
Tint : +4
Luminance Smoothing : 0
Color Noise Reduction : 25
Vignette Amount : 0
Shadow Tint : 0
Red Hue : 0
Red Saturation : 0
Green Hue : 0
Green Saturation : 0
Blue Hue : 0
Blue Saturation : 0
Vibrance : +46
Hue Adjustment Red : 0
Hue Adjustment Orange : 0
Hue Adjustment Yellow : 0
Hue Adjustment Green : 0
Hue Adjustment Aqua : 0
Hue Adjustment Blue : 0
Hue Adjustment Purple : 0
Hue Adjustment Magenta : 0
Saturation Adjustment Red : 0
Saturation Adjustment Orange : 0
Saturation Adjustment Yellow : 0
Saturation Adjustment Green : 0
Saturation Adjustment Aqua : 0
Saturation Adjustment Blue : 0
Saturation Adjustment Purple : 0
Saturation Adjustment Magenta : 0
Luminance Adjustment Red : 0
Luminance Adjustment Orange : 0
Luminance Adjustment Yellow : 0
Luminance Adjustment Green : 0
Luminance Adjustment Aqua : 0
Luminance Adjustment Blue : 0
Luminance Adjustment Purple : 0
Luminance Adjustment Magenta : 0
Split Toning Shadow Hue : 0
Split Toning Shadow Saturation : 0
Split Toning Highlight Hue : 0
Split Toning Highlight Saturation : 0
Split Toning Balance : 0
Parametric Shadows : 0
Parametric Darks : 0
Parametric Lights : 0
Parametric Highlights : 0
Parametric Shadow Split : 25
Parametric Midtone Split : 50
Parametric Highlight Split : 75
Sharpen Radius : +1.0
Sharpen Detail : 25
Sharpen Edge Masking : 0
Post Crop Vignette Amount : -10
Post Crop Vignette Midpoint : 50
Post Crop Vignette Feather : 50
Post Crop Vignette Roundness : 0
Post Crop Vignette Style : Highlight Priority
Post Crop Vignette Highlight Contrast : 0
Grain Amount : 0
Color Noise Reduction Detail : 50
Color Noise Reduction Smoothness : 50
Lens Profile Enable : 0
Lens Manual Distortion Amount : 0
Perspective Vertical : 0
Perspective Horizontal : 0
Perspective Rotate : 0.0
Perspective Scale : 100
Perspective Aspect : 0
Perspective Upright : Off
Perspective X : 0.00
Perspective Y : 0.00
Auto Lateral CA : 0
Exposure 2012 : +1.52
Contrast 2012 : -19
Highlights 2012 : -100
Shadows 2012 : +100
Whites 2012 : -4
Blacks 2012 : -45
Clarity 2012 : +83
Defringe Purple Amount : 0
Defringe Purple Hue Lo : 30
Defringe Purple Hue Hi : 70
Defringe Green Amount : 0
Defringe Green Hue Lo : 40
Defringe Green Hue Hi : 60
Dehaze : +9
Convert To Grayscale : False
Tone Curve Name : Linear
Tone Curve Name 2012 : Linear
Camera Profile : Adobe Standard
Lens Profile Setup : LensDefaults
Has Settings : True
Crop Top : 0
Crop Left : 0.073525
Crop Bottom : 1
Crop Right : 0.985205
Crop Angle : 1.61185
Crop Constrain To Warp : 0
Has Crop : True
Already Applied : True
Creator : VIC BUHAY
Rights : VIC BUHAY 2017
Tone Curve : 0, 0, 255, 255
Tone Curve Red : 0, 0, 255, 255
Tone Curve Green : 0, 0, 255, 255
Tone Curve Blue : 0, 0, 255, 255
Tone Curve PV2012 : 0, 0, 255, 255
Tone Curve PV2012 Red : 0, 0, 255, 255
Tone Curve PV2012 Green : 0, 0, 255, 255
Tone Curve PV2012 Blue : 0, 0, 255, 255
Image Width : 350
Image Height : 113
Bits Per Sample : 8
Color Components : 3
Aperture : 5.6
Image Size : 350x113
Megapixels : 0.040
Scale Factor To 35 mm Equivalent : 1.0
Shutter Speed : 1/1000
Create Date : 2019:05:29 18:20:46.321
Date/Time Original : 2019:05:29 18:20:46.321
Circle Of Confusion : 0.030 mm
Depth Of Field : 7.97 m (2.01 - 9.98 m)
Field Of View : 63.7 deg
Focal Length : 29.0 mm (35 mm equivalent: 29.0 mm)
Hyperfocal Distance : 5.00 m
Light Value : 15.6
Lens ID : AF-S Zoom-Nikkor 24-70mm f/2.8G ED