Uber Exif Photo
By-line : Vic Buhay
Copyright Notice : Vic Buhay
Make : NIKON CORPORATION
Camera Model Name : NIKON D750
Software : Adobe Photoshop Lightroom 6.6.1 (Windows)
Modify Date : 2016:11:09 12:06:47
Artist : Vic Buhay
Copyright : Vic Buhay
Exposure Time : 1/640
F Number : 4.5
Exposure Program : Manual
ISO : 320
Sensitivity Type : Recommended Exposure Index
Date/Time Original : 2016:02:28 18:45:21
Create Date : 2016:02:28 18:45:21
Shutter Speed Value : 1/640
Aperture Value : 4.5
Exposure Compensation : -2/3
Max Aperture Value : 2.8
Metering Mode : Other
Light Source : Fine Weather
Flash : Off, Did not fire
Focal Length : 70.0 mm
Color Space : sRGB
Sensing Method : One-chip color area
Scene Type : Directly photographed
CFA Pattern : [Red,Green][Green,Blue]
Custom Rendered : Normal
Exposure Mode : Manual
White Balance : Manual
Digital Zoom Ratio : 1
Focal Length In 35mm Format : 70 mm
Scene Capture Type : Standard
Gain Control : None
Contrast : Normal
Saturation : Normal
Sharpness : Soft
Subject Distance Range : Unknown
Serial Number : 2001726
Lens Info : 24-70mm f/2.8
Lens Model : 24.0-70.0 mm f/2.8
Profile Description : sRGB IEC61966-2.1
Creator Tool : Adobe Photoshop Lightroom 6.6.1 (Windows)
Format : image/jpeg
Lens : 24.0-70.0 mm f/2.8
Image Number : 50071
Approximate Focus Distance : 2.51
Date Created : 2016:02:28 18:45:21.76
Version : 9.6
Process Version : 6.7
Auto White Version : 134348800
Color Temperature : 5300
Tint : +17
Luminance Smoothing : 12
Color Noise Reduction : 25
Vignette Amount : 0
Shadow Tint : 0
Red Hue : 0
Red Saturation : 0
Green Hue : 0
Green Saturation : 0
Blue Hue : 0
Blue Saturation : 0
Vibrance : +29
Hue Adjustment Red : 0
Hue Adjustment Orange : 0
Hue Adjustment Yellow : 0
Hue Adjustment Green : 0
Hue Adjustment Aqua : 0
Hue Adjustment Blue : 0
Hue Adjustment Purple : 0
Hue Adjustment Magenta : 0
Saturation Adjustment Red : 0
Saturation Adjustment Orange : 0
Saturation Adjustment Yellow : 0
Saturation Adjustment Green : 0
Saturation Adjustment Aqua : 0
Saturation Adjustment Blue : 0
Saturation Adjustment Purple : 0
Saturation Adjustment Magenta : 0
Luminance Adjustment Red : 0
Luminance Adjustment Orange : 0
Luminance Adjustment Yellow : 0
Luminance Adjustment Green : 0
Luminance Adjustment Aqua : 0
Luminance Adjustment Blue : 0
Luminance Adjustment Purple : 0
Luminance Adjustment Magenta : 0
Split Toning Shadow Hue : 0
Split Toning Shadow Saturation : 0
Split Toning Highlight Hue : 0
Split Toning Highlight Saturation : 0
Split Toning Balance : 0
Parametric Shadows : 0
Parametric Darks : 0
Parametric Lights : 0
Parametric Highlights : 0
Parametric Shadow Split : 25
Parametric Midtone Split : 50
Parametric Highlight Split : 75
Sharpen Radius : +1.0
Sharpen Detail : 28
Sharpen Edge Masking : 13
Post Crop Vignette Amount : -25
Post Crop Vignette Midpoint : 50
Post Crop Vignette Feather : 50
Post Crop Vignette Roundness : 0
Post Crop Vignette Style : Highlight Priority
Post Crop Vignette Highlight Contrast : 0
Grain Amount : 0
Luminance Noise Reduction Detail : 50
Color Noise Reduction Detail : 50
Luminance Noise Reduction Contrast : 16
Color Noise Reduction Smoothness : 50
Lens Profile Enable : 1
Lens Manual Distortion Amount : 0
Perspective Vertical : 0
Perspective Horizontal : 0
Perspective Rotate : 0.0
Perspective Scale : 100
Perspective Aspect : 0
Perspective Upright : Off
Perspective X : 0.00
Perspective Y : 0.00
Auto Lateral CA : 1
Exposure 2012 : -2.18
Contrast 2012 : +19
Highlights 2012 : -100
Shadows 2012 : +100
Whites 2012 : -87
Blacks 2012 : -46
Clarity 2012 : +61
Defringe Purple Amount : 0
Defringe Purple Hue Lo : 30
Defringe Purple Hue Hi : 70
Defringe Green Amount : 0
Defringe Green Hue Lo : 40
Defringe Green Hue Hi : 60
Dehaze : +29
Tone Map Strength : 0
Convert To Grayscale : False
Tone Curve Name : Linear
Tone Curve Name 2012 : Linear
Camera Profile : Adobe Standard
Lens Profile Setup : LensDefaults
Lens Profile Name : Adobe (Nikon AF-S NIKKOR 24-70mm f/2.8G ED)
Lens Profile Filename : NIKON D3X (Nikon FX 24-70mm f2.8 G ED) - RAW.lcp
Lens Profile Distortion Scale : 100
Lens Profile Chromatic Aberration Scale : 100
Lens Profile Vignetting Scale : 100
Has Settings : True
Crop Top : 0.113776
Crop Left : 0.302817
Crop Bottom : 0.847251
Crop Right : 0.71086
Crop Angle : -1.85089
Crop Constrain To Warp : 0
Has Crop : True
Already Applied : True
Creator : Vic Buhay
Rights : Vic Buhay
Tone Curve : 0, 0, 255, 255
Tone Curve Red : 0, 0, 255, 255
Tone Curve Green : 0, 0, 255, 255
Tone Curve Blue : 0, 0, 255, 255
Tone Curve PV2012 : 0, 0, 255, 255
Tone Curve PV2012 Red : 0, 0, 255, 255
Tone Curve PV2012 Green : 0, 0, 255, 255
Tone Curve PV2012 Blue : 0, 0, 255, 255
Circ Grad Based Corr What : Correction
Circ Grad Based Corr Amount : 1.000000
Circ Grad Based Corr Active : true
Circ Grad Based Corr Saturation : -0.015380
Circ Grad Based Corr Sharpness : 0.584620
Circ Grad Based Corr Brightness : 0.000000
Circ Grad Based Corr Toning Hue : 233.000000
Circ Grad Based Corr Toning Saturation : 0.000000
Circ Grad Based Corr Exposure 2012 : 0.736500
Circ Grad Based Corr Contrast 2012 : 0.046150
Circ Grad Based Corr Highlights 2012 : 0.384620
Circ Grad Based Corr Shadows 2012 : 0.000000
Circ Grad Based Corr Clarity 2012 : 0.000000
Circ Grad Based Corr Luminance Noise : 0.000000
Circ Grad Based Corr Moire : 0.000000
Circ Grad Based Corr Defringe : 0.000000
Circ Grad Based Corr Temperature : 0.000000
Circ Grad Based Corr Tint : 0.000000
Circ Grad Based Corr Mask What : Mask/CircularGradient
Circ Grad Based Corr Mask Value : 1.000000
Circ Grad Based Corr Mask Top : 0.200870
Circ Grad Based Corr Mask Left : 0.038424
Circ Grad Based Corr Mask Bottom : 0.706260
Circ Grad Based Corr Mask Right : 0.829841
Circ Grad Based Corr Mask Angle : -14.760200
Circ Grad Based Corr Mask Midpoint : +50
Circ Grad Based Corr Mask Roundness : 0
Circ Grad Based Corr Mask Feather : +50
Circ Grad Based Corr Mask Flipped : true
Circ Grad Based Corr Mask Version : +2
Image Width : 300
Image Height : 385
Bits Per Sample : 8
Color Components : 3
Aperture : 4.5
Image Size : 300x385
Megapixels : 0.116
Scale Factor To 35 mm Equivalent : 1.0
Shutter Speed : 1/640
Create Date : 2016:02:28 18:45:21.76
Date/Time Original : 2016:02:28 18:45:21.76
Circle Of Confusion : 0.030 mm
Depth Of Field : 0.34 m (2.35 - 2.69 m)
Field Of View : 28.8 deg
Focal Length : 70.0 mm (35 mm equivalent: 70.0 mm)
Hyperfocal Distance : 36.24 m
Light Value : 12.0
Lens ID : AF-S Zoom-Nikkor 24-70mm f/2.8G ED