Uber Exif Photo
Copyright Flag : False
Make : NIKON CORPORATION
Camera Model Name : NIKON D80
Orientation : Horizontal (normal)
Software : Adobe Photoshop CS3 Windows
Modify Date : 2012:04:30 20:58:28
Time Zone Offset : 3 3
Exposure Time : 1/125
F Number : 5.6
Exposure Program : Manual
ISO : 160
Date/Time Original : 2012:04:30 12:21:17
Create Date : 2012:04:30 12:21:17
Shutter Speed Value : 1/125
Aperture Value : 5.6
Exposure Compensation : -1/3
Max Aperture Value : 5.7
Metering Mode : Multi-segment
Light Source : Unknown
Focal Length : 85.0 mm
Color Space : Uncalibrated
Exif Image Width : 2318
Exif Image Height : 2517
Sensing Method : One-chip color area
Scene Type : Directly photographed
CFA Pattern : [Green,Blue][Red,Green]
Custom Rendered : Normal
Exposure Mode : Manual
White Balance : Auto
Digital Zoom Ratio : 1
Focal Length In 35mm Format : 127 mm
Scene Capture Type : Standard
Gain Control : None
Contrast : Normal
Saturation : Normal
Sharpness : Normal
Subject Distance Range : Unknown
Profile Description : Adobe RGB (1998)
Date/Time Digitized : 2012:04:30 12:21:17.20+03:00
Creator Tool : Adobe Photoshop CS3 Windows
Rating : 0
Lens Info : 16-85mm f/3.5-5.6
Lens : 16.0-85.0 mm f/3.5-5.6
Image Number : 37248
Version : 4.0
Raw File Name : DSC_7123.NEF
Color Temperature : 4700
Tint : +2
Exposure : +1.25
Shadows : 15
Brightness : +53
Luminance Smoothing : 0
Color Noise Reduction : 25
Chromatic Aberration R : 0
Chromatic Aberration B : 0
Vignette Amount : 0
Shadow Tint : 0
Red Hue : 0
Red Saturation : 0
Green Hue : 0
Green Saturation : 0
Blue Hue : 0
Blue Saturation : 0
Fill Light : 0
Vibrance : 0
Highlight Recovery : 20
Hue Adjustment Red : 0
Hue Adjustment Orange : 0
Hue Adjustment Yellow : 0
Hue Adjustment Green : 0
Hue Adjustment Aqua : 0
Hue Adjustment Blue : 0
Hue Adjustment Purple : 0
Hue Adjustment Magenta : 0
Saturation Adjustment Red : 0
Saturation Adjustment Orange : 0
Saturation Adjustment Yellow : 0
Saturation Adjustment Green : 0
Saturation Adjustment Aqua : 0
Saturation Adjustment Blue : 0
Saturation Adjustment Purple : 0
Saturation Adjustment Magenta : 0
Luminance Adjustment Red : 0
Luminance Adjustment Orange : 0
Luminance Adjustment Yellow : 0
Luminance Adjustment Green : 0
Luminance Adjustment Aqua : 0
Luminance Adjustment Blue : 0
Luminance Adjustment Purple : 0
Luminance Adjustment Magenta : 0
Split Toning Shadow Hue : 0
Split Toning Shadow Saturation : 0
Split Toning Highlight Hue : 0
Split Toning Highlight Saturation : 0
Split Toning Balance : 0
Parametric Shadows : 0
Parametric Darks : 0
Parametric Lights : 0
Parametric Highlights : 0
Parametric Shadow Split : 25
Parametric Midtone Split : 50
Parametric Highlight Split : 75
Convert To Grayscale : False
Tone Curve Name : Medium Contrast
Camera Profile : ACR 3.6
Has Settings : True
Crop Top : 0.033827
Crop Left : 0.342776
Crop Bottom : 0.928118
Crop Right : 0.992918
Crop Angle : 0
Has Crop : True
Already Applied : True
Sidecar For Extension : NEF
Color Mode : RGB
ICC Profile Name : Adobe RGB (1998)
Flash Fired : True
Flash Return : Return detected
Flash Mode : Auto
Flash Function : False
Flash Red Eye Mode : False
Tone Curve : 0, 0, 32, 22, 64, 56, 128, 128, 192, 196, 255, 255
Derived From : Image Width : 276
Image Height : 300
Bits Per Sample : 8
Color Components : 3
Aperture : 5.6
Image Size : 276x300
Megapixels : 0.083
Scale Factor To 35 mm Equivalent : 1.5
Shutter Speed : 1/125
Create Date : 2012:04:30 12:21:17.20
Date/Time Original : 2012:04:30 12:21:17.20
Modify Date : 2012:04:30 20:58:28.20
Flash : Auto, Fired, Return detected
Circle Of Confusion : 0.020 mm
Field Of View : 16.1 deg
Focal Length : 85.0 mm (35 mm equivalent: 127.0 mm)
Hyperfocal Distance : 64.16 m
Light Value : 11.3
Lens ID : 16.0-85.0mm f/3.5-5.6