Uber Exif Photo
Camera Model Name : NIKON D5100
Software : Adobe Photoshop Lightroom 3.6 (Windows)
Modify Date : 2012:04:21 12:43:19
Exposure Time : 1/125
F Number : 4.0
ISO : 100
Date/Time Original : 2012:04:20 17:26:45
Create Date : 2012:04:20 17:26:45
Shutter Speed Value : 1/125
Aperture Value : 4.0
Focal Length : 18.0 mm
Lens Model : 18.0-55.0 mm f/3.5-5.6
Profile Description : sRGB IEC61966-2.1
Lens : 18.0-55.0 mm f/3.5-5.6
Method : Details Enhancer
Strength : 100.0
Color Saturation : 80.0
Luminosity : 10.0
White Clip : 2.230750
Black Clip : 0.111350
Smoothing Mode : Light
Smoothing : Very Low
Microcontrast : 10.0
Microsmoothing : 0.0
Gamma : 1.69
Highlights Smoothing : 0.0
Shadows Smoothing : 0.0
Shadows Clipping : 0.0
Color Temperature : 0.0
Saturation Highlights : 0.0
Saturation Shadows : 0.0
Is Pano 360 : No
Date Created : 2012:04:20 17:26:45
Creator Tool : Adobe Photoshop Lightroom 3.6 (Windows)
Format : image/jpeg
Version : 6.6
Process Version : 5.7
White Balance : Custom
Incremental Temperature : -22
Incremental Tint : +17
Exposure : 0.00
Shadows : 3
Brightness : 0
Contrast : +5
Saturation : +3
Sharpness : 17
Luminance Smoothing : 0
Color Noise Reduction : 0
Chromatic Aberration R : 0
Chromatic Aberration B : 0
Vignette Amount : 0
Shadow Tint : 0
Red Hue : 0
Red Saturation : 0
Green Hue : 0
Green Saturation : 0
Blue Hue : 0
Blue Saturation : 0
Fill Light : 7
Vibrance : 0
Highlight Recovery : 0
Clarity : 0
Defringe : 0
Hue Adjustment Red : 0
Hue Adjustment Orange : 0
Hue Adjustment Yellow : 0
Hue Adjustment Green : 0
Hue Adjustment Aqua : 0
Hue Adjustment Blue : 0
Hue Adjustment Purple : 0
Hue Adjustment Magenta : 0
Saturation Adjustment Red : 0
Saturation Adjustment Orange : 0
Saturation Adjustment Yellow : 0
Saturation Adjustment Green : 0
Saturation Adjustment Aqua : 0
Saturation Adjustment Blue : 0
Saturation Adjustment Purple : 0
Saturation Adjustment Magenta : 0
Luminance Adjustment Red : 0
Luminance Adjustment Orange : 0
Luminance Adjustment Yellow : 0
Luminance Adjustment Green : 0
Luminance Adjustment Aqua : 0
Luminance Adjustment Blue : 0
Luminance Adjustment Purple : 0
Luminance Adjustment Magenta : 0
Split Toning Shadow Hue : 0
Split Toning Shadow Saturation : 0
Split Toning Highlight Hue : 0
Split Toning Highlight Saturation : 0
Split Toning Balance : 0
Parametric Shadows : 0
Parametric Darks : 0
Parametric Lights : 0
Parametric Highlights : 0
Parametric Shadow Split : 25
Parametric Midtone Split : 50
Parametric Highlight Split : 75
Sharpen Radius : +1.0
Sharpen Detail : 30
Sharpen Edge Masking : 0
Post Crop Vignette Amount : 0
Grain Amount : 0
Lens Profile Enable : 0
Lens Manual Distortion Amount : 0
Perspective Vertical : 0
Perspective Horizontal : 0
Perspective Rotate : 0.0
Perspective Scale : 100
Convert To Grayscale : False
Tone Curve Name : Strong Contrast
Camera Profile : Embedded
Lens Profile Setup : LensDefaults
Has Settings : True
Crop Top : 0.094527
Crop Left : 0.143328
Crop Bottom : 0.835821
Crop Right : 0.995058
Crop Angle : 0
Crop Constrain To Warp : 0
Crop Width : 2099
Crop Height : 1210
Crop Unit : pixels
Has Crop : True
Already Applied : True
Tone Curve : 0, 0, 32, 16, 64, 50, 128, 128, 192, 202, 255, 255
Image Width : 300
Image Height : 173
Bits Per Sample : 8
Color Components : 3
Aperture : 4.0
Image Size : 300x173
Megapixels : 0.052
Shutter Speed : 1/125
Light Value : 11.0
Lens ID : 18.0-55.0mm f/3.5-5.6