Uber Exif Photo
By-line : Dariusz Kêsicki
By-line Title : Nikon digital camera user
Copyright Notice : (C)2010 Dariusz Kêsicki, all rights reserved
Make : NIKON CORPORATION
Camera Model Name : NIKON D90
Orientation : Horizontal (normal)
Software : ViewNX 2.0 W
Modify Date : 2010:12:19 09:50:50
Artist : Dariusz Kęsicki
Copyright : (C)2010 Dariusz Kęsicki, all rights reserved
Exposure Time : 1/1000
F Number : 5.6
Exposure Program : Aperture-priority AE
ISO : 200
Date/Time Original : 2010:12:11 13:32:28
Create Date : 2010:12:11 13:32:28
Shutter Speed Value : 0.8
Aperture Value : 5.6
Exposure Compensation : 0
Max Aperture Value : 3.7
Subject Distance : inf
Metering Mode : Multi-segment
Light Source : Unknown
Focal Length : 21.0 mm
Maker Note Version : 2.10
Nikon Capture Version : ViewNX 2.0 W
NEF Bit Depth : 16 x 3
User Comment : 2010(C)Dariusz KESICKI
Color Space : Uncalibrated
Exif Image Width : 2848
Exif Image Height : 4288
Sensing Method : One-chip color area
Scene Type : Directly photographed
CFA Pattern : [Green,Blue][Red,Green]
Custom Rendered : Normal
Exposure Mode : Auto
White Balance : Auto
Digital Zoom Ratio : 1
Focal Length In 35mm Format : 31 mm
Scene Capture Type : Standard
Gain Control : None
Contrast : Normal
Saturation : Normal
Sharpness : Normal
Subject Distance Range : Unknown
Profile Description : Nikon sRGB 4.0.0.3002
Creator City : Wrocław
Creator Country : Poland
Creator Region : Dolnośląskie
Creator Work Telephone : +48666869247
Rating Percent : 0
Image Number : 8374
Lens : 18.0-105.0 mm f/3.5-5.6
Lens Info : 18-105mm f/3.5-5.6
Serial Number : 6234233
Already Applied : True
Blue Hue : 0
Blue Saturation : 0
Brightness : +35
Camera Profile : ACR 4.6
Chromatic Aberration B : 0
Chromatic Aberration R : 0
Clarity : +9
Color Noise Reduction : 25
Convert To Grayscale : False
Defringe : 0
Exposure : +0.50
Fill Light : 0
Grain Amount : 0
Green Hue : 0
Green Saturation : 0
Has Crop : False
Has Settings : True
Highlight Recovery : 50
Hue Adjustment Aqua : 0
Hue Adjustment Blue : 0
Hue Adjustment Green : 0
Hue Adjustment Magenta : 0
Hue Adjustment Orange : 0
Hue Adjustment Purple : 0
Hue Adjustment Red : 0
Hue Adjustment Yellow : 0
Luminance Adjustment Aqua : 0
Luminance Adjustment Blue : 0
Luminance Adjustment Green : 0
Luminance Adjustment Magenta : 0
Luminance Adjustment Orange : 0
Luminance Adjustment Purple : 0
Luminance Adjustment Red : 0
Luminance Adjustment Yellow : 0
Luminance Smoothing : 0
Parametric Darks : 0
Parametric Highlight Split : 75
Parametric Highlights : 0
Parametric Lights : 0
Parametric Midtone Split : 50
Parametric Shadow Split : 25
Parametric Shadows : 0
Post Crop Vignette Amount : 0
Process Version : 5.0
Raw File Name : _DSC8100.NEF
Red Hue : 0
Red Saturation : 0
Saturation Adjustment Aqua : 0
Saturation Adjustment Blue : 0
Saturation Adjustment Green : 0
Saturation Adjustment Magenta : 0
Saturation Adjustment Orange : 0
Saturation Adjustment Purple : 0
Saturation Adjustment Red : 0
Saturation Adjustment Yellow : 0
Shadow Tint : 0
Shadows : 7
Sharpen Detail : 25
Sharpen Edge Masking : 0
Sharpen Radius : +1.0
Split Toning Balance : 0
Split Toning Highlight Hue : 0
Split Toning Highlight Saturation : 0
Split Toning Shadow Hue : 0
Split Toning Shadow Saturation : 0
Color Temperature : 5100
Tint : +1
Tone Curve : 0, 0
Tone Curve Name : Medium Contrast
Version : 5.7
Vibrance : 0
Vignette Amount : 0
Creator : Dariusz Kęsicki
Format : image/tiff
Rights : (C)2010 Dariusz Kęsicki, all rights reserved
Flash Fired : False
Flash Function : False
Flash Mode : Unknown
Flash Red Eye Mode : False
Flash Return : No return detection
Creator Tool : Nikon Transfer 1.5 W
Rating : 0
Authors Position : Nikon digital camera user
Color Mode : RGB
ICC Profile Name : Adobe RGB (1998)
Photometric Interpretation : RGB
Samples Per Pixel : 3
Planar Configuration : Chunky
Usage Terms : For consideration only, no reproduction without prior permission
Image Width : 199
Image Height : 300
Bits Per Sample : 8
Color Components : 3
Aperture : 5.6
Image Size : 199x300
Megapixels : 0.060
Scale Factor To 35 mm Equivalent : 1.5
Shutter Speed : 1/1000
Create Date : 2010:12:11 13:32:28.00
Date/Time Original : 2010:12:11 13:32:28.00
Modify Date : 2010:12:19 09:50:50.00
Flash : No Flash
Circle Of Confusion : 0.020 mm
Field Of View : 60.3 deg
Focal Length : 21.0 mm (35 mm equivalent: 31.0 mm)
Hyperfocal Distance : 3.87 m
Light Value : 13.9
Lens ID : AF-S DX VR Zoom-Nikkor 18-105mm f/3.5-5.6G ED