Uber Exif Photo
Special Instructions : a8DuYqSFSXqigsoLbZSVaQ
By-line : ADUSTUM
Copyright Notice : 2011
Make : NIKON CORPORATION
Camera Model Name : NIKON D7000
Orientation : Horizontal (normal)
Software : Adobe Photoshop CS5 Macintosh
Modify Date : 2011:12:06 22:53:47
Artist : ADUSTUM
Copyright : 2011
Exposure Time : 1/500
F Number : 1.8
Exposure Program : Aperture-priority AE
ISO : 125
Date/Time Original : 2011:12:06 11:12:39
Create Date : 2011:12:06 11:12:39
Shutter Speed Value : 1/500
Aperture Value : 1.8
Exposure Compensation : 0
Max Aperture Value : 1.7
Metering Mode : Center-weighted average
Light Source : Unknown
Flash : Off, Did not fire
Focal Length : 50.0 mm
Color Space : Uncalibrated
Exif Image Width : 1649
Exif Image Height : 1244
Sensing Method : One-chip color area
Custom Rendered : Normal
Exposure Mode : Auto
White Balance : Auto
Digital Zoom Ratio : 1
Focal Length In 35mm Format : 75 mm
Scene Capture Type : Standard
Gain Control : None
Contrast : High
Saturation : High
Sharpness : Hard
Subject Distance Range : Unknown
Profile Description : Adobe RGB (1998)
Instructions : a8DuYqSFSXqigsoLbZSVaQ
Color Mode : RGB
ICC Profile Name : Adobe RGB (1998)
Date Created : 2011:12:06 11:12:39.07
Serial Number : 6193440
Lens : 50.0 mm f/1.8
Image Number : 6906
Flash Compensation : 0
Creator Tool : Aperture 3.2.1
Rating : 0
Format : image/jpeg
Raw File Name : DSC_6766.jpg
Version : 6.0
Process Version : 5.7
Incremental Temperature : +13
Incremental Tint : 0
Exposure : 0.00
Shadows : 0
Brightness : +10
Luminance Smoothing : 22
Color Noise Reduction : 33
Chromatic Aberration R : 0
Chromatic Aberration B : 0
Vignette Amount : 0
Shadow Tint : 0
Red Hue : 0
Red Saturation : 0
Green Hue : 0
Green Saturation : 0
Blue Hue : 0
Blue Saturation : 0
Fill Light : 0
Vibrance : 0
Highlight Recovery : 0
Clarity : 0
Defringe : 0
Hue Adjustment Red : 0
Hue Adjustment Orange : 0
Hue Adjustment Yellow : 0
Hue Adjustment Green : 0
Hue Adjustment Aqua : 0
Hue Adjustment Blue : 0
Hue Adjustment Purple : 0
Hue Adjustment Magenta : 0
Saturation Adjustment Red : 0
Saturation Adjustment Orange : 0
Saturation Adjustment Yellow : 0
Saturation Adjustment Green : 0
Saturation Adjustment Aqua : 0
Saturation Adjustment Blue : 0
Saturation Adjustment Purple : 0
Saturation Adjustment Magenta : 0
Luminance Adjustment Red : 0
Luminance Adjustment Orange : 0
Luminance Adjustment Yellow : 0
Luminance Adjustment Green : 0
Luminance Adjustment Aqua : 0
Luminance Adjustment Blue : 0
Luminance Adjustment Purple : 0
Luminance Adjustment Magenta : 0
Split Toning Shadow Hue : 0
Split Toning Shadow Saturation : 0
Split Toning Highlight Hue : 0
Split Toning Highlight Saturation : 0
Split Toning Balance : 0
Parametric Shadows : +34
Parametric Darks : -18
Parametric Lights : -46
Parametric Highlights : -52
Parametric Shadow Split : 25
Parametric Midtone Split : 50
Parametric Highlight Split : 75
Sharpen Radius : +1.4
Sharpen Detail : 25
Sharpen Edge Masking : 35
Post Crop Vignette Amount : 0
Grain Amount : 0
Luminance Noise Reduction Detail : 50
Color Noise Reduction Detail : 50
Luminance Noise Reduction Contrast : 34
Convert To Grayscale : False
Tone Curve Name : Linear
Camera Profile : Embedded
Has Settings : True
Crop Top : 0.222962
Crop Left : 0.183021
Crop Bottom : 0.985025
Crop Right : 0.85226
Crop Angle : 0
Has Crop : True
Already Applied : True
Creator : ADUSTUM
Rights : 2011
Tone Curve : 0, 0, 255, 255
Image Width : 300
Image Height : 226
Bits Per Sample : 8
Color Components : 3
Aperture : 1.8
Image Size : 300x226
Megapixels : 0.068
Scale Factor To 35 mm Equivalent : 1.5
Shutter Speed : 1/500
Create Date : 2011:12:06 11:12:39.70
Date/Time Original : 2011:12:06 11:12:39.70
Modify Date : 2011:12:06 22:53:47.70
Circle Of Confusion : 0.020 mm
Field Of View : 27.0 deg
Focal Length : 50.0 mm (35 mm equivalent: 75.0 mm)
Hyperfocal Distance : 69.34 m
Light Value : 10.3
Lens ID : Unknown (14 14 B2 06)