Uber Exif Photo
By-line : ANDREW PETTY
Copyright Notice : ANDREW PETTY
Make : NIKON CORPORATION
Camera Model Name : NIKON D800
Software : Adobe Photoshop Lightroom 4.2 (Windows)
Modify Date : 2012:10:09 21:10:04
Artist : ANDREW PETTY
Copyright : ANDREW PETTY
Exposure Time : 2
Exposure Program : Aperture-priority AE
ISO : 64
Sensitivity Type : Recommended Exposure Index
Date/Time Original : 2012:10:08 15:07:03
Create Date : 2012:10:08 15:07:03
Shutter Speed Value : 2
Exposure Compensation : 0
Max Aperture Value : 1.0
Metering Mode : Center-weighted average
Light Source : Unknown
Flash : Off, Did not fire
Sensing Method : One-chip color area
Scene Type : Directly photographed
CFA Pattern : [Red,Green][Green,Blue]
Custom Rendered : Normal
Exposure Mode : Auto
White Balance : Auto
Digital Zoom Ratio : 1
Scene Capture Type : Standard
Gain Control : None
Contrast : Normal
Saturation : Normal
Sharpness : Normal
Subject Distance Range : Unknown
Serial Number : 3016383
Lens Info : 0mm f/0
Lens Model : 0.0 mm f/0.0
Profile Description : sRGB IEC61966-2.1
Format : image/jpeg
Creator Tool : Adobe Photoshop Lightroom 4.2 (Windows)
Lens : 0.0 mm f/0.0
Image Number : 13589
Date Created : 2012:10:08 15:07:03.60
Version : 7.2
Process Version : 6.7
Color Temperature : 4350
Tint : +35
Luminance Smoothing : 0
Color Noise Reduction : 25
Vignette Amount : 0
Shadow Tint : 0
Red Hue : 0
Red Saturation : 0
Green Hue : 0
Green Saturation : 0
Blue Hue : 0
Blue Saturation : 0
Vibrance : 0
Hue Adjustment Red : 0
Hue Adjustment Orange : 0
Hue Adjustment Yellow : 0
Hue Adjustment Green : 0
Hue Adjustment Aqua : 0
Hue Adjustment Blue : 0
Hue Adjustment Purple : 0
Hue Adjustment Magenta : 0
Saturation Adjustment Red : +20
Saturation Adjustment Orange : 0
Saturation Adjustment Yellow : +2
Saturation Adjustment Green : 0
Saturation Adjustment Aqua : 0
Saturation Adjustment Blue : 0
Saturation Adjustment Purple : 0
Saturation Adjustment Magenta : 0
Luminance Adjustment Red : -53
Luminance Adjustment Orange : 0
Luminance Adjustment Yellow : 0
Luminance Adjustment Green : -53
Luminance Adjustment Aqua : +42
Luminance Adjustment Blue : +27
Luminance Adjustment Purple : 0
Luminance Adjustment Magenta : 0
Split Toning Shadow Hue : 0
Split Toning Shadow Saturation : 0
Split Toning Highlight Hue : 0
Split Toning Highlight Saturation : 0
Split Toning Balance : 0
Parametric Shadows : 0
Parametric Darks : 0
Parametric Lights : 0
Parametric Highlights : 0
Parametric Shadow Split : 25
Parametric Midtone Split : 50
Parametric Highlight Split : 75
Sharpen Radius : +1.0
Sharpen Detail : 25
Sharpen Edge Masking : 0
Post Crop Vignette Amount : 0
Grain Amount : 0
Color Noise Reduction Detail : 50
Lens Profile Enable : 0
Lens Manual Distortion Amount : 0
Perspective Vertical : 0
Perspective Horizontal : 0
Perspective Rotate : 0.0
Perspective Scale : 100
Auto Lateral CA : 0
Exposure 2012 : 0.00
Contrast 2012 : 0
Highlights 2012 : -93
Shadows 2012 : +100
Whites 2012 : 0
Blacks 2012 : -26
Clarity 2012 : +2
Defringe Purple Amount : 0
Defringe Purple Hue Lo : 30
Defringe Purple Hue Hi : 70
Defringe Green Amount : 0
Defringe Green Hue Lo : 40
Defringe Green Hue Hi : 60
Convert To Grayscale : False
Tone Curve Name 2012 : Linear
Camera Profile : Adobe Standard
Lens Profile Setup : LensDefaults
Has Settings : True
Crop Top : 0
Crop Left : 0
Crop Bottom : 1
Crop Right : 0.718121
Crop Angle : 0
Crop Constrain To Warp : 0
Crop Width : 1600
Crop Height : 1487
Crop Unit : pixels
Has Crop : True
Already Applied : True
Creator : ANDREW PETTY
Rights : ANDREW PETTY
Tone Curve PV2012 : 0, 0, 255, 255
Tone Curve PV2012 Red : 0, 0, 255, 255
Tone Curve PV2012 Green : 0, 0, 255, 255
Tone Curve PV2012 Blue : 0, 0, 255, 255
Image Width : 300
Image Height : 279
Bits Per Sample : 8
Color Components : 3
Image Size : 300x279
Megapixels : 0.084
Scale Factor To 35 mm Equivalent : 21.6
Shutter Speed : 2
Create Date : 2012:10:08 15:07:03.60
Date/Time Original : 2012:10:08 15:07:03.60
Circle Of Confusion : 0.001 mm
Lens ID : 0.0mm f/0.0