Uber Exif Photo
By-line : STUARTWEBER
Copyright Notice : SW
Make : NIKON CORPORATION
Camera Model Name : NIKON D700
Software : Adobe Photoshop Lightroom 3.4.1
Modify Date : 2012:02:26 20:55:22
Artist : STUARTWEBER
Copyright : SW
Exposure Time : 1/60
F Number : 2.5
Exposure Program : Aperture-priority AE
ISO : 200
Date/Time Original : 2012:02:26 19:11:57
Create Date : 2012:02:26 19:11:57
Shutter Speed Value : 1/60
Aperture Value : 2.5
Exposure Compensation : +1/3
Max Aperture Value : 1.4
Subject Distance : 2.99 m
Metering Mode : Multi-segment
Light Source : Cloudy
Flash : No Flash
Focal Length : 85.0 mm
Sensing Method : One-chip color area
Scene Type : Directly photographed
CFA Pattern : [Red,Green][Green,Blue]
Custom Rendered : Custom
Exposure Mode : Auto
White Balance : Manual
Digital Zoom Ratio : 1
Focal Length In 35mm Format : 85 mm
Scene Capture Type : Standard
Gain Control : None
Contrast : Normal
Saturation : Normal
Sharpness : Normal
Subject Distance Range : Unknown
Serial Number : 2456487
Lens Info : 85mm f/1.4
Lens Model : 85.0 mm f/1.4
GPS Version ID : 2.2.0.0
GPS Latitude Ref : North
GPS Longitude Ref : East
GPS Altitude Ref : Above Sea Level
GPS Time Stamp : 14:41:57
GPS Satellites : 07
GPS Map Datum : WGS 84
GPS Date Stamp : 2012:02:26
Profile Description : sRGB IEC61966-2.1
Creator Tool : Adobe Photoshop Lightroom 3.4.1
Lens : 85.0 mm f/1.4
Image Number : 8055
Approximate Focus Distance : 2.99
Date Created : 2012:02:26 19:11:57.23
Version : 6.4.1
Process Version : 5.7
Color Temperature : 6711
Tint : -7
Exposure : -1.22
Shadows : 31
Brightness : +50
Luminance Smoothing : 10
Color Noise Reduction : 25
Chromatic Aberration R : 0
Chromatic Aberration B : 0
Vignette Amount : 0
Shadow Tint : 0
Red Hue : 0
Red Saturation : 0
Green Hue : 0
Green Saturation : 0
Blue Hue : 0
Blue Saturation : 0
Fill Light : 9
Vibrance : +22
Highlight Recovery : 40
Clarity : +40
Defringe : 0
Hue Adjustment Red : 0
Hue Adjustment Orange : 0
Hue Adjustment Yellow : 0
Hue Adjustment Green : 0
Hue Adjustment Aqua : 0
Hue Adjustment Blue : 0
Hue Adjustment Purple : 0
Hue Adjustment Magenta : 0
Saturation Adjustment Red : 0
Saturation Adjustment Orange : 0
Saturation Adjustment Yellow : 0
Saturation Adjustment Green : 0
Saturation Adjustment Aqua : 0
Saturation Adjustment Blue : 0
Saturation Adjustment Purple : 0
Saturation Adjustment Magenta : 0
Luminance Adjustment Red : 0
Luminance Adjustment Orange : 0
Luminance Adjustment Yellow : 0
Luminance Adjustment Green : 0
Luminance Adjustment Aqua : 0
Luminance Adjustment Blue : 0
Luminance Adjustment Purple : 0
Luminance Adjustment Magenta : 0
Split Toning Shadow Hue : 0
Split Toning Shadow Saturation : 0
Split Toning Highlight Hue : 0
Split Toning Highlight Saturation : 0
Split Toning Balance : 0
Parametric Shadows : 0
Parametric Darks : 0
Parametric Lights : 0
Parametric Highlights : 0
Parametric Shadow Split : 25
Parametric Midtone Split : 50
Parametric Highlight Split : 75
Sharpen Radius : +1.0
Sharpen Detail : 25
Sharpen Edge Masking : 0
Post Crop Vignette Amount : -37
Post Crop Vignette Midpoint : 26
Post Crop Vignette Feather : 50
Post Crop Vignette Roundness : 0
Post Crop Vignette Style : Highlight Priority
Post Crop Vignette Highlight Contrast : 0
Grain Amount : 0
Luminance Noise Reduction Detail : 50
Color Noise Reduction Detail : 50
Luminance Noise Reduction Contrast : 0
Lens Profile Enable : 0
Lens Manual Distortion Amount : 0
Perspective Vertical : 0
Perspective Horizontal : 0
Perspective Rotate : 0.0
Perspective Scale : 100
Convert To Grayscale : False
Tone Curve Name : Medium Contrast
Camera Profile : Adobe Standard
Lens Profile Setup : LensDefaults
Has Settings : True
Crop Top : 0
Crop Left : 0.044643
Crop Bottom : 1
Crop Right : 0.876409
Crop Angle : 0
Crop Constrain To Warp : 0
Crop Width : 540
Crop Height : 432
Crop Unit : pixels
Has Crop : True
Already Applied : True
Creator : STUARTWEBER
Rights : SW
Tone Curve : 0, 0, 32, 22, 64, 56, 128, 128, 192, 196, 255, 255
Image Width : 240
Image Height : 300
Bits Per Sample : 8
Color Components : 3
Aperture : 2.5
Image Size : 240x300
Megapixels : 0.072
Scale Factor To 35 mm Equivalent : 1.0
Shutter Speed : 1/60
Create Date : 2012:02:26 19:11:57.23
Date/Time Original : 2012:02:26 19:11:57.23
GPS Altitude : 268 m Above Sea Level
GPS Date/Time : 2012:02:26 14:41:57Z
GPS Latitude : 35 deg 19' 44.08" N
GPS Longitude : 44 deg 19' 18.53" E
Circle Of Confusion : 0.030 mm
Depth Of Field : 0.18 m (2.90 - 3.08 m)
Field Of View : 23.9 deg
Focal Length : 85.0 mm (35 mm equivalent: 85.0 mm)
GPS Position : 35 deg 19' 44.08" N, 44 deg 19' 18.53" E
Hyperfocal Distance : 96.19 m
Light Value : 7.6
Lens ID : Samyang AE 85mm f/1.4 AS IF UMC or AF Nikkor 85mm f/1.4D IF