Uber Exif Photo
Make : NIKON CORPORATION
Camera Model Name : NIKON D200
Software : Adobe Photoshop Lightroom 3.4.1
Modify Date : 2012:01:02 05:00:00
Exposure Time : 1/350
F Number : 10.0
Exposure Program : Program AE
ISO : 250
Date/Time Original : 2007:11:26 12:50:37
Create Date : 2007:11:26 12:50:37
Shutter Speed Value : 1/350
Aperture Value : 10.0
Exposure Compensation : 0
Max Aperture Value : 3.5
Subject Distance : 3.16 m
Metering Mode : Multi-segment
Light Source : Unknown
Flash : No Flash
Focal Length : 18.0 mm
Sensing Method : One-chip color area
Scene Type : Directly photographed
Exposure Mode : Auto
White Balance : Auto
Digital Zoom Ratio : 1
Focal Length In 35mm Format : 27 mm
Scene Capture Type : Standard
Gain Control : None
Contrast : Low
Saturation : Normal
Sharpness : Soft
Subject Distance Range : Unknown
Lens Info : 18-200mm f/3.5-5.6
Lens Model : 18.0-200.0 mm f/3.5-5.6
Approximate Focus Distance : 3.16
Image Number : 18312
Lens : 18.0-200.0 mm f/3.5-5.6
Creator Tool : Adobe Photoshop Lightroom 3.4.1
Date Created : 2007:11:26 12:50:37.73
Version : 6.4.1
Process Version : 5.7
Incremental Temperature : 0
Incremental Tint : 0
Exposure : 0.00
Shadows : 5
Brightness : 0
Luminance Smoothing : 16
Color Noise Reduction : 0
Chromatic Aberration R : 0
Chromatic Aberration B : 0
Vignette Amount : 0
Shadow Tint : 0
Red Hue : 0
Red Saturation : 0
Green Hue : 0
Green Saturation : 0
Blue Hue : 0
Blue Saturation : 0
Fill Light : 4
Vibrance : 0
Highlight Recovery : 0
Clarity : +40
Defringe : 0
Hue Adjustment Red : 0
Hue Adjustment Orange : 0
Hue Adjustment Yellow : 0
Hue Adjustment Green : 0
Hue Adjustment Aqua : 0
Hue Adjustment Blue : 0
Hue Adjustment Purple : 0
Hue Adjustment Magenta : 0
Saturation Adjustment Red : 0
Saturation Adjustment Orange : 0
Saturation Adjustment Yellow : 0
Saturation Adjustment Green : 0
Saturation Adjustment Aqua : 0
Saturation Adjustment Blue : 0
Saturation Adjustment Purple : 0
Saturation Adjustment Magenta : 0
Luminance Adjustment Red : 0
Luminance Adjustment Orange : 0
Luminance Adjustment Yellow : 0
Luminance Adjustment Green : 0
Luminance Adjustment Aqua : 0
Luminance Adjustment Blue : 0
Luminance Adjustment Purple : 0
Luminance Adjustment Magenta : 0
Split Toning Shadow Hue : 0
Split Toning Shadow Saturation : 0
Split Toning Highlight Hue : 0
Split Toning Highlight Saturation : 0
Split Toning Balance : 0
Parametric Shadows : 0
Parametric Darks : 0
Parametric Lights : 0
Parametric Highlights : 0
Parametric Shadow Split : 25
Parametric Midtone Split : 50
Parametric Highlight Split : 75
Sharpen Radius : +1.0
Sharpen Detail : 25
Sharpen Edge Masking : 0
Post Crop Vignette Amount : 0
Grain Amount : 0
Luminance Noise Reduction Detail : 50
Luminance Noise Reduction Contrast : 0
Lens Profile Enable : 0
Lens Manual Distortion Amount : 0
Perspective Vertical : 0
Perspective Horizontal : 0
Perspective Rotate : 0.0
Perspective Scale : 100
Convert To Grayscale : False
Tone Curve Name : Linear
Camera Profile : Embedded
Lens Profile Setup : LensDefaults
Has Settings : True
Has Crop : False
Already Applied : True
Tone Curve : 0, 0, 255, 255
Image Width : 300
Image Height : 201
Bits Per Sample : 8
Color Components : 1
Aperture : 10.0
Image Size : 300x201
Megapixels : 0.060
Scale Factor To 35 mm Equivalent : 1.5
Shutter Speed : 1/350
Create Date : 2007:11:26 12:50:37.73
Circle Of Confusion : 0.020 mm
Depth Of Field : inf (1.07 m - inf)
Field Of View : 67.4 deg
Focal Length : 18.0 mm (35 mm equivalent: 27.0 mm)
Hyperfocal Distance : 1.62 m
Light Value : 13.8
Lens ID : AF-S DX VR Zoom-Nikkor 18-200mm f/3.5-5.6G IF-ED [II] or AF-S DX VR Zoom-Nikkor 18-200mm f/3.5-5.6G IF-ED