Uber Exif Photo
Keywords : D3 June July Turdistan 09
Make : NIKON CORPORATION
Camera Model Name : NIKON D3
Software : Adobe Photoshop Lightroom 3.4.1
Modify Date : 2012:01:11 21:43:06
Exposure Time : 1/320
F Number : 5.6
Exposure Program : Aperture-priority AE
ISO : 100
Date/Time Original : 2009:06:30 06:58:59
Create Date : 2009:06:30 06:58:59
Shutter Speed Value : 1/320
Aperture Value : 5.6
Exposure Compensation : 0
Max Aperture Value : 2.8
Subject Distance : 1.5 m
Metering Mode : Center-weighted average
Light Source : Cloudy
Flash : No Flash
Focal Length : 28.0 mm
Sensing Method : One-chip color area
Scene Type : Directly photographed
CFA Pattern : [Red,Green][Green,Blue]
Custom Rendered : Normal
Exposure Mode : Auto
White Balance : Manual
Digital Zoom Ratio : 1
Focal Length In 35mm Format : 28 mm
Scene Capture Type : Standard
Gain Control : None
Contrast : Low
Saturation : High
Sharpness : Normal
Subject Distance Range : Unknown
Serial Number : 2013827
Lens Info : 28mm f/2.8
Lens Model : 28.0 mm f/2.8
Profile Description : sRGB IEC61966-2.1
Date Acquired : 2009:07:24 20:10:53Z
Creator Tool : Adobe Photoshop Lightroom 3.4.1
Lens : 28.0 mm f/2.8
Image Number : 26089
Approximate Focus Distance : 1.5
Date Created : 2009:06:30 06:58:59.91
Version : 6.4.1
Process Version : 5.7
Incremental Temperature : 0
Incremental Tint : 0
Exposure : +0.06
Shadows : 14
Brightness : 0
Luminance Smoothing : 19
Color Noise Reduction : 0
Chromatic Aberration R : 0
Chromatic Aberration B : 0
Vignette Amount : 0
Shadow Tint : 0
Red Hue : 0
Red Saturation : 0
Green Hue : 0
Green Saturation : 0
Blue Hue : 0
Blue Saturation : 0
Fill Light : 0
Vibrance : 0
Highlight Recovery : 41
Clarity : +21
Defringe : 0
Hue Adjustment Red : 0
Hue Adjustment Orange : 0
Hue Adjustment Yellow : 0
Hue Adjustment Green : 0
Hue Adjustment Aqua : 0
Hue Adjustment Blue : 0
Hue Adjustment Purple : 0
Hue Adjustment Magenta : 0
Saturation Adjustment Red : 0
Saturation Adjustment Orange : +13
Saturation Adjustment Yellow : +23
Saturation Adjustment Green : +10
Saturation Adjustment Aqua : +50
Saturation Adjustment Blue : +58
Saturation Adjustment Purple : +23
Saturation Adjustment Magenta : 0
Luminance Adjustment Red : 0
Luminance Adjustment Orange : 0
Luminance Adjustment Yellow : 0
Luminance Adjustment Green : 0
Luminance Adjustment Aqua : 0
Luminance Adjustment Blue : 0
Luminance Adjustment Purple : 0
Luminance Adjustment Magenta : 0
Split Toning Shadow Hue : 0
Split Toning Shadow Saturation : 0
Split Toning Highlight Hue : 0
Split Toning Highlight Saturation : 0
Split Toning Balance : 0
Parametric Shadows : -60
Parametric Darks : -20
Parametric Lights : +10
Parametric Highlights : +60
Parametric Shadow Split : 25
Parametric Midtone Split : 50
Parametric Highlight Split : 75
Sharpen Radius : +1.0
Sharpen Detail : 25
Sharpen Edge Masking : 0
Post Crop Vignette Amount : -24
Post Crop Vignette Midpoint : 50
Post Crop Vignette Feather : 50
Post Crop Vignette Roundness : 0
Post Crop Vignette Style : Highlight Priority
Post Crop Vignette Highlight Contrast : 0
Grain Amount : 0
Luminance Noise Reduction Detail : 50
Luminance Noise Reduction Contrast : 0
Lens Profile Enable : 0
Lens Manual Distortion Amount : 0
Perspective Vertical : 0
Perspective Horizontal : 0
Perspective Rotate : 0.0
Perspective Scale : 100
Convert To Grayscale : False
Tone Curve Name : Linear
Camera Profile : Embedded
Lens Profile Setup : LensDefaults
Has Settings : True
Has Crop : False
Already Applied : True
Last Keyword XMP : D3 June July Turdistan 09
Subject : D3 June July Turdistan 09
Tone Curve : 0, 0, 255, 255
Image Width : 300
Image Height : 200
Bits Per Sample : 8
Color Components : 3
Aperture : 5.6
Image Size : 300x200
Megapixels : 0.060
Scale Factor To 35 mm Equivalent : 1.0
Shutter Speed : 1/320
Create Date : 2009:06:30 06:58:59.91
Date/Time Original : 2009:06:30 06:58:59.91
Circle Of Confusion : 0.030 mm
Depth Of Field : 1.05 m (1.14 - 2.19 m)
Field Of View : 65.5 deg
Focal Length : 28.0 mm (35 mm equivalent: 28.0 mm)
Hyperfocal Distance : 4.66 m
Light Value : 13.3
Lens ID : AF Nikkor 28mm f/2.8D