Uber Exif Photo
By-line : STUARTWEBER
Copyright Notice : SW
Make : NIKON CORPORATION
Camera Model Name : NIKON D700
Software : Adobe Photoshop Lightroom 3.4.1
Modify Date : 2011:12:27 08:04:49
Artist : STUARTWEBER
Copyright : SW
Exposure Time : 1/1600
F Number : 2.0
Exposure Program : Aperture-priority AE
ISO : 200
Date/Time Original : 2011:12:27 09:27:49
Create Date : 2011:12:27 09:27:49
Shutter Speed Value : 1/1600
Aperture Value : 2.0
Exposure Compensation : +1/3
Max Aperture Value : 1.4
Subject Distance : 1.12 m
Metering Mode : Multi-segment
Light Source : Cloudy
Flash : No Flash
Focal Length : 85.0 mm
Sensing Method : One-chip color area
Scene Type : Directly photographed
CFA Pattern : [Red,Green][Green,Blue]
Custom Rendered : Normal
Exposure Mode : Auto
White Balance : Manual
Digital Zoom Ratio : 1
Focal Length In 35mm Format : 85 mm
Scene Capture Type : Standard
Gain Control : None
Contrast : Normal
Saturation : Normal
Sharpness : Normal
Subject Distance Range : Unknown
Serial Number : 2456487
Lens Info : 85mm f/1.4
Lens Model : 85.0 mm f/1.4
GPS Version ID : 2.2.0.0
GPS Latitude Ref : North
GPS Longitude Ref : East
GPS Altitude Ref : Above Sea Level
GPS Time Stamp : 04:57:50
GPS Satellites : 09
GPS Map Datum : WGS 84
GPS Date Stamp : 2011:12:27
Profile Description : sRGB IEC61966-2.1
Creator Tool : Adobe Photoshop Lightroom 3.4.1
Lens : 85.0 mm f/1.4
Image Number : 7357
Approximate Focus Distance : 1.12
Date Created : 2011:12:27 09:27:49.58
Version : 6.4.1
Process Version : 5.7
Color Temperature : 5550
Tint : -4
Exposure : -0.78
Shadows : 10
Brightness : +50
Luminance Smoothing : 0
Color Noise Reduction : 25
Chromatic Aberration R : 0
Chromatic Aberration B : 0
Vignette Amount : 0
Shadow Tint : 0
Red Hue : 0
Red Saturation : 0
Green Hue : 0
Green Saturation : 0
Blue Hue : 0
Blue Saturation : 0
Fill Light : 13
Highlight Recovery : 44
Clarity : +75
Defringe : 0
Gray Mixer Red : +29
Gray Mixer Orange : +4
Gray Mixer Yellow : -13
Gray Mixer Green : -19
Gray Mixer Aqua : -10
Gray Mixer Blue : +20
Gray Mixer Purple : +25
Gray Mixer Magenta : +28
Split Toning Shadow Hue : 37
Split Toning Shadow Saturation : 22
Split Toning Highlight Hue : 52
Split Toning Highlight Saturation : 64
Split Toning Balance : 0
Parametric Shadows : 0
Parametric Darks : -17
Parametric Lights : +28
Parametric Highlights : 0
Parametric Shadow Split : 25
Parametric Midtone Split : 50
Parametric Highlight Split : 75
Sharpen Radius : +1.0
Sharpen Detail : 25
Sharpen Edge Masking : 0
Post Crop Vignette Amount : -33
Post Crop Vignette Midpoint : 50
Post Crop Vignette Feather : 50
Post Crop Vignette Roundness : 0
Post Crop Vignette Style : Highlight Priority
Post Crop Vignette Highlight Contrast : 0
Grain Amount : 0
Color Noise Reduction Detail : 50
Lens Profile Enable : 0
Lens Manual Distortion Amount : 0
Perspective Vertical : 0
Perspective Horizontal : 0
Perspective Rotate : 0.0
Perspective Scale : 100
Convert To Grayscale : True
Tone Curve Name : Medium Contrast
Camera Profile : Adobe Standard
Lens Profile Setup : LensDefaults
Has Settings : True
Has Crop : False
Already Applied : True
Creator : STUARTWEBER
Rights : SW
Tone Curve : 0, 0, 32, 22, 64, 56, 128, 128, 192, 196, 255, 255
Image Width : 199
Image Height : 300
Bits Per Sample : 8
Color Components : 3
Aperture : 2.0
Image Size : 199x300
Megapixels : 0.060
Scale Factor To 35 mm Equivalent : 1.0
Shutter Speed : 1/1600
Create Date : 2011:12:27 09:27:49.58
Date/Time Original : 2011:12:27 09:27:49.58
GPS Altitude : 285 m Above Sea Level
GPS Date/Time : 2011:12:27 04:57:50Z
GPS Latitude : 35 deg 19' 35.59" N
GPS Longitude : 44 deg 19' 17.66" E
Circle Of Confusion : 0.030 mm
Depth Of Field : 0.019 m (1.110 - 1.130 m)
Field Of View : 23.9 deg
Focal Length : 85.0 mm (35 mm equivalent: 85.0 mm)
GPS Position : 35 deg 19' 35.59" N, 44 deg 19' 17.66" E
Hyperfocal Distance : 120.23 m
Light Value : 11.6
Lens ID : AF Nikkor 85mm f/1.4D IF or Samyang AE 85mm f/1.4 AS IF UMC