Uber Exif Photo
By-line : STUARTWEBER
Copyright Notice : SW
Make : NIKON CORPORATION
Camera Model Name : NIKON D700
Software : Adobe Photoshop Lightroom 3.4.1
Modify Date : 2011:12:28 04:23:37
Artist : STUARTWEBER
Copyright : SW
Exposure Time : 1/400
F Number : 4.0
Exposure Program : Aperture-priority AE
ISO : 200
Date/Time Original : 2011:12:27 09:07:21
Create Date : 2011:12:27 09:07:21
Shutter Speed Value : 1/400
Aperture Value : 4.0
Exposure Compensation : 0
Max Aperture Value : 1.4
Subject Distance : 7.08 m
Metering Mode : Multi-segment
Light Source : Cloudy
Flash : No Flash
Focal Length : 85.0 mm
Sensing Method : One-chip color area
Scene Type : Directly photographed
Exposure Mode : Auto
White Balance : Manual
Digital Zoom Ratio : 1
Focal Length In 35mm Format : 85 mm
Scene Capture Type : Standard
Gain Control : None
Contrast : Normal
Saturation : Normal
Sharpness : Normal
Subject Distance Range : Unknown
Serial Number : 2456487
Lens Info : 85mm f/1.4
Lens Model : 85.0 mm f/1.4
GPS Latitude Ref : North
GPS Longitude Ref : East
GPS Altitude : 260 m
GPS Time Stamp : 04:37:21
GPS Satellites : 07
GPS Map Datum : WGS 84
GPS Date Stamp : 2011:12:27
Approximate Focus Distance : 7.08
Image Number : 7308
Lens : 85.0 mm f/1.4
Creator Tool : Adobe Photoshop Lightroom 3.4.1
Date Created : 2011:12:27 09:07:21.16
Version : 6.4.1
Process Version : 5.7
Incremental Temperature : 0
Incremental Tint : 0
Exposure : 0.00
Shadows : 0
Brightness : 0
Luminance Smoothing : 18
Color Noise Reduction : 0
Chromatic Aberration R : 0
Chromatic Aberration B : 0
Vignette Amount : 0
Shadow Tint : 0
Red Hue : 0
Red Saturation : 0
Green Hue : 0
Green Saturation : 0
Blue Hue : 0
Blue Saturation : 0
Fill Light : 11
Vibrance : 0
Highlight Recovery : 0
Clarity : +10
Defringe : 0
Hue Adjustment Red : 0
Hue Adjustment Orange : 0
Hue Adjustment Yellow : 0
Hue Adjustment Green : 0
Hue Adjustment Aqua : 0
Hue Adjustment Blue : 0
Hue Adjustment Purple : 0
Hue Adjustment Magenta : 0
Saturation Adjustment Red : 0
Saturation Adjustment Orange : 0
Saturation Adjustment Yellow : 0
Saturation Adjustment Green : 0
Saturation Adjustment Aqua : 0
Saturation Adjustment Blue : 0
Saturation Adjustment Purple : 0
Saturation Adjustment Magenta : 0
Luminance Adjustment Red : 0
Luminance Adjustment Orange : 0
Luminance Adjustment Yellow : 0
Luminance Adjustment Green : 0
Luminance Adjustment Aqua : 0
Luminance Adjustment Blue : 0
Luminance Adjustment Purple : 0
Luminance Adjustment Magenta : 0
Split Toning Shadow Hue : 0
Split Toning Shadow Saturation : 0
Split Toning Highlight Hue : 0
Split Toning Highlight Saturation : 0
Split Toning Balance : 0
Parametric Shadows : 0
Parametric Darks : 0
Parametric Lights : 0
Parametric Highlights : 0
Parametric Shadow Split : 25
Parametric Midtone Split : 50
Parametric Highlight Split : 75
Sharpen Radius : +1.0
Sharpen Detail : 25
Sharpen Edge Masking : 0
Post Crop Vignette Amount : 0
Grain Amount : 0
Luminance Noise Reduction Detail : 50
Luminance Noise Reduction Contrast : 0
Lens Profile Enable : 0
Lens Manual Distortion Amount : 0
Perspective Vertical : 0
Perspective Horizontal : 0
Perspective Rotate : 0.0
Perspective Scale : 100
Convert To Grayscale : False
Tone Curve Name : Linear
Camera Profile : Embedded
Lens Profile Setup : LensDefaults
Has Settings : True
Crop Top : 0
Crop Left : 0.11955
Crop Bottom : 1
Crop Right : 0.951316
Crop Angle : 0
Crop Constrain To Warp : 0
Crop Width : 675
Crop Height : 540
Crop Unit : pixels
Has Crop : True
Already Applied : True
Creator : STUARTWEBER
Rights : SW
Tone Curve : 0, 0, 255, 255
Image Width : 300
Image Height : 240
Bits Per Sample : 8
Color Components : 1
Aperture : 4.0
Image Size : 300x240
Megapixels : 0.072
Scale Factor To 35 mm Equivalent : 1.0
Shutter Speed : 1/400
Create Date : 2011:12:27 09:07:21.16
GPS Date/Time : 2011:12:27 04:37:21Z
GPS Latitude : 35 deg 19' 29.01" N
GPS Longitude : 44 deg 19' 21.63" E
Circle Of Confusion : 0.030 mm
Depth Of Field : 1.67 m (6.34 - 8.01 m)
Field Of View : 23.9 deg
Focal Length : 85.0 mm (35 mm equivalent: 85.0 mm)
GPS Position : 35 deg 19' 29.01" N, 44 deg 19' 21.63" E
Hyperfocal Distance : 60.12 m
Light Value : 11.6
Lens ID : AF Nikkor 85mm f/1.4D IF or Samyang AE 85mm f/1.4 AS IF UMC