Uber Exif Photo
Make : NIKON CORPORATION
Camera Model Name : NIKON Z 5
Orientation : Horizontal (normal)
Software : Adobe Photoshop 25.0 (Windows)
Modify Date : 2023:10:07 01:07:58
Artist : MANJOT SINGH
Copyright : MANJOT SINGH
Exposure Time : 1/125
F Number : 11.0
Exposure Program : Manual
ISO : 100
Sensitivity Type : Recommended Exposure Index
Recommended Exposure Index : 100
Date/Time Original : 2023:10:05 23:19:40
Create Date : 2023:10:05 23:19:40
Shutter Speed Value : 1/125
Aperture Value : 11.0
Exposure Compensation : -1
Metering Mode : Multi-segment
Light Source : Flash
Flash : On, Return not detected
Focal Length : 55.0 mm
Color Space : Uncalibrated
Exif Image Width : 3689
Exif Image Height : 2460
Sensing Method : One-chip color area
Scene Type : Directly photographed
CFA Pattern : [Red,Green][Green,Blue]
Custom Rendered : Custom
Exposure Mode : Manual
White Balance : Manual
Focal Length In 35mm Format : 55 mm
Scene Capture Type : Standard
Gain Control : None
Contrast : Normal
Saturation : Normal
Sharpness : Normal
Subject Distance Range : Unknown
Serial Number : 7626433
Lens Info : 24-70mm f/4
Lens Make : NIKON
Lens Model : NIKKOR Z 24-70mm f/4 S
Lens Serial Number : 20297272
By-line : MANJOT SINGH
Copyright Notice : MANJOT SINGH
Creator Tool : NIKON Z 5 Ver.01.40
Rating : 0
Format : image/jpeg
Lens : NIKKOR Z 24-70mm f/4 S
Image Number : 2565
Distortion Correction Already Applied : True
Lateral Chromatic Aberration Correction Already Applied : True
Vignette Correction Already Applied : True
Date Created : 2023:10:05 23:19:40.069+05:30
Color Mode : RGB
ICC Profile Name : Adobe RGB (1998)
Version : 15.5.1
Process Version : 15.4
Color Temperature : 6050
Tint : +8
Exposure 2012 : +0.33
Contrast 2012 : 0
Highlights 2012 : -21
Shadows 2012 : +10
Whites 2012 : 0
Blacks 2012 : 0
Texture : 0
Clarity 2012 : 0
Dehaze : 0
Vibrance : 0
Parametric Shadows : 0
Parametric Darks : 0
Parametric Lights : 0
Parametric Highlights : 0
Parametric Shadow Split : 25
Parametric Midtone Split : 50
Parametric Highlight Split : 75
Sharpen Radius : +2.0
Sharpen Detail : 25
Sharpen Edge Masking : 0
Luminance Smoothing : 27
Luminance Noise Reduction Detail : 75
Luminance Noise Reduction Contrast : 0
Color Noise Reduction : 10
Color Noise Reduction Detail : 50
Color Noise Reduction Smoothness : 50
Hue Adjustment Red : 0
Hue Adjustment Orange : 0
Hue Adjustment Yellow : 0
Hue Adjustment Green : 0
Hue Adjustment Aqua : 0
Hue Adjustment Blue : 0
Hue Adjustment Purple : 0
Hue Adjustment Magenta : 0
Saturation Adjustment Red : 0
Saturation Adjustment Orange : 0
Saturation Adjustment Yellow : 0
Saturation Adjustment Green : 0
Saturation Adjustment Aqua : 0
Saturation Adjustment Blue : 0
Saturation Adjustment Purple : 0
Saturation Adjustment Magenta : 0
Luminance Adjustment Red : 0
Luminance Adjustment Orange : 0
Luminance Adjustment Yellow : 0
Luminance Adjustment Green : 0
Luminance Adjustment Aqua : 0
Luminance Adjustment Blue : 0
Luminance Adjustment Purple : 0
Luminance Adjustment Magenta : 0
Split Toning Shadow Hue : 0
Split Toning Shadow Saturation : 0
Split Toning Highlight Hue : 0
Split Toning Highlight Saturation : 0
Split Toning Balance : 0
Color Grade Midtone Hue : 0
Color Grade Midtone Sat : 0
Color Grade Shadow Lum : 0
Color Grade Midtone Lum : 0
Color Grade Highlight Lum : 0
Color Grade Blending : 50
Color Grade Global Hue : 0
Color Grade Global Sat : 0
Color Grade Global Lum : 0
Auto Lateral CA : 1
Lens Profile Enable : 0
Lens Manual Distortion Amount : 0
Vignette Amount : 0
Defringe Purple Amount : 0
Defringe Purple Hue Lo : 30
Defringe Purple Hue Hi : 70
Defringe Green Amount : 0
Defringe Green Hue Lo : 40
Defringe Green Hue Hi : 60
Perspective Upright : Off
Perspective Vertical : 0
Perspective Horizontal : 0
Perspective Rotate : 0.0
Perspective Aspect : 0
Perspective Scale : 100
Perspective X : 0.00
Perspective Y : 0.00
Grain Amount : 0
Post Crop Vignette Amount : 0
Shadow Tint : 0
Red Hue : 0
Red Saturation : 0
Green Hue : 0
Green Saturation : 0
Blue Hue : 0
Blue Saturation : 0
Convert To Grayscale : False
Override Look Vignette : False
Tone Curve Name 2012 : Linear
Camera Profile : Camera Standard
Has Settings : True
Has Crop : False
Already Applied : True
Transformation : Perspective
Virtual Focal Length : 1.526509
Virtual Image X Center : 0.500415
Virtual Image Y Center : 0.333499
Creator : MANJOT SINGH
Rights : MANJOT SINGH
Tone Curve PV2012 : 0, 0, 255, 255
Tone Curve PV2012 Red : 0, 0, 255, 255
Tone Curve PV2012 Green : 0, 0, 255, 255
Tone Curve PV2012 Blue : 0, 0, 255, 255
Profile Description : Adobe RGB (1998)
Image Width : 400
Image Height : 267
Bits Per Sample : 8
Color Components : 3
Aperture : 11.0
Image Size : 400x267
Megapixels : 0.107
Scale Factor To 35 mm Equivalent : 1.0
Shutter Speed : 1/125
Create Date : 2023:10:05 23:19:40.69+05:30
Date/Time Original : 2023:10:05 23:19:40.69+05:30
Modify Date : 2023:10:07 01:07:58.69+05:30
Circle Of Confusion : 0.030 mm
Field Of View : 36.2 deg
Focal Length : 55.0 mm (35 mm equivalent: 55.0 mm)
Hyperfocal Distance : 9.15 m
Light Value : 13.9
Lens ID : NIKKOR Z 24-70mm f/4 S