Uber Exif Photo
Make : NIKON CORPORATION
Camera Model Name : NIKON D90
Software : Adobe Photoshop Lightroom 3.5 (Windows)
Modify Date : 2011:10:30 16:40:37
Exposure Time : 1/640
F Number : 4.5
Exposure Program : Aperture-priority AE
ISO : 400
Date/Time Original : 2011:10:29 15:34:35
Create Date : 2011:10:29 15:34:35
Shutter Speed Value : 1/640
Aperture Value : 4.5
Exposure Compensation : 0
Max Aperture Value : 2.8
Subject Distance : 3.55 m
Metering Mode : Multi-segment
Light Source : Unknown
Flash : No Flash
Focal Length : 70.0 mm
Sensing Method : One-chip color area
Scene Type : Directly photographed
CFA Pattern : [Green,Blue][Red,Green]
Custom Rendered : Normal
Exposure Mode : Auto
White Balance : Auto
Digital Zoom Ratio : 1
Focal Length In 35mm Format : 105 mm
Scene Capture Type : Standard
Gain Control : Low gain up
Contrast : Normal
Saturation : Normal
Sharpness : Normal
Subject Distance Range : Unknown
Serial Number : 6419048
Lens Info : 35-70mm f/2.8
Lens Model : 35.0-70.0 mm f/2.8
Profile Description : sRGB IEC61966-2.1
Creator Tool : Adobe Photoshop Lightroom 3.5 (Windows)
Lens : 35.0-70.0 mm f/2.8
Image Number : 12926
Approximate Focus Distance : 3.55
Date Created : 2011:10:29 15:34:35.00
Version : 6.5
Process Version : 5.7
Color Temperature : 4250
Tint : -17
Exposure : +0.32
Shadows : 15
Brightness : +50
Luminance Smoothing : 18
Color Noise Reduction : 25
Chromatic Aberration R : 0
Chromatic Aberration B : 0
Vignette Amount : 0
Shadow Tint : 0
Red Hue : 0
Red Saturation : 0
Green Hue : 0
Green Saturation : 0
Blue Hue : 0
Blue Saturation : 0
Fill Light : 0
Vibrance : +15
Highlight Recovery : 0
Clarity : +24
Defringe : 0
Hue Adjustment Red : 0
Hue Adjustment Orange : 0
Hue Adjustment Yellow : 0
Hue Adjustment Green : 0
Hue Adjustment Aqua : 0
Hue Adjustment Blue : 0
Hue Adjustment Purple : 0
Hue Adjustment Magenta : 0
Saturation Adjustment Red : 0
Saturation Adjustment Orange : 0
Saturation Adjustment Yellow : 0
Saturation Adjustment Green : 0
Saturation Adjustment Aqua : 0
Saturation Adjustment Blue : 0
Saturation Adjustment Purple : 0
Saturation Adjustment Magenta : 0
Luminance Adjustment Red : 0
Luminance Adjustment Orange : 0
Luminance Adjustment Yellow : 0
Luminance Adjustment Green : 0
Luminance Adjustment Aqua : 0
Luminance Adjustment Blue : 0
Luminance Adjustment Purple : 0
Luminance Adjustment Magenta : 0
Split Toning Shadow Hue : 0
Split Toning Shadow Saturation : 0
Split Toning Highlight Hue : 0
Split Toning Highlight Saturation : 0
Split Toning Balance : 0
Parametric Shadows : 0
Parametric Darks : 0
Parametric Lights : 0
Parametric Highlights : 0
Parametric Shadow Split : 25
Parametric Midtone Split : 50
Parametric Highlight Split : 75
Sharpen Radius : +1.2
Sharpen Detail : 25
Sharpen Edge Masking : 0
Post Crop Vignette Amount : 0
Grain Amount : 0
Luminance Noise Reduction Detail : 50
Color Noise Reduction Detail : 50
Luminance Noise Reduction Contrast : 0
Lens Profile Enable : 0
Lens Manual Distortion Amount : 0
Perspective Vertical : 0
Perspective Horizontal : 0
Perspective Rotate : 0.0
Perspective Scale : 100
Convert To Grayscale : False
Tone Curve Name : Medium Contrast
Camera Profile : Adobe Standard
Lens Profile Setup : LensDefaults
Has Settings : True
Crop Top : 0.092562
Crop Left : 0
Crop Bottom : 0.894215
Crop Right : 0.801653
Crop Angle : 0
Crop Constrain To Warp : 0
Crop Width : 3437
Crop Height : 2283
Crop Unit : pixels
Has Crop : True
Already Applied : True
Tone Curve : 0, 0, 32, 22, 64, 56, 128, 128, 192, 196, 255, 255
Image Width : 300
Image Height : 199
Bits Per Sample : 8
Color Components : 3
Aperture : 4.5
Image Size : 300x199
Megapixels : 0.060
Scale Factor To 35 mm Equivalent : 1.5
Shutter Speed : 1/640
Create Date : 2011:10:29 15:34:35.00
Date/Time Original : 2011:10:29 15:34:35.00
Circle Of Confusion : 0.020 mm
Depth Of Field : 0.46 m (3.34 - 3.79 m)
Field Of View : 19.5 deg
Focal Length : 70.0 mm (35 mm equivalent: 105.0 mm)
Hyperfocal Distance : 54.36 m
Light Value : 11.7
Lens ID : AF Zoom-Nikkor 35-70mm f/2.8D