Uber Exif Photo
By-line : Rowedean Doss
Copyright Notice : ROWEDEAN DOSS
Copyright Flag : True
Make : Canon
Camera Model Name : Canon PowerShot S90
Software : Adobe Photoshop Lightroom 3.6 (Windows)
Modify Date : 2012:03:25 07:15:03
Artist : Rowedean Doss
Copyright : ROWEDEAN DOSS
Exposure Time : 1/60
F Number : 2.8
ISO : 125
Date/Time Original : 2012:03:23 09:57:10
Create Date : 2012:03:23 09:57:10
Shutter Speed Value : 1/60
Aperture Value : 2.8
Exposure Compensation : 0
Max Aperture Value : 2.0
Subject Distance : 0.31 m
Metering Mode : Multi-segment
Flash : Off, Did not fire
Focal Length : 6.0 mm
Sensing Method : One-chip color area
Custom Rendered : Normal
Exposure Mode : Auto
White Balance : Auto
Digital Zoom Ratio : 1
Scene Capture Type : Standard
Lens Info : 6-22.5mm f/?
Lens Model : 6.0-22.5 mm
Profile Description : sRGB IEC61966-2.1
Lens : 6.0-22.5 mm
Approximate Focus Distance : 0.31
Flash Compensation : 0
Firmware : 1.01
Creator Tool : Adobe Photoshop Lightroom 3.6 (Windows)
Date Created : 2012:03:23 09:57:10
Format : image/jpeg
Marked : True
Version : 6.6
Process Version : 5.7
Color Temperature : 5500
Tint : +10
Exposure : 0.00
Shadows : 5
Brightness : +50
Contrast : +25
Saturation : +8
Sharpness : 25
Luminance Smoothing : 0
Color Noise Reduction : 25
Chromatic Aberration R : 0
Chromatic Aberration B : 0
Vignette Amount : 0
Shadow Tint : 0
Red Hue : 0
Red Saturation : 0
Green Hue : 0
Green Saturation : 0
Blue Hue : 0
Blue Saturation : 0
Fill Light : 0
Vibrance : +24
Highlight Recovery : 0
Clarity : +47
Defringe : 0
Hue Adjustment Red : 0
Hue Adjustment Orange : 0
Hue Adjustment Yellow : 0
Hue Adjustment Green : 0
Hue Adjustment Aqua : 0
Hue Adjustment Blue : 0
Hue Adjustment Purple : 0
Hue Adjustment Magenta : 0
Saturation Adjustment Red : 0
Saturation Adjustment Orange : 0
Saturation Adjustment Yellow : 0
Saturation Adjustment Green : 0
Saturation Adjustment Aqua : 0
Saturation Adjustment Blue : 0
Saturation Adjustment Purple : 0
Saturation Adjustment Magenta : 0
Luminance Adjustment Red : 0
Luminance Adjustment Orange : 0
Luminance Adjustment Yellow : 0
Luminance Adjustment Green : 0
Luminance Adjustment Aqua : 0
Luminance Adjustment Blue : 0
Luminance Adjustment Purple : 0
Luminance Adjustment Magenta : 0
Split Toning Shadow Hue : 0
Split Toning Shadow Saturation : 0
Split Toning Highlight Hue : 0
Split Toning Highlight Saturation : 0
Split Toning Balance : 0
Parametric Shadows : 0
Parametric Darks : 0
Parametric Lights : 0
Parametric Highlights : 0
Parametric Shadow Split : 25
Parametric Midtone Split : 50
Parametric Highlight Split : 75
Sharpen Radius : +1.0
Sharpen Detail : 25
Sharpen Edge Masking : 0
Post Crop Vignette Amount : 0
Grain Amount : 0
Color Noise Reduction Detail : 50
Lens Profile Enable : 0
Lens Manual Distortion Amount : 0
Perspective Vertical : 0
Perspective Horizontal : 0
Perspective Rotate : 0.0
Perspective Scale : 100
Convert To Grayscale : False
Tone Curve Name : Medium Contrast
Camera Profile : Camera Standard
Lens Profile Setup : LensDefaults
Has Settings : True
Crop Top : 0.197065
Crop Left : 0.159311
Crop Bottom : 0.944344
Crop Right : 1
Crop Angle : 0
Crop Constrain To Warp : 0
Crop Width : 1000
Crop Height : 667
Crop Unit : pixels
Has Crop : True
Already Applied : True
Creator : Rowedean Doss
Rights : ROWEDEAN DOSS
Usage Terms : This photograph can only be used with the written consent of the photographer.
Creator Postal Code : 80918
Creator Work Telephone : 719 531 5437
Creator Region : Colorado
Creator Country : USA
Creator City : Colorado Springs
Creator Address : 1967 Brookdale Drive
Creator Work Email : roder10@comcast.net
Tone Curve : 0, 0, 32, 22, 64, 56, 128, 128, 192, 196, 255, 255
Image Width : 300
Image Height : 200
Bits Per Sample : 8
Color Components : 3
Aperture : 2.8
Image Size : 300x200
Megapixels : 0.060
Scale Factor To 35 mm Equivalent : 4.7
Shutter Speed : 1/60
Circle Of Confusion : 0.006 mm
Depth Of Field : 0.10 m (0.27 - 0.37 m)
Field Of View : 65.5 deg
Focal Length : 6.0 mm (35 mm equivalent: 28.0 mm)
Hyperfocal Distance : 2.00 m
Light Value : 8.6
Lens ID : 6.0-22.5mm