Uber Exif Photo
Keywords : Pro Cycle
By-line : ROWEDEAN DOSS
Copyright Notice : ROWEDEAN DOSS
Make : NIKON CORPORATION
Camera Model Name : NIKON D300S
Software : Adobe Photoshop Lightroom 3.5 (Windows)
Modify Date : 2011:09:30 07:05:25
Artist : ROWEDEAN DOSS
Copyright : ROWEDEAN DOSS
Exposure Time : 1/500
F Number : 11.0
Exposure Program : Shutter speed priority AE
ISO : 200
Date/Time Original : 2011:08:24 11:21:36
Create Date : 2011:08:24 11:21:36
Shutter Speed Value : 1/500
Aperture Value : 11.0
Exposure Compensation : 0
Max Aperture Value : 5.3
Subject Distance : 10.6 m
Metering Mode : Multi-segment
Light Source : Unknown
Flash : No Flash
Focal Length : 95.0 mm
Sensing Method : One-chip color area
Scene Type : Directly photographed
CFA Pattern : [Red,Green][Green,Blue]
Custom Rendered : Normal
Exposure Mode : Auto
White Balance : Auto
Digital Zoom Ratio : 1
Focal Length In 35mm Format : 142 mm
Scene Capture Type : Standard
Gain Control : None
Contrast : Normal
Saturation : Normal
Sharpness : Normal
Subject Distance Range : Unknown
Serial Number : 3010078
Lens Info : 18-200mm f/3.5-5.6
Lens Model : 18.0-200.0 mm f/3.5-5.6
Profile Description : sRGB IEC61966-2.1
Creator Tool : Adobe Photoshop Lightroom 3.5 (Windows)
Lens : 18.0-200.0 mm f/3.5-5.6
Image Number : 7505
Approximate Focus Distance : 10.6
Date Created : 2011:08:24 11:21:36.48
Version : 6.5
Process Version : 5.7
Color Temperature : 4850
Tint : -6
Exposure : +0.92
Shadows : 5
Brightness : +50
Luminance Smoothing : 0
Color Noise Reduction : 25
Chromatic Aberration R : 0
Chromatic Aberration B : 0
Vignette Amount : 0
Shadow Tint : 0
Red Hue : 0
Red Saturation : 0
Green Hue : 0
Green Saturation : 0
Blue Hue : 0
Blue Saturation : 0
Fill Light : 44
Vibrance : +30
Highlight Recovery : 0
Clarity : +50
Defringe : 0
Hue Adjustment Red : 0
Hue Adjustment Orange : 0
Hue Adjustment Yellow : 0
Hue Adjustment Green : 0
Hue Adjustment Aqua : 0
Hue Adjustment Blue : 0
Hue Adjustment Purple : 0
Hue Adjustment Magenta : 0
Saturation Adjustment Red : 0
Saturation Adjustment Orange : 0
Saturation Adjustment Yellow : 0
Saturation Adjustment Green : 0
Saturation Adjustment Aqua : 0
Saturation Adjustment Blue : 0
Saturation Adjustment Purple : 0
Saturation Adjustment Magenta : 0
Luminance Adjustment Red : 0
Luminance Adjustment Orange : 0
Luminance Adjustment Yellow : 0
Luminance Adjustment Green : 0
Luminance Adjustment Aqua : 0
Luminance Adjustment Blue : 0
Luminance Adjustment Purple : 0
Luminance Adjustment Magenta : 0
Split Toning Shadow Hue : 0
Split Toning Shadow Saturation : 0
Split Toning Highlight Hue : 0
Split Toning Highlight Saturation : 0
Split Toning Balance : 0
Parametric Shadows : 0
Parametric Darks : 0
Parametric Lights : 0
Parametric Highlights : 0
Parametric Shadow Split : 25
Parametric Midtone Split : 50
Parametric Highlight Split : 75
Sharpen Radius : +1.9
Sharpen Detail : 50
Sharpen Edge Masking : 0
Post Crop Vignette Amount : -3
Post Crop Vignette Midpoint : 50
Post Crop Vignette Feather : 50
Post Crop Vignette Roundness : 0
Post Crop Vignette Style : Highlight Priority
Post Crop Vignette Highlight Contrast : 0
Grain Amount : 0
Color Noise Reduction Detail : 50
Lens Profile Enable : 1
Lens Manual Distortion Amount : 0
Perspective Vertical : 0
Perspective Horizontal : 0
Perspective Rotate : 0.0
Perspective Scale : 100
Convert To Grayscale : False
Tone Curve Name : Medium Contrast
Camera Profile : Camera Vivid
Lens Profile Setup : LensDefaults
Lens Profile Name : Adobe (Nikon AF-S DX NIKKOR 18-200mm f/3.5-5.6G ED VR II)
Lens Profile Filename : NIKON D90 (Nikon AF-S DX NIKKOR 18-200mm f3.5-5.6G ED VR II) - RAW.lcp
Lens Profile Distortion Scale : 100
Lens Profile Chromatic Aberration Scale : 100
Lens Profile Vignetting Scale : 100
Has Settings : True
Crop Top : 0.280899
Crop Left : 0.123881
Crop Bottom : 0.894382
Crop Right : 0.737364
Crop Angle : 0
Crop Constrain To Warp : 0
Crop Width : 1000
Crop Height : 664
Crop Unit : pixels
Has Crop : True
Already Applied : True
Creator : ROWEDEAN DOSS
Rights : ROWEDEAN DOSS
Subject : Pro Cycle
Tone Curve : 0, 0, 32, 22, 64, 56, 128, 128, 192, 196, 255, 255
Image Width : 300
Image Height : 199
Bits Per Sample : 8
Color Components : 3
Aperture : 11.0
Image Size : 300x199
Megapixels : 0.060
Scale Factor To 35 mm Equivalent : 1.5
Shutter Speed : 1/500
Create Date : 2011:08:24 11:21:36.48
Date/Time Original : 2011:08:24 11:21:36.48
Circle Of Confusion : 0.020 mm
Depth Of Field : 5.84 m (8.43 - 14.27 m)
Field Of View : 14.4 deg
Focal Length : 95.0 mm (35 mm equivalent: 142.0 mm)
Hyperfocal Distance : 40.82 m
Light Value : 14.9
Lens ID : AF-S DX VR Zoom-Nikkor 18-200mm f/3.5-5.6G IF-ED [II] or AF-S DX VR Zoom-Nikkor 18-200mm f/3.5-5.6G IF-ED