Uber Exif Photo
By-line : Philip.F.Higgins@Phiggys.com
Make : NIKON
Camera Model Name : D700
Orientation : Horizontal (normal)
Software : Adobe Photoshop CS5 Windows
Modify Date : 2011:05:07 14:29:10
White Point : 0 0
Primary Chromaticities : 0 0 0 0 0 0
Reference Black White : 0 0 0 0 0 0
Exposure Time : 1/1250
F Number : 11.0
Exposure Program : Not Defined
ISO : 1000, 1000
Compressed Bits Per Pixel : 0
Shutter Speed Value : 1/1250
Aperture Value : 11.0
Brightness Value : 0
Exposure Compensation : 0
Max Aperture Value : 1.0
Subject Distance : 0 m
Metering Mode : Unknown
Light Source : Unknown
Flash : No Flash
Focal Length : 70.0 mm
Exif Image Width : 2568
Exif Image Height : 3440
Exposure Index : 0
Sensing Method : Unknown (0)
Scene Type : Unknown (0)
Profile Description : Adobe RGB (1998)
Creator Tool : Instant JPEG from RAW v1.00
Rating : 0
Create Date : 2011:04:28 07:35:01+01:00
Color Mode : RGB
ICC Profile Name : Adobe RGB (1998)
Format : image/jpeg
Raw File Name : PH7_7580_IJFR.jpg
Version : 6.0
Process Version : 5.7
White Balance : Custom
Incremental Temperature : 0
Incremental Tint : +24
Exposure : +1.40
Shadows : 0
Brightness : 0
Contrast : 0
Saturation : 0
Sharpness : 0
Luminance Smoothing : 0
Color Noise Reduction : 0
Chromatic Aberration R : 0
Chromatic Aberration B : 0
Vignette Amount : 0
Shadow Tint : 0
Red Hue : 0
Red Saturation : 0
Green Hue : 0
Green Saturation : 0
Blue Hue : 0
Blue Saturation : 0
Fill Light : 0
Vibrance : 0
Highlight Recovery : 38
Clarity : 0
Defringe : 0
Hue Adjustment Red : 0
Hue Adjustment Orange : 0
Hue Adjustment Yellow : 0
Hue Adjustment Green : 0
Hue Adjustment Aqua : 0
Hue Adjustment Blue : 0
Hue Adjustment Purple : 0
Hue Adjustment Magenta : 0
Saturation Adjustment Red : 0
Saturation Adjustment Orange : 0
Saturation Adjustment Yellow : 0
Saturation Adjustment Green : 0
Saturation Adjustment Aqua : 0
Saturation Adjustment Blue : 0
Saturation Adjustment Purple : 0
Saturation Adjustment Magenta : 0
Luminance Adjustment Red : 0
Luminance Adjustment Orange : 0
Luminance Adjustment Yellow : 0
Luminance Adjustment Green : 0
Luminance Adjustment Aqua : 0
Luminance Adjustment Blue : 0
Luminance Adjustment Purple : 0
Luminance Adjustment Magenta : 0
Split Toning Shadow Hue : 0
Split Toning Shadow Saturation : 0
Split Toning Highlight Hue : 0
Split Toning Highlight Saturation : 0
Split Toning Balance : 0
Parametric Shadows : 0
Parametric Darks : 0
Parametric Lights : 0
Parametric Highlights : 0
Parametric Shadow Split : 25
Parametric Midtone Split : 50
Parametric Highlight Split : 75
Sharpen Radius : +1.0
Sharpen Detail : 25
Sharpen Edge Masking : 0
Post Crop Vignette Amount : 0
Grain Amount : 0
Convert To Grayscale : False
Tone Curve Name : Linear
Camera Profile : Embedded
Has Settings : True
Has Crop : False
Already Applied : True
Creator : Philip.F.Higgins@Phiggys.com
Tone Curve : 0, 0, 255, 255
Image Width : 224
Image Height : 300
Bits Per Sample : 8
Color Components : 3
Aperture : 11.0
Image Size : 224x300
Megapixels : 0.067
Shutter Speed : 1/1250
Light Value : 13.9