Uber Exif Photo
Make : NIKON CORPORATION
Camera Model Name : NIKON D90
Software : Adobe Photoshop Lightroom 3.4.1
Modify Date : 2011:08:31 15:30:01
Exposure Time : 1/125
F Number : 8.0
Exposure Program : Manual
ISO : 200
Date/Time Original : 2011:08:21 10:49:33
Create Date : 2011:08:21 10:49:33
Shutter Speed Value : 1/125
Aperture Value : 8.0
Exposure Compensation : +1
Max Aperture Value : 5.7
Subject Distance : 3.98 m
Metering Mode : Spot
Light Source : Unknown
Flash : No Flash
Focal Length : 280.0 mm
Sensing Method : One-chip color area
Scene Type : Directly photographed
Custom Rendered : Normal
Exposure Mode : Manual
White Balance : Auto
Digital Zoom Ratio : 1
Focal Length In 35mm Format : 420 mm
Scene Capture Type : Standard
Gain Control : None
Contrast : Normal
Saturation : Normal
Sharpness : Normal
Subject Distance Range : Unknown
Serial Number : 5063198
Lens Info : 70-300mm f/4.5-5.6
Lens Model : 70.0-300.0 mm f/4.5-5.6
Profile Description : sRGB IEC61966-2.1
Rating : 5
Label : Yellow
Creator Tool : Adobe Photoshop Lightroom 3.4.1
Lens : 70.0-300.0 mm f/4.5-5.6
Image Number : 22223
Approximate Focus Distance : 3.98
Date Created : 2011:08:21 10:49:33
Format : application/vnd.adobe.photoshop
Version : 6.4.1
Process Version : 5.7
Incremental Temperature : 0
Incremental Tint : 0
Exposure : 0.00
Shadows : 3
Brightness : 0
Luminance Smoothing : 0
Color Noise Reduction : 0
Chromatic Aberration R : 0
Chromatic Aberration B : 0
Vignette Amount : 0
Shadow Tint : 0
Red Hue : 0
Red Saturation : 0
Green Hue : 0
Green Saturation : 0
Blue Hue : 0
Blue Saturation : 0
Fill Light : 26
Vibrance : 0
Highlight Recovery : 100
Clarity : 0
Defringe : 0
Hue Adjustment Red : 0
Hue Adjustment Orange : 0
Hue Adjustment Yellow : 0
Hue Adjustment Green : 0
Hue Adjustment Aqua : 0
Hue Adjustment Blue : 0
Hue Adjustment Purple : 0
Hue Adjustment Magenta : 0
Saturation Adjustment Red : 0
Saturation Adjustment Orange : 0
Saturation Adjustment Yellow : 0
Saturation Adjustment Green : 0
Saturation Adjustment Aqua : 0
Saturation Adjustment Blue : 0
Saturation Adjustment Purple : 0
Saturation Adjustment Magenta : 0
Luminance Adjustment Red : 0
Luminance Adjustment Orange : 0
Luminance Adjustment Yellow : 0
Luminance Adjustment Green : 0
Luminance Adjustment Aqua : 0
Luminance Adjustment Blue : 0
Luminance Adjustment Purple : 0
Luminance Adjustment Magenta : 0
Split Toning Shadow Hue : 0
Split Toning Shadow Saturation : 0
Split Toning Highlight Hue : 0
Split Toning Highlight Saturation : 0
Split Toning Balance : 0
Parametric Shadows : 0
Parametric Darks : 0
Parametric Lights : 0
Parametric Highlights : 0
Parametric Shadow Split : 25
Parametric Midtone Split : 50
Parametric Highlight Split : 75
Sharpen Radius : +1.0
Sharpen Detail : 25
Sharpen Edge Masking : 0
Post Crop Vignette Amount : -38
Post Crop Vignette Midpoint : 0
Post Crop Vignette Feather : 90
Post Crop Vignette Roundness : +100
Post Crop Vignette Style : Highlight Priority
Post Crop Vignette Highlight Contrast : 0
Grain Amount : 0
Lens Profile Enable : 0
Lens Manual Distortion Amount : 0
Perspective Vertical : 0
Perspective Horizontal : 0
Perspective Rotate : 0.0
Perspective Scale : 100
Convert To Grayscale : False
Tone Curve Name : Linear
Camera Profile : Embedded
Lens Profile Setup : LensDefaults
Has Settings : True
Crop Top : 0
Crop Left : 0.070108
Crop Bottom : 1
Crop Right : 0.929892
Crop Angle : 4.09442
Crop Constrain To Warp : 0
Crop Width : 2553
Crop Height : 1696
Crop Unit : pixels
Has Crop : True
Already Applied : True
Tone Curve : 0, 0, 255, 255
Image Width : 300
Image Height : 199
Bits Per Sample : 8
Color Components : 3
Aperture : 8.0
Image Size : 300x199
Megapixels : 0.060
Scale Factor To 35 mm Equivalent : 1.5
Shutter Speed : 1/125
Create Date : 2011:08:21 10:49:33.00
Date/Time Original : 2011:08:21 10:49:33.00
Circle Of Confusion : 0.020 mm
Depth Of Field : 0.06 m (3.95 - 4.01 m)
Field Of View : 4.9 deg
Focal Length : 280.0 mm (35 mm equivalent: 420.0 mm)
Hyperfocal Distance : 489.25 m
Light Value : 12.0
Lens ID : AF-S VR Zoom-Nikkor 70-300mm f/4.5-5.6G IF-ED