Uber Exif Photo
By-line : Jason_Butler
Copyright Notice : 2013
Photometric Interpretation : RGB
Make : NIKON CORPORATION
Camera Model Name : NIKON D800E
Orientation : Horizontal (normal)
Samples Per Pixel : 3
Software : Adobe Photoshop CC 2014 (Windows)
Modify Date : 2014:12:27 14:57:34
Artist : Jason_Butler
Copyright : 2013
Exposure Time : 1/60
F Number : 11.0
Exposure Program : Manual
ISO : 100
Sensitivity Type : Recommended Exposure Index
Date/Time Original : 2014:05:06 06:54:15
Create Date : 2014:05:06 06:54:15
Shutter Speed Value : 1/60
Aperture Value : 11.0
Exposure Compensation : +5/3
Max Aperture Value : 1.0
Metering Mode : Multi-segment
Light Source : Fine Weather
Flash : Off, Did not fire
Focal Length : 35.0 mm
Color Space : sRGB
Exif Image Width : 2000
Exif Image Height : 872
Sensing Method : One-chip color area
Scene Type : Directly photographed
Custom Rendered : Normal
Exposure Mode : Manual
White Balance : Manual
Digital Zoom Ratio : 1
Focal Length In 35mm Format : 35 mm
Scene Capture Type : Landscape
Gain Control : None
Contrast : Normal
Saturation : Normal
Sharpness : Normal
Subject Distance Range : Unknown
Serial Number : 3011296
Lens Info : 0mm f/0
Lens Model : 0.0 mm f/0.0
Creator Tool : Adobe Photoshop Lightroom 4.1 (Windows)
Rating : 4
Format : image/jpeg
Lens : 0.0 mm f/0.0
Image Number : 14613
Date Created : 2014:05:06 06:54:15.004
Color Mode : RGB
ICC Profile Name : sRGB IEC61966-2.1
Transformation : Perspective
Virtual Focal Length : 0.598441
Virtual Image X Center : 0.307770
Virtual Image Y Center : 0.205403
Version : 7.1
Process Version : 6.7
Incremental Temperature : 0
Incremental Tint : 0
Luminance Smoothing : 0
Color Noise Reduction : 0
Vignette Amount : 0
Shadow Tint : 0
Red Hue : 0
Red Saturation : 0
Green Hue : 0
Green Saturation : 0
Blue Hue : 0
Blue Saturation : 0
Gray Mixer Red : -16
Gray Mixer Orange : +24
Gray Mixer Yellow : +4
Gray Mixer Green : -19
Gray Mixer Aqua : -27
Gray Mixer Blue : -24
Gray Mixer Purple : -20
Gray Mixer Magenta : +2
Split Toning Shadow Hue : 0
Split Toning Shadow Saturation : 0
Split Toning Highlight Hue : 0
Split Toning Highlight Saturation : 0
Split Toning Balance : 0
Parametric Shadows : 0
Parametric Darks : 0
Parametric Lights : 0
Parametric Highlights : 0
Parametric Shadow Split : 25
Parametric Midtone Split : 50
Parametric Highlight Split : 75
Sharpen Radius : +1.0
Sharpen Detail : 25
Sharpen Edge Masking : 0
Post Crop Vignette Amount : 0
Grain Amount : 0
Lens Profile Enable : 0
Lens Manual Distortion Amount : 0
Perspective Vertical : 0
Perspective Horizontal : 0
Perspective Rotate : 0.0
Perspective Scale : 100
Auto Lateral CA : 0
Exposure 2012 : +0.24
Contrast 2012 : +16
Highlights 2012 : -2
Shadows 2012 : -24
Whites 2012 : +8
Blacks 2012 : -24
Clarity 2012 : +24
Convert To Grayscale : True
Tone Curve Name 2012 : Linear
Camera Profile : Embedded
Lens Profile Setup : LensDefaults
Has Settings : True
Crop Top : 0.021638
Crop Left : 0.023166
Crop Bottom : 1
Crop Right : 0.957529
Crop Angle : 0
Crop Constrain To Warp : 0
Crop Width : 10862
Crop Height : 4734
Crop Unit : pixels
Has Crop : True
Already Applied : True
Creator : Jason_Butler
Rights : 2013
Tone Curve PV2012 : 0, 0, 255, 255
Tone Curve PV2012 Red : 0, 0, 255, 255
Tone Curve PV2012 Green : 0, 0, 255, 255
Tone Curve PV2012 Blue : 0, 0, 255, 255
Gradient Based Corr What : Correction
Gradient Based Corr Amount : 1.000000
Gradient Based Corr Active : true
Gradient Based Corr Saturation : -0.240000
Gradient Based Corr Sharpness : 0.000000
Gradient Based Corr Brightness : 0.000000
Gradient Based Corr Toning Hue : 0.000000
Gradient Based Corr Toning Saturation : 0.000000
Gradient Based Corr Exposure 2012 : -0.250000
Gradient Based Corr Contrast 2012 : 0.480000
Gradient Based Corr Highlights 2012 : -0.040000
Gradient Based Corr Shadows 2012 : -0.320000
Gradient Based Corr Clarity 2012 : 0.560000
Gradient Based Corr Luminance Noise : 0.000000
Gradient Based Corr Moire : 0.000000
Gradient Based Corr Defringe : 0.000000
Gradient Based Corr Temperature : 0.000000
Gradient Based Corr Tint : 0.000000
Gradient Based Corr Mask What : Mask/Gradient
Gradient Based Corr Mask Value : 1.000000
Gradient Based Corr Mask Zero X : 0.523167
Gradient Based Corr Mask Zero Y : 0.591963
Gradient Based Corr Mask Full X : 0.522523
Gradient Based Corr Mask Full Y : -0.003091
Image Width : 300
Image Height : 131
Bits Per Sample : 8
Color Components : 1
Aperture : 11.0
Image Size : 300x131
Megapixels : 0.039
Scale Factor To 35 mm Equivalent : 1.0
Shutter Speed : 1/60
Date/Time Original : 2014:05:06 06:54:15.40
Circle Of Confusion : 0.030 mm
Field Of View : 54.4 deg
Focal Length : 35.0 mm (35 mm equivalent: 35.0 mm)
Hyperfocal Distance : 3.71 m
Light Value : 12.8
Lens ID : 0.0mm f/0.0