Uber Exif Photo
By-line : MEL GALLANT
Copyright Notice : (C)MEL GALLANT2011 ALL RGTS RSRVD
Photometric Interpretation : RGB
Make : NIKON CORPORATION
Camera Model Name : NIKON D300
Orientation : Horizontal (normal)
Samples Per Pixel : 3
Planar Configuration : Chunky
Software : Adobe Photoshop CS4 Windows
Modify Date : 2015:10:06 16:57:17
Artist : MEL GALLANT
Copyright : (C)MEL GALLANT2011 ALL RGTS RSRVD
Exposure Time : 1/320
F Number : 9.0
Exposure Program : Program AE
ISO : 200
Date/Time Original : 2011:05:19 07:56:52
Create Date : 2011:05:19 07:56:52
Shutter Speed Value : 1/320
Aperture Value : 9.0
Exposure Compensation : 0
Max Aperture Value : 2.8
Subject Distance : 4294967295 m
Metering Mode : Multi-segment
Light Source : Fine Weather
Focal Length : 16.0 mm
User Comment : (c)MEL_GALLANT 2009 ALL RGTS RSVD
Color Space : Uncalibrated
Exif Image Width : 2000
Exif Image Height : 1328
Sensing Method : One-chip color area
Scene Type : Directly photographed
CFA Pattern : [Red,Green][Green,Blue]
Custom Rendered : Normal
Exposure Mode : Auto
White Balance : Manual
Digital Zoom Ratio : 1
Focal Length In 35mm Format : 24 mm
Scene Capture Type : Standard
Gain Control : None
Contrast : Normal
Saturation : Normal
Sharpness : Soft
Subject Distance Range : Unknown
Profile Description : ProPhoto RGB
Date/Time Digitized : 2011:05:19 07:56:52.25-03:00
Creator Tool : Ver.1.10
Rating : 0
Format : image/jpeg
Serial Number : 5006850
Lens Info : 16mm f/2.8
Lens : 16.0 mm f/2.8
Image Number : 4839
Raw File Name : R176-4755.NEF
Version : 5.7
Process Version : 5.0
Color Temperature : 5450
Tint : +1
Exposure : 0.00
Shadows : 5
Brightness : +44
Luminance Smoothing : 0
Color Noise Reduction : 0
Chromatic Aberration R : 0
Chromatic Aberration B : 0
Vignette Amount : 0
Shadow Tint : 0
Red Hue : 0
Red Saturation : 0
Green Hue : 0
Green Saturation : 0
Blue Hue : 0
Blue Saturation : 0
Fill Light : 21
Vibrance : 0
Highlight Recovery : 0
Clarity : 0
Defringe : 0
Hue Adjustment Red : 0
Hue Adjustment Orange : 0
Hue Adjustment Yellow : 0
Hue Adjustment Green : 0
Hue Adjustment Aqua : 0
Hue Adjustment Blue : 0
Hue Adjustment Purple : 0
Hue Adjustment Magenta : 0
Saturation Adjustment Red : 0
Saturation Adjustment Orange : 0
Saturation Adjustment Yellow : 0
Saturation Adjustment Green : 0
Saturation Adjustment Aqua : 0
Saturation Adjustment Blue : 0
Saturation Adjustment Purple : 0
Saturation Adjustment Magenta : 0
Luminance Adjustment Red : 0
Luminance Adjustment Orange : +22
Luminance Adjustment Yellow : 0
Luminance Adjustment Green : 0
Luminance Adjustment Aqua : 0
Luminance Adjustment Blue : 0
Luminance Adjustment Purple : 0
Luminance Adjustment Magenta : 0
Split Toning Shadow Hue : 0
Split Toning Shadow Saturation : 0
Split Toning Highlight Hue : 0
Split Toning Highlight Saturation : 0
Split Toning Balance : 0
Parametric Shadows : 0
Parametric Darks : 0
Parametric Lights : 0
Parametric Highlights : 0
Parametric Shadow Split : 25
Parametric Midtone Split : 50
Parametric Highlight Split : 75
Sharpen Radius : +0.5
Sharpen Detail : 0
Sharpen Edge Masking : 0
Post Crop Vignette Amount : 0
Grain Amount : 0
Convert To Grayscale : False
Tone Curve Name : Custom
Camera Profile : Adobe Standard
Has Settings : True
Has Crop : False
Already Applied : True
Sidecar For Extension : NEF
Color Mode : RGB
ICC Profile Name : ProPhoto RGB
Flash Fired : False
Flash Return : No return detection
Flash Mode : Unknown
Flash Function : False
Flash Red Eye Mode : False
Creator : MEL GALLANT
Rights : (C)MEL GALLANT2011 ALL RGTS RSRVD
Tone Curve : 0, 0, 31, 20, 63, 56, 128, 128, 193, 198, 255, 255
Image Width : 300
Image Height : 199
Bits Per Sample : 8
Color Components : 3
Aperture : 9.0
Image Size : 300x199
Megapixels : 0.060
Scale Factor To 35 mm Equivalent : 1.5
Shutter Speed : 1/320
Create Date : 2011:05:19 07:56:52.25
Date/Time Original : 2011:05:19 07:56:52.25
Modify Date : 2015:10:06 16:57:17.25
Flash : No Flash
Circle Of Confusion : 0.020 mm
Depth Of Field : inf (1.42 m - inf)
Field Of View : 73.7 deg
Focal Length : 16.0 mm (35 mm equivalent: 24.0 mm)
Hyperfocal Distance : 1.42 m
Light Value : 13.7
Lens ID : AF Fisheye Nikkor 16mm f/2.8D