Uber Exif Photo
Make : NIKON CORPORATION
Camera Model Name : NIKON D90
Software : Adobe Photoshop Lightroom 3.5 (Windows)
Modify Date : 2011:10:18 23:21:46
Exposure Time : 1/160
F Number : 8.0
Exposure Program : Aperture-priority AE
ISO : 200
Date/Time Original : 2011:08:04 18:21:53
Create Date : 2011:08:04 18:21:53
Shutter Speed Value : 1/160
Aperture Value : 8.0
Exposure Compensation : 0
Max Aperture Value : 5.7
Subject Distance : 11.9 m
Metering Mode : Center-weighted average
Light Source : Unknown
Flash : No Flash
Focal Length : 300.0 mm
User Comment : Copyright 2011 Jose Santos
Sensing Method : One-chip color area
Scene Type : Directly photographed
CFA Pattern : [Green,Blue][Red,Green]
Custom Rendered : Normal
Exposure Mode : Auto
White Balance : Manual
Digital Zoom Ratio : 1
Focal Length In 35mm Format : 450 mm
Scene Capture Type : Standard
Gain Control : None
Contrast : Normal
Saturation : High
Sharpness : Normal
Subject Distance Range : Unknown
Serial Number : 6529149
Lens Info : 70-300mm f/4.5-5.6
Lens Model : 70.0-300.0 mm f/4.5-5.6
Creator Tool : Adobe Photoshop Lightroom 3.5 (Windows)
Lens : 70.0-300.0 mm f/4.5-5.6
Image Number : 4516
Approximate Focus Distance : 11.9
Date Created : 2011:08:04 18:21:53.00
Version : 6.5
Process Version : 5.7
Color Temperature : 4950
Tint : -5
Exposure : 0.00
Shadows : 30
Brightness : +50
Luminance Smoothing : 0
Color Noise Reduction : 25
Chromatic Aberration R : 0
Chromatic Aberration B : 0
Vignette Amount : 0
Shadow Tint : 0
Red Hue : 0
Red Saturation : 0
Green Hue : 0
Green Saturation : 0
Blue Hue : 0
Blue Saturation : 0
Fill Light : 13
Highlight Recovery : 0
Clarity : 0
Defringe : 0
Gray Mixer Red : -12
Gray Mixer Orange : -21
Gray Mixer Yellow : -25
Gray Mixer Green : -28
Gray Mixer Aqua : -16
Gray Mixer Blue : +13
Gray Mixer Purple : +17
Gray Mixer Magenta : +3
Split Toning Shadow Hue : 0
Split Toning Shadow Saturation : 0
Split Toning Highlight Hue : 0
Split Toning Highlight Saturation : 0
Split Toning Balance : 0
Parametric Shadows : 0
Parametric Darks : 0
Parametric Lights : 0
Parametric Highlights : 0
Parametric Shadow Split : 25
Parametric Midtone Split : 50
Parametric Highlight Split : 75
Sharpen Radius : +1.0
Sharpen Detail : 25
Sharpen Edge Masking : 0
Post Crop Vignette Amount : 0
Grain Amount : 0
Color Noise Reduction Detail : 50
Lens Profile Enable : 0
Lens Manual Distortion Amount : 0
Perspective Vertical : 0
Perspective Horizontal : 0
Perspective Rotate : 0.0
Perspective Scale : 100
Convert To Grayscale : True
Tone Curve Name : Medium Contrast
Camera Profile : Adobe Standard
Lens Profile Setup : LensDefaults
Has Settings : True
Has Crop : False
Already Applied : True
Tone Curve : 0, 0, 32, 22, 64, 56, 128, 128, 192, 196, 255, 255
Image Width : 199
Image Height : 300
Bits Per Sample : 8
Color Components : 1
Aperture : 8.0
Image Size : 199x300
Megapixels : 0.060
Scale Factor To 35 mm Equivalent : 1.5
Shutter Speed : 1/160
Create Date : 2011:08:04 18:21:53.00
Date/Time Original : 2011:08:04 18:21:53.00
Circle Of Confusion : 0.020 mm
Depth Of Field : 0.49 m (11.66 - 12.15 m)
Field Of View : 4.6 deg
Focal Length : 300.0 mm (35 mm equivalent: 450.0 mm)
Hyperfocal Distance : 561.63 m
Light Value : 12.3
Lens ID : AF-S VR Zoom-Nikkor 70-300mm f/4.5-5.6G IF-ED