Uber Exif Photo
Object Name : Quiet, calm
Keywords : Benyk's Point, Lake Manitoba, canoe, reeds, summer, sunset, water, wilderness
By-line : Russ Beinder
Copyright Notice : © Russ Beinder
Copyright Flag : True
Make : NIKON CORPORATION
Camera Model Name : NIKON D700
Software : Adobe Photoshop Lightroom 5.6 (Windows)
Modify Date : 2014:11:17 23:17:26
Artist : Russ Beinder
Copyright : © Russ Beinder
Exposure Time : 1/500
F Number : 5.6
Exposure Program : Manual
ISO : 640
Date/Time Original : 2014:07:29 18:57:03
Create Date : 2014:07:29 18:57:03
Shutter Speed Value : 1/500
Aperture Value : 5.6
Exposure Compensation : 0
Max Aperture Value : 2.8
Metering Mode : Multi-segment
Light Source : Unknown
Flash : No Flash
Focal Length : 22.0 mm
Sensing Method : One-chip color area
Scene Type : Directly photographed
CFA Pattern : [Red,Green][Green,Blue]
Custom Rendered : Normal
Exposure Mode : Manual
White Balance : Auto
Digital Zoom Ratio : 1
Focal Length In 35mm Format : 22 mm
Scene Capture Type : Standard
Gain Control : Low gain up
Contrast : Normal
Saturation : Normal
Sharpness : Normal
Subject Distance Range : Unknown
Serial Number : 2046395
Lens Info : 14-24mm f/2.8
Lens Model : 14.0-24.0 mm f/2.8
Profile Description : sRGB IEC61966-2.1
Format : image/jpeg
Creator Tool : Adobe Photoshop Lightroom 5.6 (Windows)
Label : Red
Rating : 5
Lens : 14.0-24.0 mm f/2.8
Image Number : 119921
Approximate Focus Distance : 4294967295
Date Created : 2014:07:29 18:57:03.00
Marked : True
Version : 8.6
Process Version : 6.7
Auto White Version : 134348800
Color Temperature : 6300
Tint : +7
Luminance Smoothing : 0
Color Noise Reduction : 25
Vignette Amount : 0
Shadow Tint : 0
Red Hue : 0
Red Saturation : 0
Green Hue : 0
Green Saturation : 0
Blue Hue : 0
Blue Saturation : 0
Vibrance : 0
Hue Adjustment Red : 0
Hue Adjustment Orange : 0
Hue Adjustment Yellow : 0
Hue Adjustment Green : 0
Hue Adjustment Aqua : 0
Hue Adjustment Blue : 0
Hue Adjustment Purple : 0
Hue Adjustment Magenta : 0
Saturation Adjustment Red : 0
Saturation Adjustment Orange : 0
Saturation Adjustment Yellow : 0
Saturation Adjustment Green : 0
Saturation Adjustment Aqua : 0
Saturation Adjustment Blue : 0
Saturation Adjustment Purple : 0
Saturation Adjustment Magenta : 0
Luminance Adjustment Red : 0
Luminance Adjustment Orange : 0
Luminance Adjustment Yellow : 0
Luminance Adjustment Green : 0
Luminance Adjustment Aqua : 0
Luminance Adjustment Blue : 0
Luminance Adjustment Purple : 0
Luminance Adjustment Magenta : 0
Split Toning Shadow Hue : 0
Split Toning Shadow Saturation : 0
Split Toning Highlight Hue : 0
Split Toning Highlight Saturation : 0
Split Toning Balance : 0
Parametric Shadows : 0
Parametric Darks : 0
Parametric Lights : 0
Parametric Highlights : 0
Parametric Shadow Split : 25
Parametric Midtone Split : 50
Parametric Highlight Split : 75
Sharpen Radius : +1.0
Sharpen Detail : 25
Sharpen Edge Masking : 0
Post Crop Vignette Amount : 0
Grain Amount : 0
Color Noise Reduction Detail : 50
Color Noise Reduction Smoothness : 50
Lens Profile Enable : 1
Lens Manual Distortion Amount : 0
Perspective Vertical : 0
Perspective Horizontal : 0
Perspective Rotate : 0.0
Perspective Scale : 100
Perspective Aspect : 0
Perspective Upright : Off
Auto Lateral CA : 0
Exposure 2012 : 0.00
Contrast 2012 : 0
Highlights 2012 : 0
Shadows 2012 : +48
Whites 2012 : 0
Blacks 2012 : 0
Clarity 2012 : 0
Defringe Purple Amount : 0
Defringe Purple Hue Lo : 30
Defringe Purple Hue Hi : 70
Defringe Green Amount : 0
Defringe Green Hue Lo : 40
Defringe Green Hue Hi : 60
Convert To Grayscale : False
Tone Curve Name : Linear
Tone Curve Name 2012 : Linear
Camera Profile : Camera Standard v4
Lens Profile Setup : Custom
Lens Profile Name : Adobe (Nikon AF-S NIKKOR 14-24mm f/2.8G ED)
Lens Profile Filename : NIKON D3X (Nikon FX 14-24mm f2.8 G ED) - RAW.lcp
Lens Profile Distortion Scale : 100
Lens Profile Chromatic Aberration Scale : 100
Lens Profile Vignetting Scale : 100
Has Settings : True
Crop Top : 0.01948
Crop Left : 0.005427
Crop Bottom : 0.98052
Crop Right : 0.994573
Crop Angle : -0.75741
Crop Constrain To Warp : 0
Has Crop : True
Already Applied : True
Creator : Russ Beinder
Title : Quiet, calm
Rights : © Russ Beinder
Subject : Benyk's Point, Lake Manitoba, canoe, reeds, summer, sunset, water, wilderness
Tone Curve : 0, 0, 255, 255
Tone Curve Red : 0, 0, 255, 255
Tone Curve Green : 0, 0, 255, 255
Tone Curve Blue : 0, 0, 255, 255
Tone Curve PV2012 : 0, 0, 255, 255
Tone Curve PV2012 Red : 0, 0, 255, 255
Tone Curve PV2012 Green : 0, 0, 255, 255
Tone Curve PV2012 Blue : 0, 0, 255, 255
Gradient Based Corr What : Correction
Gradient Based Corr Amount : 1.000000
Gradient Based Corr Active : true
Gradient Based Corr Saturation : 0.000000
Gradient Based Corr Sharpness : 0.000000
Gradient Based Corr Brightness : 0.000000
Gradient Based Corr Toning Hue : 0.000000
Gradient Based Corr Toning Saturation : 0.000000
Gradient Based Corr Exposure 2012 : -0.250000
Gradient Based Corr Contrast 2012 : 0.000000
Gradient Based Corr Highlights 2012 : 0.000000
Gradient Based Corr Shadows 2012 : 0.000000
Gradient Based Corr Clarity 2012 : 0.000000
Gradient Based Corr Luminance Noise : 0.000000
Gradient Based Corr Moire : 0.000000
Gradient Based Corr Defringe : 0.000000
Gradient Based Corr Temperature : 0.000000
Gradient Based Corr Tint : 0.000000
Gradient Based Corr Mask What : Mask/Gradient
Gradient Based Corr Mask Value : 1.000000
Gradient Based Corr Mask Zero X : 0.425622
Gradient Based Corr Mask Zero Y : 0.511742
Gradient Based Corr Mask Full X : 0.427757
Gradient Based Corr Mask Full Y : 0.999843
Image Width : 300
Image Height : 200
Bits Per Sample : 8
Color Components : 3
Aperture : 5.6
Image Size : 300x200
Megapixels : 0.060
Scale Factor To 35 mm Equivalent : 1.0
Shutter Speed : 1/500
Create Date : 2014:07:29 18:57:03.00
Date/Time Original : 2014:07:29 18:57:03.00
Circle Of Confusion : 0.030 mm
Depth Of Field : inf (2.88 m - inf)
Field Of View : 78.6 deg
Focal Length : 22.0 mm (35 mm equivalent: 22.0 mm)
Hyperfocal Distance : 2.88 m
Light Value : 11.3
Lens ID : AF-S Zoom-Nikkor 14-24mm f/2.8G ED