Uber Exif Photo
By-line : Michael Weaver
Country-Primary Location Name : USA
Copyright Notice : (C) 2011 Michael Weaver, All right reserved
Copyright Flag : True
Make : NIKON CORPORATION
Camera Model Name : NIKON D3S
Software : Adobe Photoshop Lightroom 3.4.1
Modify Date : 2011:09:10 08:34:29
Artist : Michael Weaver
Copyright : (C) 2011 Michael Weaver, All right reserved
Exposure Time : 1/20
F Number : 8.0
Exposure Program : Shutter speed priority AE
ISO : 6400
Date/Time Original : 2011:09:09 20:00:48
Create Date : 2011:09:09 20:00:48
Shutter Speed Value : 1/20
Aperture Value : 8.0
Exposure Compensation : 0
Max Aperture Value : 2.8
Subject Distance : 1.19 m
Metering Mode : Center-weighted average
Light Source : Unknown
Flash : No Flash
Focal Length : 28.0 mm
Sensing Method : One-chip color area
Scene Type : Directly photographed
CFA Pattern : [Red,Green][Green,Blue]
Custom Rendered : Normal
Exposure Mode : Auto
White Balance : Auto
Digital Zoom Ratio : 1
Focal Length In 35mm Format : 28 mm
Scene Capture Type : Standard
Gain Control : High gain up
Contrast : Normal
Saturation : Normal
Sharpness : Normal
Subject Distance Range : Unknown
Serial Number : 2004556
Lens Info : 17-35mm f/2.8
Lens Model : 17.0-35.0 mm f/2.8
Profile Description : Adobe RGB (1998)
Creator Tool : Adobe Photoshop Lightroom 3.4.1
Lens : 17.0-35.0 mm f/2.8
Image Number : 23845
Approximate Focus Distance : 1.19
Date Created : 2011:09:09 20:00:48.57
Country : USA
Credit : (C) 2011 Michael Weaver, All rights reserved
Marked : True
Version : 6.4.1
Process Version : 5.7
Color Temperature : 2750
Tint : -5
Exposure : +2.44
Shadows : 3
Brightness : +19
Luminance Smoothing : 74
Color Noise Reduction : 25
Chromatic Aberration R : 0
Chromatic Aberration B : 0
Vignette Amount : 0
Shadow Tint : 0
Red Hue : 0
Red Saturation : 0
Green Hue : 0
Green Saturation : 0
Blue Hue : 0
Blue Saturation : 0
Fill Light : 54
Vibrance : 0
Highlight Recovery : 70
Clarity : 0
Defringe : 0
Hue Adjustment Red : 0
Hue Adjustment Orange : 0
Hue Adjustment Yellow : 0
Hue Adjustment Green : 0
Hue Adjustment Aqua : 0
Hue Adjustment Blue : 0
Hue Adjustment Purple : 0
Hue Adjustment Magenta : 0
Saturation Adjustment Red : 0
Saturation Adjustment Orange : 0
Saturation Adjustment Yellow : 0
Saturation Adjustment Green : 0
Saturation Adjustment Aqua : 0
Saturation Adjustment Blue : 0
Saturation Adjustment Purple : 0
Saturation Adjustment Magenta : 0
Luminance Adjustment Red : 0
Luminance Adjustment Orange : 0
Luminance Adjustment Yellow : 0
Luminance Adjustment Green : 0
Luminance Adjustment Aqua : 0
Luminance Adjustment Blue : 0
Luminance Adjustment Purple : 0
Luminance Adjustment Magenta : 0
Split Toning Shadow Hue : 0
Split Toning Shadow Saturation : 0
Split Toning Highlight Hue : 0
Split Toning Highlight Saturation : 0
Split Toning Balance : 0
Parametric Shadows : +50
Parametric Darks : +40
Parametric Lights : -40
Parametric Highlights : -50
Parametric Shadow Split : 25
Parametric Midtone Split : 50
Parametric Highlight Split : 75
Sharpen Radius : +1.0
Sharpen Detail : 25
Sharpen Edge Masking : 0
Post Crop Vignette Amount : 0
Grain Amount : 0
Luminance Noise Reduction Detail : 60
Color Noise Reduction Detail : 50
Luminance Noise Reduction Contrast : 51
Lens Profile Enable : 1
Lens Manual Distortion Amount : 0
Perspective Vertical : 0
Perspective Horizontal : 0
Perspective Rotate : 0.0
Perspective Scale : 100
Convert To Grayscale : False
Tone Curve Name : Medium Contrast
Camera Profile : Adobe Standard
Lens Profile Setup : LensDefaults
Lens Profile Name : Adobe (Nikon AF-S Zoom-Nikkor 17-35mm f/2.8D IF-ED)
Lens Profile Filename : NIKON D3X (Nikon AF-S Zoom-Nikkor 17-35mm f2.8D IF-ED) - RAW.lcp
Lens Profile Distortion Scale : 100
Lens Profile Chromatic Aberration Scale : 100
Lens Profile Vignetting Scale : 100
Has Settings : True
Crop Top : 0.096379
Crop Left : 0.276295
Crop Bottom : 0.992014
Crop Right : 0.901991
Crop Angle : 2.143
Crop Constrain To Warp : 0
Crop Width : 2756
Crop Height : 2435
Crop Unit : pixels
Has Crop : True
Already Applied : True
Creator : Michael Weaver
Rights : (C) 2011 Michael Weaver, All right reserved
Creator Postal Code : 62031
Creator Work Email : michaelrweaver@gmail.com
Creator Work Telephone : 618-376-3154
Creator Region : IL
Creator Country : USA
Creator City : Fieldon
Creator Address : 25670 Dark Hollow Road
Creator Work URL : michaelweaver.zenfolio.com
Usage Terms : No use without written permission.
Tone Curve : 0, 0, 32, 22, 64, 56, 128, 128, 192, 196, 255, 255
Paint Correction What : Correction
Paint Correction Amount : 1.000000
Paint Correction Active : true
Paint Correction Exposure : -0.537000
Paint Correction Saturation : 0.122000
Paint Correction Contrast : 0.024000
Paint Correction Clarity : 0.293000
Paint Correction Sharpness : 0.220000
Paint Correction Brightness : -0.488000
Paint Correction Toning Hue : 61.000000
Paint Correction Toning Saturation : 0.010000
Paint Correction Mask What : Mask/Paint
Paint Correction Mask Value : 1.000000
Paint Correction Mask Radius : 0.108459
Paint Correction Mask Flow : 0.705000
Paint Correction Mask Center Weight : 0.000000
Image Width : 300
Image Height : 265
Bits Per Sample : 8
Color Components : 3
Aperture : 8.0
Image Size : 300x265
Megapixels : 0.080
Scale Factor To 35 mm Equivalent : 1.0
Shutter Speed : 1/20
Create Date : 2011:09:09 20:00:48.57
Date/Time Original : 2011:09:09 20:00:48.57
Circle Of Confusion : 0.030 mm
Depth Of Field : 0.97 m (0.88 - 1.85 m)
Field Of View : 65.5 deg
Focal Length : 28.0 mm (35 mm equivalent: 28.0 mm)
Hyperfocal Distance : 3.26 m
Light Value : 4.3
Lens ID : AF-S Nikkor 17-35mm f/2.8D IF-ED