Uber Exif Photo
Make : NIKON CORPORATION
Camera Model Name : NIKON D300
Orientation : Horizontal (normal)
Software : Adobe Photoshop CS4 Windows
Modify Date : 2012:06:21 16:41:37
Exposure Time : 1/640
F Number : 2.8
Exposure Program : Aperture-priority AE
ISO : 200
Date/Time Original : 2012:06:20 19:35:14
Create Date : 2012:06:20 19:35:14
Shutter Speed Value : 1/640
Aperture Value : 2.8
Exposure Compensation : 0
Max Aperture Value : 1.7
Subject Distance : 1.78 m
Metering Mode : Multi-segment
Light Source : Unknown
Focal Length : 85.0 mm
Color Space : sRGB
Exif Image Width : 797
Exif Image Height : 1200
Sensing Method : One-chip color area
Scene Type : Directly photographed
CFA Pattern : [Red,Green][Green,Blue]
Custom Rendered : Normal
Exposure Mode : Auto
White Balance : Auto
Digital Zoom Ratio : 1
Focal Length In 35mm Format : 127 mm
Scene Capture Type : Standard
Gain Control : None
Contrast : Normal
Saturation : Normal
Sharpness : Normal
Subject Distance Range : Unknown
Serial Number : 3012738
Lens Info : 85mm f/1.8
Lens Model : 85.0 mm f/1.8
Profile Description : sRGB IEC61966-2.1
Creator Tool : Adobe Photoshop Lightroom 3.5 (Windows)
Lens : 85.0 mm f/1.8
Image Number : 16472
Approximate Focus Distance : 1.78
Date Created : 2012:06:20
Color Mode : RGB
ICC Profile Name : sRGB IEC61966-2.1
Version : 6.5
Process Version : 5.7
Color Temperature : 3250
Tint : -24
Exposure : +0.14
Shadows : 8
Brightness : +50
Luminance Smoothing : 38
Color Noise Reduction : 23
Chromatic Aberration R : 0
Chromatic Aberration B : 0
Vignette Amount : 0
Shadow Tint : 0
Red Hue : 0
Red Saturation : 0
Green Hue : 0
Green Saturation : 0
Blue Hue : 0
Blue Saturation : 0
Fill Light : 0
Vibrance : 0
Highlight Recovery : 8
Clarity : +22
Defringe : 0
Hue Adjustment Red : -2
Hue Adjustment Orange : +9
Hue Adjustment Yellow : 0
Hue Adjustment Green : +50
Hue Adjustment Aqua : +45
Hue Adjustment Blue : 0
Hue Adjustment Purple : 0
Hue Adjustment Magenta : 0
Saturation Adjustment Red : -23
Saturation Adjustment Orange : +11
Saturation Adjustment Yellow : -48
Saturation Adjustment Green : 0
Saturation Adjustment Aqua : 0
Saturation Adjustment Blue : 0
Saturation Adjustment Purple : 0
Saturation Adjustment Magenta : 0
Luminance Adjustment Red : +75
Luminance Adjustment Orange : +2
Luminance Adjustment Yellow : 0
Luminance Adjustment Green : 0
Luminance Adjustment Aqua : 0
Luminance Adjustment Blue : 0
Luminance Adjustment Purple : 0
Luminance Adjustment Magenta : 0
Split Toning Shadow Hue : 0
Split Toning Shadow Saturation : 0
Split Toning Highlight Hue : 0
Split Toning Highlight Saturation : 0
Split Toning Balance : +1
Parametric Shadows : 0
Parametric Darks : 0
Parametric Lights : 0
Parametric Highlights : 0
Parametric Shadow Split : 25
Parametric Midtone Split : 50
Parametric Highlight Split : 75
Sharpen Radius : +1.0
Sharpen Detail : 25
Sharpen Edge Masking : 0
Post Crop Vignette Amount : -40
Post Crop Vignette Midpoint : 44
Post Crop Vignette Feather : 51
Post Crop Vignette Roundness : +38
Post Crop Vignette Style : Highlight Priority
Post Crop Vignette Highlight Contrast : 0
Grain Amount : 0
Luminance Noise Reduction Detail : 50
Color Noise Reduction Detail : 51
Luminance Noise Reduction Contrast : 18
Lens Profile Enable : 0
Lens Manual Distortion Amount : 0
Perspective Vertical : 0
Perspective Horizontal : 0
Perspective Rotate : 0.0
Perspective Scale : 100
Convert To Grayscale : False
Tone Curve Name : Medium Contrast
Camera Profile : Camera D2X Mode 2
Lens Profile Setup : LensDefaults
Has Settings : True
Has Crop : False
Already Applied : True
Date/Time Digitized : 2012:06:20 19:35:14+02:00
Format : image/jpeg
Tone Curve : 0, 0, 32, 22, 64, 56, 128, 128, 192, 196, 255, 255
Paint Correction What : Correction
Paint Correction Amount : 1.000000
Paint Correction Active : true
Paint Correction Exposure : 0.000000
Paint Correction Saturation : 0.000000
Paint Correction Contrast : 0.000000
Paint Correction Clarity : -1.000000
Paint Correction Sharpness : 0.250000
Paint Correction Brightness : 0.000000
Paint Correction Toning Hue : 240.000000
Paint Correction Toning Saturation : 0.000000
Paint Correction Mask What : Mask/Paint
Paint Correction Mask Value : 1.000000
Paint Correction Mask Radius : 0.073417
Paint Correction Mask Flow : 1.000000
Paint Correction Mask Center Weight : 0.000000
Flash Fired : False
Flash Return : No return detection
Flash Mode : Unknown
Flash Function : False
Flash Red Eye Mode : False
Image Width : 199
Image Height : 300
Bits Per Sample : 8
Color Components : 3
Aperture : 2.8
Image Size : 199x300
Megapixels : 0.060
Scale Factor To 35 mm Equivalent : 1.5
Shutter Speed : 1/640
Create Date : 2012:06:20 19:35:14.43
Date/Time Original : 2012:06:20 19:35:14.43
Flash : No Flash
Circle Of Confusion : 0.020 mm
Depth Of Field : 0.05 m (1.76 - 1.80 m)
Field Of View : 16.1 deg
Focal Length : 85.0 mm (35 mm equivalent: 127.0 mm)
Hyperfocal Distance : 128.31 m
Light Value : 11.3
Lens ID : AF Nikkor 85mm f/1.8D