Uber Exif Photo
By-line : Phil Bishop
Keywords : Narcissus Psudo Narcissus, Stockings Spring Wood
Copyright Notice : Phil Bishop
Copyright Flag : True
Make : NIKON CORPORATION
Camera Model Name : NIKON D3S
Orientation : Horizontal (normal)
Software : Adobe Photoshop CS5 Macintosh
Modify Date : 2011:04:10 14:54:49
Artist : Phil Bishop
Copyright : Phil Bishop
Exposure Time : 1/320
F Number : 5.6
Exposure Program : Aperture-priority AE
ISO : 400
Sensitivity Type : Unknown
Date/Time Original : 2011:04:10 09:12:34
Create Date : 2011:04:10 09:12:34
Shutter Speed Value : 1/320
Aperture Value : 5.6
Exposure Compensation : -2/3
Max Aperture Value : 1.0
Metering Mode : Multi-segment
Light Source : Unknown
Flash : No Flash
Focal Length : 100.0 mm
Color Space : Uncalibrated
Exif Image Width : 1200
Exif Image Height : 1500
Sensing Method : One-chip color area
Scene Type : Directly photographed
CFA Pattern : [Red,Green][Green,Blue]
Custom Rendered : Normal
Exposure Mode : Auto
White Balance : Auto
Digital Zoom Ratio : 1
Focal Length In 35mm Format : 100 mm
Scene Capture Type : Standard
Gain Control : Low gain up
Contrast : Normal
Saturation : Normal
Sharpness : Normal
Subject Distance Range : Unknown
Serial Number : 2038428
Lens Info : 0mm f/0
Lens Model : 0.0 mm f/0.0
Profile Description : ProPhoto RGB
Rating : 0
Label : Metadata Date : 2011:04:10 14:54:49+01:00
Creator Tool : Ver.1.01
Image Number : 192
Lens : 0.0 mm f/0.0
Marked : True
Format : image/jpeg
Color Mode : RGB
ICC Profile Name : ProPhoto RGB
Date Created : 2011:04:10 09:12:34.024
Raw File Name : _PB30191.NEF
Version : 6.3
Process Version : 5.7
Color Temperature : 4200
Tint : +31
Exposure : -0.35
Shadows : 5
Brightness : +51
Luminance Smoothing : 0
Color Noise Reduction : 25
Chromatic Aberration R : 0
Chromatic Aberration B : 0
Vignette Amount : 0
Shadow Tint : 0
Red Hue : 0
Red Saturation : 0
Green Hue : 0
Green Saturation : 0
Blue Hue : 0
Blue Saturation : 0
Fill Light : 18
Vibrance : 0
Highlight Recovery : 43
Clarity : 0
Defringe : 0
Hue Adjustment Red : 0
Hue Adjustment Orange : 0
Hue Adjustment Yellow : 0
Hue Adjustment Green : 0
Hue Adjustment Aqua : 0
Hue Adjustment Blue : 0
Hue Adjustment Purple : 0
Hue Adjustment Magenta : 0
Saturation Adjustment Red : 0
Saturation Adjustment Orange : 0
Saturation Adjustment Yellow : 0
Saturation Adjustment Green : 0
Saturation Adjustment Aqua : 0
Saturation Adjustment Blue : 0
Saturation Adjustment Purple : 0
Saturation Adjustment Magenta : 0
Luminance Adjustment Red : 0
Luminance Adjustment Orange : 0
Luminance Adjustment Yellow : 0
Luminance Adjustment Green : 0
Luminance Adjustment Aqua : 0
Luminance Adjustment Blue : 0
Luminance Adjustment Purple : 0
Luminance Adjustment Magenta : 0
Split Toning Shadow Hue : 0
Split Toning Shadow Saturation : 0
Split Toning Highlight Hue : 0
Split Toning Highlight Saturation : 0
Split Toning Balance : 0
Parametric Shadows : 0
Parametric Darks : 0
Parametric Lights : 0
Parametric Highlights : 0
Parametric Shadow Split : 25
Parametric Midtone Split : 50
Parametric Highlight Split : 75
Sharpen Radius : +1.0
Sharpen Detail : 25
Sharpen Edge Masking : 0
Post Crop Vignette Amount : 0
Grain Amount : 0
Color Noise Reduction Detail : 50
Lens Profile Enable : 0
Lens Manual Distortion Amount : 0
Perspective Vertical : 0
Perspective Horizontal : 0
Perspective Rotate : 0.0
Perspective Scale : 100
Convert To Grayscale : False
Tone Curve Name : Medium Contrast
Camera Profile : Adobe Standard
Lens Profile Setup : LensDefaults
Has Settings : True
Crop Top : 0
Crop Left : 0
Crop Bottom : 1
Crop Right : 1
Crop Angle : 0
Crop Constrain To Warp : 0
Has Crop : True
Already Applied : True
Creator Work URL : http://philbishopsbirdingblog.b.ogspot.com
Creator Work Email : PBishop86@gmail.com
Subject : Narcissus Psudo Narcissus, Stockings Spring Wood
Rights : Phil Bishop
Creator : Phil Bishop
Hierarchical Subject : Narcissus Psudo Narcissus, Stockings Spring Wood
Tone Curve : 0, 0, 32, 22, 64, 56, 128, 128, 192, 196, 255, 255
Image Width : 240
Image Height : 300
Bits Per Sample : 8
Color Components : 3
Aperture : 5.6
Image Size : 240x300
Megapixels : 0.072
Scale Factor To 35 mm Equivalent : 1.0
Shutter Speed : 1/320
Create Date : 2011:04:10 09:12:34.24
Date/Time Original : 2011:04:10 09:12:34.24
Modify Date : 2011:04:10 14:54:49.24
Circle Of Confusion : 0.030 mm
Field Of View : 20.4 deg
Focal Length : 100.0 mm (35 mm equivalent: 100.0 mm)
Hyperfocal Distance : 59.43 m
Light Value : 11.3
Lens ID : 0.0mm f/0.0