Uber Exif Photo
By-line : Andre DELHAYE
Copyright Notice : Andre DELHAYE
Make : NIKON CORPORATION
Camera Model Name : NIKON D700
Software : Adobe Photoshop Lightroom 3.4
Modify Date : 2011:05:20 17:34:56
Artist : Andre DELHAYE
Copyright : Andre DELHAYE
Exposure Time : 1/640
F Number : 1.4
Exposure Program : Aperture-priority AE
ISO : 400
Date/Time Original : 2011:05:20 13:13:24
Create Date : 2011:05:20 13:13:24
Shutter Speed Value : 1/640
Aperture Value : 1.4
Exposure Compensation : 0
Max Aperture Value : 1.4
Subject Distance : 0.45 m
Metering Mode : Multi-segment
Light Source : Unknown
Flash : No Flash
Focal Length : 50.0 mm
Sensing Method : One-chip color area
Scene Type : Directly photographed
CFA Pattern : [Red,Green][Green,Blue]
Custom Rendered : Normal
Exposure Mode : Auto
White Balance : Auto
Digital Zoom Ratio : 1
Focal Length In 35mm Format : 50 mm
Scene Capture Type : Standard
Gain Control : Low gain up
Contrast : Normal
Saturation : Normal
Sharpness : Normal
Subject Distance Range : Unknown
Serial Number : 2130516
Lens Info : 50mm f/1.4
Lens Model : 50.0 mm f/1.4
Profile Description : sRGB IEC61966-2.1
Creator Tool : Adobe Photoshop Lightroom 3.4
Lens : 50.0 mm f/1.4
Image Number : 25297
Approximate Focus Distance : 0.45
Date Created : 2011:05:20 13:13:24.55
Version : 6.4
Process Version : 5.7
Color Temperature : 6500
Tint : +10
Exposure : -0.60
Shadows : 0
Brightness : +52
Luminance Smoothing : 50
Color Noise Reduction : 10
Chromatic Aberration R : 0
Chromatic Aberration B : 0
Vignette Amount : 0
Shadow Tint : +8
Red Hue : +96
Red Saturation : +3
Green Hue : +11
Green Saturation : +25
Blue Hue : +11
Blue Saturation : -70
Fill Light : 0
Vibrance : -35
Highlight Recovery : 93
Clarity : +61
Defringe : 0
Hue Adjustment Red : 0
Hue Adjustment Orange : 0
Hue Adjustment Yellow : 0
Hue Adjustment Green : 0
Hue Adjustment Aqua : 0
Hue Adjustment Blue : 0
Hue Adjustment Purple : 0
Hue Adjustment Magenta : 0
Saturation Adjustment Red : +21
Saturation Adjustment Orange : 0
Saturation Adjustment Yellow : 0
Saturation Adjustment Green : 0
Saturation Adjustment Aqua : 0
Saturation Adjustment Blue : -68
Saturation Adjustment Purple : 0
Saturation Adjustment Magenta : 0
Luminance Adjustment Red : +17
Luminance Adjustment Orange : +22
Luminance Adjustment Yellow : +26
Luminance Adjustment Green : 0
Luminance Adjustment Aqua : 0
Luminance Adjustment Blue : 0
Luminance Adjustment Purple : 0
Luminance Adjustment Magenta : 0
Split Toning Shadow Hue : 205
Split Toning Shadow Saturation : 39
Split Toning Highlight Hue : 54
Split Toning Highlight Saturation : 51
Split Toning Balance : +41
Parametric Shadows : +23
Parametric Darks : +46
Parametric Lights : +89
Parametric Highlights : -29
Parametric Shadow Split : 25
Parametric Midtone Split : 50
Parametric Highlight Split : 75
Sharpen Radius : +0.5
Sharpen Detail : 0
Sharpen Edge Masking : 0
Post Crop Vignette Amount : -38
Post Crop Vignette Midpoint : 0
Post Crop Vignette Feather : 100
Post Crop Vignette Roundness : +100
Post Crop Vignette Style : Highlight Priority
Post Crop Vignette Highlight Contrast : 65
Grain Amount : 0
Luminance Noise Reduction Detail : 0
Color Noise Reduction Detail : 50
Luminance Noise Reduction Contrast : 0
Lens Profile Enable : 0
Lens Manual Distortion Amount : 0
Perspective Vertical : 0
Perspective Horizontal : 0
Perspective Rotate : 0.0
Perspective Scale : 100
Convert To Grayscale : False
Tone Curve Name : Custom
Camera Profile : Adobe Standard
Lens Profile Setup : LensDefaults
Has Settings : True
Crop Top : 0
Crop Left : 0.026941
Crop Bottom : 1
Crop Right : 0.809901
Crop Angle : 1.70037
Crop Constrain To Warp : 0
Crop Width : 3414
Crop Height : 2732
Crop Unit : pixels
Has Crop : True
Already Applied : True
Creator : Andre DELHAYE
Rights : Andre DELHAYE
Tone Curve : 0, 0, 32, 22, 64, 56, 127, 125, 192, 196, 255, 255
Gradient Based Corr What : Correction
Gradient Based Corr Amount : 1.000000
Gradient Based Corr Active : true
Gradient Based Corr Exposure : -0.090909
Gradient Based Corr Saturation : 0.149425
Gradient Based Corr Contrast : 0.149425
Gradient Based Corr Clarity : 0.346322
Gradient Based Corr Sharpness : 0.000000
Gradient Based Corr Brightness : -0.049540
Gradient Based Corr Toning Hue : 73.000000
Gradient Based Corr Toning Saturation : 0.000000
Gradient Based Corr Mask What : Mask/Gradient
Gradient Based Corr Mask Value : 1.000000
Gradient Based Corr Mask Zero X : 0.457681
Gradient Based Corr Mask Zero Y : 0.555485
Gradient Based Corr Mask Full X : 0.457150
Gradient Based Corr Mask Full Y : 0.996457
Image Width : 300
Image Height : 240
Bits Per Sample : 8
Color Components : 3
Aperture : 1.4
Image Size : 300x240
Megapixels : 0.072
Scale Factor To 35 mm Equivalent : 1.0
Shutter Speed : 1/640
Create Date : 2011:05:20 13:13:24.55
Date/Time Original : 2011:05:20 13:13:24.55
Circle Of Confusion : 0.030 mm
Depth Of Field : 0.006 m (0.447 - 0.453 m)
Field Of View : 39.6 deg
Focal Length : 50.0 mm (35 mm equivalent: 50.0 mm)
Hyperfocal Distance : 59.43 m
Light Value : 8.3
Lens ID : AF-S Nikkor 50mm f/1.4G