Uber Exif Photo
Make : NIKON CORPORATION
Camera Model Name : NIKON D750
Orientation : Horizontal (normal)
Software : Adobe Photoshop CC 2015 (Macintosh)
Modify Date : 2016:02:12 08:48:37
Exposure Time : 1/10
F Number : 22.0
Exposure Program : Manual
ISO : 125
Sensitivity Type : Recommended Exposure Index
Date/Time Original : 2016:02:12 08:00:13
Create Date : 2016:02:12 08:00:13
Shutter Speed Value : 1/10
Aperture Value : 22.0
Exposure Compensation : 0
Max Aperture Value : 4.3
Metering Mode : Center-weighted average
Light Source : Fine Weather
Flash : Off, Did not fire
Focal Length : 105.0 mm
Color Space : Uncalibrated
Exif Image Width : 1001
Exif Image Height : 1500
Sensing Method : One-chip color area
Scene Type : Directly photographed
CFA Pattern : [Red,Green][Green,Blue]
Custom Rendered : Normal
Exposure Mode : Manual
White Balance : Manual
Digital Zoom Ratio : 1.2
Focal Length In 35mm Format : 126 mm
Scene Capture Type : Standard
Gain Control : None
Contrast : Normal
Saturation : Normal
Sharpness : Normal
Subject Distance Range : Unknown
Serial Number : 3072765
Lens Info : 105mm f/2.8
Lens Model : 105.0 mm f/2.8
Profile Description : Adobe RGB (1998)
Creator Tool : NIKON D750 Ver.1.10
Rating : 0
Lens : 105.0 mm f/2.8
Image Number : 5804
Approximate Focus Distance : 0.33
Date Created : 2016:02:12 08:00:13.006
Color Mode : RGB
ICC Profile Name : Adobe RGB (1998)
Format : image/jpeg
Raw File Name : DSC_4935.JPG
Version : 9.3.1
Process Version : 6.7
Auto White Version : 134348800
Incremental Temperature : +23
Incremental Tint : 0
Luminance Smoothing : 0
Color Noise Reduction : 0
Vignette Amount : 0
Shadow Tint : 0
Red Hue : 0
Red Saturation : 0
Green Hue : 0
Green Saturation : 0
Blue Hue : 0
Blue Saturation : 0
Vibrance : 0
Hue Adjustment Red : -5
Hue Adjustment Orange : 0
Hue Adjustment Yellow : -25
Hue Adjustment Green : -6
Hue Adjustment Aqua : -8
Hue Adjustment Blue : 0
Hue Adjustment Purple : 0
Hue Adjustment Magenta : 0
Saturation Adjustment Red : +6
Saturation Adjustment Orange : +11
Saturation Adjustment Yellow : -9
Saturation Adjustment Green : -18
Saturation Adjustment Aqua : 0
Saturation Adjustment Blue : 0
Saturation Adjustment Purple : 0
Saturation Adjustment Magenta : 0
Luminance Adjustment Red : -21
Luminance Adjustment Orange : -20
Luminance Adjustment Yellow : -11
Luminance Adjustment Green : -23
Luminance Adjustment Aqua : 0
Luminance Adjustment Blue : 0
Luminance Adjustment Purple : 0
Luminance Adjustment Magenta : 0
Split Toning Shadow Hue : 0
Split Toning Shadow Saturation : 0
Split Toning Highlight Hue : 0
Split Toning Highlight Saturation : 0
Split Toning Balance : 0
Parametric Shadows : 0
Parametric Darks : 0
Parametric Lights : 0
Parametric Highlights : 0
Parametric Shadow Split : 25
Parametric Midtone Split : 50
Parametric Highlight Split : 75
Sharpen Radius : +1.0
Sharpen Detail : 25
Sharpen Edge Masking : 0
Post Crop Vignette Amount : 0
Grain Amount : 0
Lens Profile Enable : 0
Lens Manual Distortion Amount : 0
Perspective Vertical : 0
Perspective Horizontal : 0
Perspective Rotate : 0.0
Perspective Scale : 100
Perspective Aspect : 0
Perspective Upright : Off
Auto Lateral CA : 0
Exposure 2012 : +1.60
Contrast 2012 : -7
Highlights 2012 : -60
Shadows 2012 : -18
Whites 2012 : -67
Blacks 2012 : -37
Clarity 2012 : +63
Defringe Purple Amount : 0
Defringe Purple Hue Lo : 30
Defringe Purple Hue Hi : 70
Defringe Green Amount : 0
Defringe Green Hue Lo : 40
Defringe Green Hue Hi : 60
Dehaze : 0
Tone Map Strength : 0
Convert To Grayscale : False
Tone Curve Name : Linear
Tone Curve Name 2012 : Linear
Camera Profile : Embedded
Lens Profile Setup : LensDefaults
Has Settings : True
Has Crop : False
Already Applied : True
Tone Curve : 0, 0, 255, 255
Tone Curve Red : 0, 0, 255, 255
Tone Curve Green : 0, 0, 255, 255
Tone Curve Blue : 0, 0, 255, 255
Tone Curve PV2012 : 0, 0, 255, 255
Tone Curve PV2012 Red : 0, 0, 255, 255
Tone Curve PV2012 Green : 0, 0, 255, 255
Tone Curve PV2012 Blue : 0, 0, 255, 255
Image Width : 300
Image Height : 450
Bits Per Sample : 8
Color Components : 3
Aperture : 22.0
Image Size : 300x450
Megapixels : 0.135
Scale Factor To 35 mm Equivalent : 1.2
Shutter Speed : 1/10
Create Date : 2016:02:12 08:00:13.06
Date/Time Original : 2016:02:12 08:00:13.06
Modify Date : 2016:02:12 08:48:37.06
Circle Of Confusion : 0.025 mm
Depth Of Field : 0.007 m (0.326 - 0.334 m)
Field Of View : 16.3 deg
Focal Length : 105.0 mm (35 mm equivalent: 126.0 mm)
Hyperfocal Distance : 20.01 m
Light Value : 11.9
Lens ID : AF-S VR Micro-Nikkor 105mm f/2.8G IF-ED