Uber Exif Photo
Make : NIKON CORPORATION
Camera Model Name : NIKON D750
Orientation : Horizontal (normal)
Software : Adobe Photoshop CC 2015 (Macintosh)
Modify Date : 2016:02:04 05:37:03
Exposure Time : 1/30
F Number : 13.0
Exposure Program : Manual
ISO : 100
Sensitivity Type : Recommended Exposure Index
Date/Time Original : 2016:02:03 17:42:06
Create Date : 2016:02:03 17:42:06
Shutter Speed Value : 1/30
Aperture Value : 13.0
Exposure Compensation : 0
Max Aperture Value : 8.0
Metering Mode : Center-weighted average
Light Source : Cloudy
Flash : Off, Did not fire
Focal Length : 650.0 mm
Color Space : Uncalibrated
Exif Image Width : 1500
Exif Image Height : 1376
Sensing Method : One-chip color area
Scene Type : Directly photographed
CFA Pattern : [Red,Green][Green,Blue]
Custom Rendered : Normal
Exposure Mode : Manual
White Balance : Manual
Digital Zoom Ratio : 1.2
Focal Length In 35mm Format : 780 mm
Scene Capture Type : Standard
Gain Control : None
Contrast : Normal
Saturation : Normal
Sharpness : Normal
Subject Distance Range : Unknown
Serial Number : 3072765
Lens Info : 200-500mm f/5.6
Lens Model : 200.0-500.0 mm f/5.6
Profile Description : Adobe RGB (1998)
Creator Tool : NIKON D750 Ver.1.10
Rating : 0
Lens : 200.0-500.0 mm f/5.6
Image Number : 4353
Approximate Focus Distance : 56.2
Distortion Correction Already Applied : True
Vignette Correction Already Applied : True
Date Created : 2016:02:03 17:42:06.037
Color Mode : RGB
ICC Profile Name : Adobe RGB (1998)
Format : image/jpeg
Raw File Name : DSC_3894.NEF
Version : 9.3.1
Process Version : 6.7
Auto White Version : 134348800
Color Temperature : 6200
Tint : +2
Luminance Smoothing : 0
Color Noise Reduction : 25
Vignette Amount : 0
Shadow Tint : 0
Red Hue : 0
Red Saturation : 0
Green Hue : 0
Green Saturation : 0
Blue Hue : 0
Blue Saturation : 0
Vibrance : 0
Hue Adjustment Red : 0
Hue Adjustment Orange : 0
Hue Adjustment Yellow : 0
Hue Adjustment Green : 0
Hue Adjustment Aqua : 0
Hue Adjustment Blue : 0
Hue Adjustment Purple : 0
Hue Adjustment Magenta : 0
Saturation Adjustment Red : 0
Saturation Adjustment Orange : 0
Saturation Adjustment Yellow : 0
Saturation Adjustment Green : 0
Saturation Adjustment Aqua : 0
Saturation Adjustment Blue : 0
Saturation Adjustment Purple : 0
Saturation Adjustment Magenta : 0
Luminance Adjustment Red : 0
Luminance Adjustment Orange : 0
Luminance Adjustment Yellow : 0
Luminance Adjustment Green : 0
Luminance Adjustment Aqua : 0
Luminance Adjustment Blue : 0
Luminance Adjustment Purple : 0
Luminance Adjustment Magenta : 0
Split Toning Shadow Hue : 0
Split Toning Shadow Saturation : 0
Split Toning Highlight Hue : 0
Split Toning Highlight Saturation : 0
Split Toning Balance : 0
Parametric Shadows : 0
Parametric Darks : 0
Parametric Lights : 0
Parametric Highlights : 0
Parametric Shadow Split : 25
Parametric Midtone Split : 50
Parametric Highlight Split : 75
Sharpen Radius : +1.0
Sharpen Detail : 25
Sharpen Edge Masking : 0
Post Crop Vignette Amount : 0
Grain Amount : 0
Color Noise Reduction Detail : 50
Color Noise Reduction Smoothness : 50
Lens Profile Enable : 1
Lens Manual Distortion Amount : 0
Perspective Vertical : 0
Perspective Horizontal : 0
Perspective Rotate : 0.0
Perspective Scale : 100
Perspective Aspect : 0
Perspective Upright : Off
Auto Lateral CA : 0
Exposure 2012 : -1.35
Contrast 2012 : 0
Highlights 2012 : -78
Shadows 2012 : -28
Whites 2012 : -53
Blacks 2012 : +13
Clarity 2012 : +26
Defringe Purple Amount : 0
Defringe Purple Hue Lo : 30
Defringe Purple Hue Hi : 70
Defringe Green Amount : 0
Defringe Green Hue Lo : 40
Defringe Green Hue Hi : 60
Dehaze : 0
Tone Map Strength : 0
Convert To Grayscale : False
Tone Curve Name : Medium Contrast
Tone Curve Name 2012 : Linear
Camera Profile : Camera Landscape
Lens Profile Setup : LensDefaults
Lens Profile Name : Adobe (Nikon AF-S NIKKOR 200-500mm f/5.6E ED VR)
Lens Profile Filename : NIKON D3 (Nikon AF-S NIKKOR 200-500mm f5.6E ED VR) - RAW.lcp
Lens Profile Distortion Scale : 100
Lens Profile Chromatic Aberration Scale : 100
Lens Profile Vignetting Scale : 100
Has Settings : True
Crop Top : 0.412634
Crop Left : 0.340197
Crop Bottom : 0.888441
Crop Right : 0.685765
Crop Angle : 0
Crop Constrain To Warp : 1
Has Crop : True
Already Applied : True
Tone Curve : 0, 0, 32, 22, 64, 56, 128, 128, 192, 196, 255, 255
Tone Curve Red : 0, 0, 255, 255
Tone Curve Green : 0, 0, 255, 255
Tone Curve Blue : 0, 0, 255, 255
Tone Curve PV2012 : 0, 0, 255, 255
Tone Curve PV2012 Red : 0, 0, 255, 255
Tone Curve PV2012 Green : 0, 0, 255, 255
Tone Curve PV2012 Blue : 0, 0, 255, 255
Image Width : 308
Image Height : 283
Bits Per Sample : 8
Color Components : 3
Aperture : 13.0
Image Size : 308x283
Megapixels : 0.087
Scale Factor To 35 mm Equivalent : 1.2
Shutter Speed : 1/30
Create Date : 2016:02:03 17:42:06.37
Date/Time Original : 2016:02:03 17:42:06.37
Modify Date : 2016:02:04 05:37:03.37
Circle Of Confusion : 0.025 mm
Depth Of Field : 4.82 m (53.89 - 58.71 m)
Field Of View : 2.6 deg
Focal Length : 650.0 mm (35 mm equivalent: 780.0 mm)
Hyperfocal Distance : 1298.00 m
Light Value : 12.3
Lens ID : AF-S Nikkor 200-500mm f/5.6E ED VR