Uber Exif Photo
Photometric Interpretation : RGB
Make : NIKON CORPORATION
Camera Model Name : NIKON D5000
Orientation : Horizontal (normal)
Samples Per Pixel : 3
Planar Configuration : Chunky
Software : Adobe Photoshop CC 2015 (Macintosh)
Modify Date : 2016:01:15 05:56:58
Exposure Time : 1/320
F Number : 5.3
Exposure Program : Manual
ISO : 200
Date/Time Original : 2011:06:23 14:17:54
Create Date : 2011:06:23 14:17:54
Shutter Speed Value : 1/320
Aperture Value : 5.3
Exposure Compensation : +2
Max Aperture Value : 5.5
Subject Distance : 3.98 m
Metering Mode : Spot
Light Source : Cloudy
Flash : No Flash
Focal Length : 230.0 mm
Color Space : Uncalibrated
Exif Image Width : 1500
Exif Image Height : 1312
Sensing Method : One-chip color area
Scene Type : Directly photographed
CFA Pattern : [Green,Blue][Red,Green]
Custom Rendered : Normal
Exposure Mode : Manual
White Balance : Manual
Digital Zoom Ratio : 1
Focal Length In 35mm Format : 345 mm
Scene Capture Type : Landscape
Gain Control : None
Contrast : Normal
Saturation : Normal
Sharpness : Normal
Subject Distance Range : Unknown
Profile Description : Adobe RGB (1998)
Creator Tool : Adobe Photoshop CS5 Windows
Rating : 0
Serial Number : 3134351
Lens Info : 70-300mm f/4.5-5.6
Lens : 70.0-300.0 mm f/4.5-5.6
Image Number : 7518
Raw File Name : _DSC6491.NEF
Version : 6.0
Process Version : 5.7
Color Temperature : 5500
Tint : +10
Exposure : +0.75
Shadows : 2
Brightness : 0
Luminance Smoothing : 0
Color Noise Reduction : 25
Chromatic Aberration R : 0
Chromatic Aberration B : 0
Vignette Amount : 0
Shadow Tint : 0
Red Hue : 0
Red Saturation : 0
Green Hue : 0
Green Saturation : 0
Blue Hue : 0
Blue Saturation : 0
Fill Light : 0
Vibrance : 0
Highlight Recovery : 80
Clarity : +100
Defringe : 0
Hue Adjustment Red : 0
Hue Adjustment Orange : 0
Hue Adjustment Yellow : 0
Hue Adjustment Green : 0
Hue Adjustment Aqua : 0
Hue Adjustment Blue : 0
Hue Adjustment Purple : 0
Hue Adjustment Magenta : 0
Saturation Adjustment Red : 0
Saturation Adjustment Orange : 0
Saturation Adjustment Yellow : 0
Saturation Adjustment Green : 0
Saturation Adjustment Aqua : 0
Saturation Adjustment Blue : 0
Saturation Adjustment Purple : 0
Saturation Adjustment Magenta : 0
Luminance Adjustment Red : 0
Luminance Adjustment Orange : 0
Luminance Adjustment Yellow : 0
Luminance Adjustment Green : 0
Luminance Adjustment Aqua : 0
Luminance Adjustment Blue : 0
Luminance Adjustment Purple : 0
Luminance Adjustment Magenta : 0
Split Toning Shadow Hue : 0
Split Toning Shadow Saturation : 0
Split Toning Highlight Hue : 0
Split Toning Highlight Saturation : 0
Split Toning Balance : 0
Parametric Shadows : -48
Parametric Darks : +1
Parametric Lights : -8
Parametric Highlights : +64
Parametric Shadow Split : 25
Parametric Midtone Split : 50
Parametric Highlight Split : 75
Sharpen Radius : +1.0
Sharpen Detail : 25
Sharpen Edge Masking : 0
Post Crop Vignette Amount : 0
Grain Amount : 0
Color Noise Reduction Detail : 50
Convert To Grayscale : False
Tone Curve Name : Medium Contrast
Camera Profile : Camera Portrait
Has Settings : True
Has Crop : False
Already Applied : True
Sidecar For Extension : NEF
Color Mode : RGB
ICC Profile Name : Adobe RGB (1998)
Date Created : 2011:06:23 14:17:54.005
Format : image/jpeg
Tone Curve : 0, 0, 32, 22, 64, 56, 128, 128, 192, 196, 255, 255
Image Width : 300
Image Height : 262
Bits Per Sample : 8
Color Components : 3
Aperture : 5.3
Image Size : 300x262
Megapixels : 0.079
Scale Factor To 35 mm Equivalent : 1.5
Shutter Speed : 1/320
Create Date : 2011:06:23 14:17:54.50
Date/Time Original : 2011:06:23 14:17:54.50
Modify Date : 2016:01:15 05:56:58.50
Circle Of Confusion : 0.020 mm
Depth Of Field : 0.06 m (3.95 - 4.01 m)
Field Of View : 6.0 deg
Focal Length : 230.0 mm (35 mm equivalent: 345.0 mm)
Hyperfocal Distance : 498.29 m
Light Value : 12.1
Lens ID : AF-S VR Zoom-Nikkor 70-300mm f/4.5-5.6G IF-ED