Uber Exif Photo
Make : NIKON CORPORATION
Camera Model Name : NIKON D750
Orientation : Horizontal (normal)
Software : Adobe Photoshop CC 2015 (Macintosh)
Modify Date : 2016:01:11 05:12:23
Exposure Time : 1/200
F Number : 5.6
Exposure Program : Manual
ISO : 125
Sensitivity Type : Recommended Exposure Index
Date/Time Original : 2016:01:09 14:07:35
Create Date : 2016:01:09 14:07:35
Shutter Speed Value : 1/200
Aperture Value : 5.6
Exposure Compensation : 0
Max Aperture Value : 5.7
Metering Mode : Multi-segment
Light Source : Unknown
Flash : Off, Did not fire
Focal Length : 400.0 mm
Color Space : Uncalibrated
Exif Image Width : 1430
Exif Image Height : 1500
Sensing Method : One-chip color area
Scene Type : Directly photographed
CFA Pattern : [Red,Green][Green,Blue]
Custom Rendered : Normal
Exposure Mode : Manual
White Balance : Auto
Digital Zoom Ratio : 1
Focal Length In 35mm Format : 400 mm
Scene Capture Type : Standard
Gain Control : None
Contrast : Normal
Saturation : Normal
Sharpness : Normal
Subject Distance Range : Unknown
Serial Number : 3072765
Lens Info : 200-500mm f/5.6
Lens Model : 200.0-500.0 mm f/5.6
Profile Description : Adobe RGB (1998)
Creator Tool : Adobe Photoshop Lightroom 6.3 (Macintosh)
Rating : 0
Lens : 200.0-500.0 mm f/5.6
Image Number : 1522
Approximate Focus Distance : 20
Date Created : 2016:01:09 14:07:35.056
Color Mode : RGB
ICC Profile Name : Adobe RGB (1998)
Format : image/jpeg
Raw File Name : DSC_1473-3.nef
Version : 9.3.1
Process Version : 6.7
Auto White Version : 134348800
Color Temperature : 4900
Tint : +6
Luminance Smoothing : 0
Color Noise Reduction : 25
Vignette Amount : 0
Shadow Tint : 0
Red Hue : 0
Red Saturation : 0
Green Hue : 0
Green Saturation : 0
Blue Hue : 0
Blue Saturation : 0
Vibrance : 0
Hue Adjustment Red : 0
Hue Adjustment Orange : 0
Hue Adjustment Yellow : 0
Hue Adjustment Green : 0
Hue Adjustment Aqua : 0
Hue Adjustment Blue : 0
Hue Adjustment Purple : 0
Hue Adjustment Magenta : 0
Saturation Adjustment Red : 0
Saturation Adjustment Orange : 0
Saturation Adjustment Yellow : 0
Saturation Adjustment Green : 0
Saturation Adjustment Aqua : 0
Saturation Adjustment Blue : 0
Saturation Adjustment Purple : 0
Saturation Adjustment Magenta : 0
Luminance Adjustment Red : 0
Luminance Adjustment Orange : 0
Luminance Adjustment Yellow : 0
Luminance Adjustment Green : 0
Luminance Adjustment Aqua : 0
Luminance Adjustment Blue : 0
Luminance Adjustment Purple : 0
Luminance Adjustment Magenta : 0
Split Toning Shadow Hue : 0
Split Toning Shadow Saturation : 0
Split Toning Highlight Hue : 0
Split Toning Highlight Saturation : 0
Split Toning Balance : 0
Parametric Shadows : 0
Parametric Darks : 0
Parametric Lights : 0
Parametric Highlights : 0
Parametric Shadow Split : 25
Parametric Midtone Split : 50
Parametric Highlight Split : 75
Sharpen Radius : +1.0
Sharpen Detail : 25
Sharpen Edge Masking : 0
Post Crop Vignette Amount : 0
Grain Amount : 0
Color Noise Reduction Detail : 50
Color Noise Reduction Smoothness : 50
Lens Profile Enable : 0
Lens Manual Distortion Amount : 0
Perspective Vertical : 0
Perspective Horizontal : 0
Perspective Rotate : 0.0
Perspective Scale : 100
Perspective Aspect : 0
Perspective Upright : Off
Auto Lateral CA : 0
Exposure 2012 : -1.45
Contrast 2012 : +38
Highlights 2012 : +13
Shadows 2012 : -46
Whites 2012 : +8
Blacks 2012 : +27
Clarity 2012 : +73
Defringe Purple Amount : 0
Defringe Purple Hue Lo : 30
Defringe Purple Hue Hi : 70
Defringe Green Amount : 0
Defringe Green Hue Lo : 40
Defringe Green Hue Hi : 60
Dehaze : 0
Tone Map Strength : 0
Convert To Grayscale : False
Tone Curve Name : Medium Contrast
Tone Curve Name 2012 : Linear
Camera Profile : Adobe Standard
Lens Profile Setup : LensDefaults
Has Settings : True
Crop Top : 0.255064
Crop Left : 0.312225
Crop Bottom : 1
Crop Right : 0.786222
Crop Angle : 0
Crop Constrain To Warp : 1
Has Crop : True
Already Applied : True
Tone Curve : 0, 0, 32, 22, 64, 56, 128, 128, 192, 196, 255, 255
Tone Curve Red : 0, 0, 255, 255
Tone Curve Green : 0, 0, 255, 255
Tone Curve Blue : 0, 0, 255, 255
Tone Curve PV2012 : 0, 0, 255, 255
Tone Curve PV2012 Red : 0, 0, 255, 255
Tone Curve PV2012 Green : 0, 0, 255, 255
Tone Curve PV2012 Blue : 0, 0, 255, 255
Circ Grad Based Corr What : Correction
Circ Grad Based Corr Amount : 1.000000
Circ Grad Based Corr Active : true
Circ Grad Based Corr Exposure : 0.000000
Circ Grad Based Corr Saturation : 0.100000
Circ Grad Based Corr Contrast : 0.000000
Circ Grad Based Corr Clarity : 0.000000
Circ Grad Based Corr Sharpness : 0.560000
Circ Grad Based Corr Brightness : 0.000000
Circ Grad Based Corr Toning Hue : 0.000000
Circ Grad Based Corr Toning Saturation : 0.000000
Circ Grad Based Corr Exposure 2012 : -0.412500
Circ Grad Based Corr Contrast 2012 : -0.040000
Circ Grad Based Corr Highlights 2012 : -0.790000
Circ Grad Based Corr Shadows 2012 : -0.610000
Circ Grad Based Corr Whites 2012 : -0.120000
Circ Grad Based Corr Blacks 2012 : 0.120000
Circ Grad Based Corr Clarity 2012 : 0.430000
Circ Grad Based Corr Dehaze : 0.550000
Circ Grad Based Corr Luminance Noise : -0.100000
Circ Grad Based Corr Moire : 0.000000
Circ Grad Based Corr Defringe : 0.000000
Circ Grad Based Corr Temperature : 0.100000
Circ Grad Based Corr Tint : 0.100000
Circ Grad Based Corr Mask What : Mask/CircularGradient
Circ Grad Based Corr Mask Value : 1.000000
Circ Grad Based Corr Mask Top : 0.308209
Circ Grad Based Corr Mask Left : 0.339047
Circ Grad Based Corr Mask Bottom : 1.034662
Circ Grad Based Corr Mask Right : 0.775366
Circ Grad Based Corr Mask Angle : 0.524343
Circ Grad Based Corr Mask Midpoint : +50
Circ Grad Based Corr Mask Roundness : 0
Circ Grad Based Corr Mask Feather : +37
Circ Grad Based Corr Mask Flipped : false
Circ Grad Based Corr Mask Version : +2
Image Width : 300
Image Height : 315
Bits Per Sample : 8
Color Components : 3
Aperture : 5.6
Image Size : 300x315
Megapixels : 0.095
Scale Factor To 35 mm Equivalent : 1.0
Shutter Speed : 1/200
Create Date : 2016:01:09 14:07:35.56
Date/Time Original : 2016:01:09 14:07:35.56
Circle Of Confusion : 0.030 mm
Depth Of Field : 0.82 m (19.60 - 20.42 m)
Field Of View : 5.2 deg
Focal Length : 400.0 mm (35 mm equivalent: 400.0 mm)
Hyperfocal Distance : 950.91 m
Light Value : 12.3
Lens ID : AF-S Nikkor 200-500mm f/5.6E ED VR