Uber Exif Photo
Make : NIKON CORPORATION
Camera Model Name : NIKON D7000
Orientation : Horizontal (normal)
Software : Adobe Photoshop CS5 Windows
Modify Date : 2011:07:30 15:54:38
Exposure Time : 1/2000
F Number : 5.6
Exposure Program : Manual
ISO : 1000
Sensitivity Type : Recommended Exposure Index
Date/Time Original : 2011:07:30 09:52:03
Create Date : 2011:07:30 09:52:03
Shutter Speed Value : 1/2000
Aperture Value : 5.6
Exposure Compensation : 0
Max Aperture Value : 5.7
Subject Distance : 5.96 m
Metering Mode : Center-weighted average
Light Source : Unknown
Flash : On, Return detected
Focal Length : 850.0 mm
Color Space : Uncalibrated
Exif Image Width : 4309
Exif Image Height : 2931
Sensing Method : One-chip color area
Scene Type : Directly photographed
CFA Pattern : [Red,Green][Green,Blue]
Custom Rendered : Normal
Exposure Mode : Manual
White Balance : Auto
Digital Zoom Ratio : 1
Focal Length In 35mm Format : 1275 mm
Scene Capture Type : Standard
Gain Control : High gain up
Contrast : Normal
Saturation : High
Sharpness : Hard
Subject Distance Range : Unknown
Serial Number : 3092053
Lens Info : 600mm f/4
Lens Model : 600.0 mm f/4.0
Profile Description : ProPhoto RGB
Rating : 0
Label : Creator Tool : Ver.1.02
Lens : 600.0 mm f/4.0
Image Number : 23924
Approximate Focus Distance : 5.96
Date Created : 2011:07:30 09:52:03
Color Mode : RGB
ICC Profile Name : ProPhoto RGB
Raw File Name : DSC_3779.NEF
Version : 6.4.1
Process Version : 5.7
Color Temperature : 5300
Tint : +24
Exposure : -0.41
Shadows : 10
Brightness : +50
Luminance Smoothing : 0
Color Noise Reduction : 25
Chromatic Aberration R : 0
Chromatic Aberration B : 0
Vignette Amount : 0
Shadow Tint : 0
Red Hue : 0
Red Saturation : 0
Green Hue : 0
Green Saturation : 0
Blue Hue : 0
Blue Saturation : 0
Fill Light : 0
Vibrance : +6
Highlight Recovery : 0
Clarity : +15
Defringe : 0
Hue Adjustment Red : 0
Hue Adjustment Orange : 0
Hue Adjustment Yellow : 0
Hue Adjustment Green : 0
Hue Adjustment Aqua : 0
Hue Adjustment Blue : 0
Hue Adjustment Purple : 0
Hue Adjustment Magenta : 0
Saturation Adjustment Red : 0
Saturation Adjustment Orange : 0
Saturation Adjustment Yellow : 0
Saturation Adjustment Green : 0
Saturation Adjustment Aqua : 0
Saturation Adjustment Blue : 0
Saturation Adjustment Purple : 0
Saturation Adjustment Magenta : 0
Luminance Adjustment Red : 0
Luminance Adjustment Orange : 0
Luminance Adjustment Yellow : 0
Luminance Adjustment Green : 0
Luminance Adjustment Aqua : 0
Luminance Adjustment Blue : 0
Luminance Adjustment Purple : 0
Luminance Adjustment Magenta : 0
Split Toning Shadow Hue : 0
Split Toning Shadow Saturation : 0
Split Toning Highlight Hue : 0
Split Toning Highlight Saturation : 0
Split Toning Balance : 0
Parametric Shadows : 0
Parametric Darks : 0
Parametric Lights : 0
Parametric Highlights : 0
Parametric Shadow Split : 25
Parametric Midtone Split : 50
Parametric Highlight Split : 75
Sharpen Radius : +1.0
Sharpen Detail : 25
Sharpen Edge Masking : 0
Post Crop Vignette Amount : 0
Grain Amount : 0
Color Noise Reduction Detail : 50
Lens Profile Enable : 0
Lens Manual Distortion Amount : 0
Perspective Vertical : 0
Perspective Horizontal : 0
Perspective Rotate : 0.0
Perspective Scale : 100
Convert To Grayscale : False
Tone Curve Name : Medium Contrast
Camera Profile : Adobe Standard
Lens Profile Setup : LensDefaults
Has Settings : True
Crop Top : 0
Crop Left : 0
Crop Bottom : 1
Crop Right : 1
Crop Angle : 0
Crop Constrain To Warp : 0
Has Crop : True
Already Applied : True
Format : image/jpeg
Tone Curve : 0, 0, 32, 22, 64, 56, 128, 128, 192, 196, 255, 255
Image Width : 300
Image Height : 204
Bits Per Sample : 8
Color Components : 3
Aperture : 5.6
Image Size : 300x204
Megapixels : 0.061
Scale Factor To 35 mm Equivalent : 1.5
Shutter Speed : 1/2000
Create Date : 2011:07:30 09:52:03.00
Date/Time Original : 2011:07:30 09:52:03.00
Modify Date : 2011:07:30 15:54:38.00
Circle Of Confusion : 0.020 mm
Depth Of Field : 0.009 m (5.955 - 5.965 m)
Field Of View : 1.6 deg
Focal Length : 850.0 mm (35 mm equivalent: 1275.0 mm)
Hyperfocal Distance : 6440.96 m
Light Value : 12.6
Lens ID : AF-S Nikkor 600mm f/4D IF-ED II