Uber Exif Photo
By-line : BARBARA COLE
Copyright Notice : BARBARA COLE
Make : NIKON CORPORATION
Camera Model Name : NIKON D700
Orientation : Horizontal (normal)
Software : Adobe Photoshop CS5 Windows
Modify Date : 2011:07:10 17:44:00
Artist : BARBARA COLE
Copyright : BARBARA COLE
Maker Note Safety : Safe
Exposure Time : 1/1250
F Number : 6.3
Exposure Program : Aperture-priority AE
ISO : 200
Date/Time Original : 2011:07:09 14:23:01
Create Date : 2011:07:09 14:23:01
Shutter Speed Value : 1/1250
Aperture Value : 6.3
Exposure Compensation : 0
Max Aperture Value : 2.8
Subject Distance : 5.01 m
Metering Mode : Multi-segment
Light Source : Unknown
Flash : No Flash
Focal Length : 70.0 mm
User Comment : ASCII
Color Space : sRGB
Exif Image Width : 4256
Exif Image Height : 2832
Sensing Method : One-chip color area
Scene Type : Directly photographed
CFA Pattern : [Red,Green][Green,Blue]
Custom Rendered : Normal
Exposure Mode : Auto
White Balance : Auto
Digital Zoom Ratio : 1
Focal Length In 35mm Format : 70 mm
Scene Capture Type : Standard
Gain Control : None
Contrast : Normal
Saturation : Normal
Sharpness : Normal
Subject Distance Range : Unknown
Serial Number : 2445998
Lens Info : 24-70mm f/2.8
Lens Model : 24.0-70.0 mm f/2.8
GPS Version ID : 2.2.0.0
Profile Description : sRGB IEC61966-2.1
Rating : 0
Label : Creator Tool : DXO Optics Pro v6
Format : image/jpeg
Lens : 24.0-70.0 mm f/2.8
Image Number : 2326
Approximate Focus Distance : 5.01
Date Created : 2011:07:09 14:23:01.092-07:00
Color Mode : RGB
ICC Profile Name : sRGB IEC61966-2.1
Raw File Name : _BAC2244_DxO.dng
Version : 6.4.1
Process Version : 5.7
Color Temperature : 5150
Tint : -2
Exposure : 0.00
Shadows : 5
Brightness : +47
Luminance Smoothing : 0
Color Noise Reduction : 25
Chromatic Aberration R : 0
Chromatic Aberration B : 0
Vignette Amount : 0
Shadow Tint : 0
Red Hue : 0
Red Saturation : 0
Green Hue : 0
Green Saturation : 0
Blue Hue : 0
Blue Saturation : 0
Fill Light : 0
Vibrance : +10
Highlight Recovery : 0
Clarity : +8
Defringe : 0
Hue Adjustment Red : 0
Hue Adjustment Orange : 0
Hue Adjustment Yellow : 0
Hue Adjustment Green : 0
Hue Adjustment Aqua : 0
Hue Adjustment Blue : 0
Hue Adjustment Purple : 0
Hue Adjustment Magenta : 0
Saturation Adjustment Red : 0
Saturation Adjustment Orange : 0
Saturation Adjustment Yellow : 0
Saturation Adjustment Green : 0
Saturation Adjustment Aqua : 0
Saturation Adjustment Blue : 0
Saturation Adjustment Purple : 0
Saturation Adjustment Magenta : 0
Luminance Adjustment Red : 0
Luminance Adjustment Orange : 0
Luminance Adjustment Yellow : 0
Luminance Adjustment Green : 0
Luminance Adjustment Aqua : 0
Luminance Adjustment Blue : 0
Luminance Adjustment Purple : 0
Luminance Adjustment Magenta : 0
Split Toning Shadow Hue : 0
Split Toning Shadow Saturation : 0
Split Toning Highlight Hue : 0
Split Toning Highlight Saturation : 0
Split Toning Balance : 0
Parametric Shadows : 0
Parametric Darks : 0
Parametric Lights : 0
Parametric Highlights : 0
Parametric Shadow Split : 25
Parametric Midtone Split : 50
Parametric Highlight Split : 75
Sharpen Radius : +1.0
Sharpen Detail : 25
Sharpen Edge Masking : 0
Post Crop Vignette Amount : 0
Grain Amount : 0
Color Noise Reduction Detail : 50
Lens Profile Enable : 0
Lens Manual Distortion Amount : 0
Perspective Vertical : 0
Perspective Horizontal : 0
Perspective Rotate : 0.0
Perspective Scale : 100
Convert To Grayscale : False
Tone Curve Name : Medium Contrast
Camera Profile : Adobe Standard
Lens Profile Setup : LensDefaults
Has Settings : True
Crop Top : 0
Crop Left : 0
Crop Bottom : 1
Crop Right : 1
Crop Angle : 0
Crop Constrain To Warp : 0
Has Crop : True
Already Applied : True
Creator : BARBARA COLE
Rights : BARBARA COLE
Tone Curve : 0, 0, 32, 22, 64, 56, 128, 128, 192, 196, 255, 255
Image Width : 300
Image Height : 200
Bits Per Sample : 8
Color Components : 3
Aperture : 6.3
Image Size : 300x200
Megapixels : 0.060
Scale Factor To 35 mm Equivalent : 1.0
Shutter Speed : 1/1250
Create Date : 2011:07:09 14:23:01.92
Date/Time Original : 2011:07:09 14:23:01.92
Modify Date : 2011:07:10 17:44:00.92
Circle Of Confusion : 0.030 mm
Depth Of Field : 1.98 m (4.21 - 6.19 m)
Field Of View : 28.8 deg
Focal Length : 70.0 mm (35 mm equivalent: 70.0 mm)
Hyperfocal Distance : 25.89 m
Light Value : 14.6
Lens ID : AF-S Zoom-Nikkor 24-70mm f/2.8G ED