Uber Exif Photo
By-line : Ian Robert Ng Yao
Copyright Notice : Philippine Copyright
Copyright Flag : True
Make : NIKON CORPORATION
Camera Model Name : NIKON D5000
Software : Ver.1.00
Modify Date : 2010:10:30 12:46:56
Copyright : Philippine Copyright
Exposure Time : 0.3
F Number : 4.5
Exposure Program : Manual
ISO : 800
Sensitivity Type : Unknown
Date/Time Original : 2010:10:20 17:43:43
Create Date : 2010:10:20 17:43:43
Shutter Speed Value : 0.3
Aperture Value : 4.5
Exposure Compensation : 0
Max Aperture Value : 3.5
Subject Distance : 2.66 m
Metering Mode : Multi-segment
Light Source : Unknown
Focal Length : 18.0 mm
Sensing Method : One-chip color area
Scene Type : Directly photographed
CFA Pattern : [Green,Blue][Red,Green]
Custom Rendered : Normal
Exposure Mode : Manual
White Balance : Auto
Digital Zoom Ratio : 1
Focal Length In 35mm Format : 27 mm
Scene Capture Type : Landscape
Gain Control : Low gain up
Contrast : Normal
Saturation : High
Sharpness : Hard
Subject Distance Range : Unknown
Serial Number : 2118217
Lens Info : 18-200mm f/3.5-5.6
Lens Model : 18.0-200.0 mm f/3.5-5.6
Profile Description : ProPhoto RGB
Date/Time Digitized : 2010:10:20 17:43:43.50+08:00
Exif Image Width : 1024
Exif Image Height : 1596
Creator Tool : Adobe Photoshop Lightroom
Lens : 18.0-200.0 mm f/3.5-5.6
Image Number : 17781
Approximate Focus Distance : 2.66
Marked : True
Version : 6.2
Process Version : 5.7
Color Temperature : 7287
Tint : +5
Exposure : -0.05
Shadows : 5
Brightness : +47
Luminance Smoothing : 5
Color Noise Reduction : 20
Chromatic Aberration R : 0
Chromatic Aberration B : 0
Vignette Amount : 0
Shadow Tint : 0
Red Hue : 0
Red Saturation : 0
Green Hue : 0
Green Saturation : 0
Blue Hue : 0
Blue Saturation : 0
Fill Light : 0
Vibrance : +15
Highlight Recovery : 11
Clarity : +75
Defringe : 0
Hue Adjustment Red : 0
Hue Adjustment Orange : 0
Hue Adjustment Yellow : 0
Hue Adjustment Green : 0
Hue Adjustment Aqua : 0
Hue Adjustment Blue : 0
Hue Adjustment Purple : 0
Hue Adjustment Magenta : 0
Saturation Adjustment Red : 0
Saturation Adjustment Orange : 0
Saturation Adjustment Yellow : 0
Saturation Adjustment Green : 0
Saturation Adjustment Aqua : 0
Saturation Adjustment Blue : 0
Saturation Adjustment Purple : 0
Saturation Adjustment Magenta : 0
Luminance Adjustment Red : 0
Luminance Adjustment Orange : 0
Luminance Adjustment Yellow : 0
Luminance Adjustment Green : 0
Luminance Adjustment Aqua : 0
Luminance Adjustment Blue : 0
Luminance Adjustment Purple : 0
Luminance Adjustment Magenta : 0
Split Toning Shadow Hue : 190
Split Toning Shadow Saturation : 11
Split Toning Highlight Hue : 0
Split Toning Highlight Saturation : 0
Split Toning Balance : 0
Parametric Shadows : 0
Parametric Darks : -5
Parametric Lights : +13
Parametric Highlights : +42
Parametric Shadow Split : 25
Parametric Midtone Split : 50
Parametric Highlight Split : 75
Sharpen Radius : +1.0
Sharpen Detail : 25
Sharpen Edge Masking : 0
Post Crop Vignette Amount : -40
Post Crop Vignette Midpoint : 50
Post Crop Vignette Feather : 50
Post Crop Vignette Roundness : 0
Post Crop Vignette Style : Highlight Priority
Post Crop Vignette Highlight Contrast : 0
Grain Amount : 0
Luminance Noise Reduction Detail : 74
Color Noise Reduction Detail : 50
Luminance Noise Reduction Contrast : 78
Lens Profile Enable : 0
Lens Manual Distortion Amount : 0
Perspective Vertical : 0
Perspective Horizontal : 0
Perspective Rotate : 0.0
Perspective Scale : 100
Convert To Grayscale : False
Tone Curve Name : Medium Contrast
Camera Profile : Adobe Standard
Lens Profile Setup : LensDefaults
Has Settings : True
Crop Top : 0.028169
Crop Left : 0
Crop Bottom : 0.994366
Crop Right : 1
Crop Angle : 0
Crop Constrain To Warp : 0
Crop Width : 1596
Crop Height : 1024
Crop Unit : pixels
Has Crop : True
Already Applied : True
Flash Fired : False
Flash Return : No return detection
Flash Mode : Unknown
Flash Function : False
Flash Red Eye Mode : False
Creator Postal Code : 1110
Creator Region : Metro Manila
Creator Country : Philippines
Creator City : Quezon City
Creator Work Email : ianyao@ymail.com
Creator : Ian Robert Ng Yao
Rights : Philippine Copyright
Tone Curve : 0, 0, 32, 22, 64, 56, 128, 128, 192, 196, 255, 255
Image Width : 193
Image Height : 300
Bits Per Sample : 8
Color Components : 3
Aperture : 4.5
Image Size : 193x300
Megapixels : 0.058
Scale Factor To 35 mm Equivalent : 1.5
Shutter Speed : 0.3
Create Date : 2010:10:20 17:43:43.50
Date/Time Original : 2010:10:20 17:43:43.50
Flash : No Flash
Circle Of Confusion : 0.020 mm
Depth Of Field : 8.51 m (1.53 - 10.04 m)
Field Of View : 67.4 deg
Focal Length : 18.0 mm (35 mm equivalent: 27.0 mm)
Hyperfocal Distance : 3.59 m
Light Value : 2.9
Lens ID : AF-S DX VR Zoom-Nikkor 18-200mm f/3.5-5.6G IF-ED [II] or AF-S DX VR Zoom-Nikkor 18-200mm f/3.5-5.6G IF-ED