Uber Exif Photo
By-line : Ian Robert Ng Yao
Copyright Notice : Philippine Copyright
Copyright Flag : True
Make : NIKON CORPORATION
Camera Model Name : NIKON D5000
Software : Adobe Photoshop Lightroom
Modify Date : 2011:06:10 00:56:46
Artist : Ian Robert Ng Yao
Copyright : Philippine Copyright
Exposure Time : 1/30
F Number : 5.6
Exposure Program : Manual
ISO : 800
Sensitivity Type : Unknown
Date/Time Original : 2011:04:24 10:25:31
Create Date : 2011:04:24 10:25:31
Shutter Speed Value : 1/30
Aperture Value : 5.6
Exposure Compensation : 0
Max Aperture Value : 3.5
Subject Distance : 3.16 m
Metering Mode : Multi-segment
Light Source : Unknown
Focal Length : 18.0 mm
Sensing Method : One-chip color area
Scene Type : Directly photographed
Custom Rendered : Normal
Exposure Mode : Manual
White Balance : Auto
Digital Zoom Ratio : 1
Focal Length In 35mm Format : 27 mm
Scene Capture Type : Portrait
Gain Control : Low gain up
Contrast : Normal
Saturation : High
Sharpness : Normal
Subject Distance Range : Unknown
Serial Number : 2118217
Lens Info : 18-200mm f/3.5-5.6
Lens Model : 18.0-200.0 mm f/3.5-5.6
Profile Description : ProPhoto RGB
Method : Details Enhancer
Strength : 70.0
Color Saturation : 50.0
Luminosity : 0.0
White Clip : 0.669100
Black Clip : 0.631700
Smoothing Mode : Slider
Smoothing : -3.0
Microcontrast : 4.5
Microsmoothing : 20.0
Gamma : 1.0
Highlights Smoothing : 26.0
Shadows Smoothing : 50.0
Shadows Clipping : 0.0
Color Temperature : 0.0
Saturation Highlights : 0.0
Saturation Shadows : 0.0
Date/Time Digitized : 2011:04:24 10:25:31.50+08:00
Exif Image Width : 528
Exif Image Height : 800
Creator Tool : Adobe Photoshop Lightroom
Lens : 18.0-200.0 mm f/3.5-5.6
Image Number : 25986
Approximate Focus Distance : 3.16
Marked : True
Version : 6.2
Process Version : 5.7
Incremental Temperature : +20
Incremental Tint : -15
Exposure : 0.00
Shadows : 1
Brightness : -2
Luminance Smoothing : 15
Color Noise Reduction : 15
Chromatic Aberration R : 0
Chromatic Aberration B : 0
Vignette Amount : 0
Shadow Tint : 0
Red Hue : 0
Red Saturation : 0
Green Hue : 0
Green Saturation : 0
Blue Hue : 0
Blue Saturation : 0
Fill Light : 0
Vibrance : +5
Highlight Recovery : 0
Clarity : +30
Defringe : 0
Hue Adjustment Red : 0
Hue Adjustment Orange : 0
Hue Adjustment Yellow : 0
Hue Adjustment Green : 0
Hue Adjustment Aqua : 0
Hue Adjustment Blue : 0
Hue Adjustment Purple : 0
Hue Adjustment Magenta : 0
Saturation Adjustment Red : 0
Saturation Adjustment Orange : 0
Saturation Adjustment Yellow : 0
Saturation Adjustment Green : 0
Saturation Adjustment Aqua : 0
Saturation Adjustment Blue : 0
Saturation Adjustment Purple : 0
Saturation Adjustment Magenta : 0
Luminance Adjustment Red : 0
Luminance Adjustment Orange : 0
Luminance Adjustment Yellow : 0
Luminance Adjustment Green : 0
Luminance Adjustment Aqua : 0
Luminance Adjustment Blue : 0
Luminance Adjustment Purple : 0
Luminance Adjustment Magenta : 0
Split Toning Shadow Hue : 0
Split Toning Shadow Saturation : 0
Split Toning Highlight Hue : 0
Split Toning Highlight Saturation : 0
Split Toning Balance : 0
Parametric Shadows : -8
Parametric Darks : -3
Parametric Lights : +12
Parametric Highlights : 0
Parametric Shadow Split : 25
Parametric Midtone Split : 50
Parametric Highlight Split : 75
Sharpen Radius : +1.0
Sharpen Detail : 25
Sharpen Edge Masking : 8
Post Crop Vignette Amount : 0
Grain Amount : 0
Luminance Noise Reduction Detail : 50
Color Noise Reduction Detail : 50
Luminance Noise Reduction Contrast : 45
Lens Profile Enable : 0
Lens Manual Distortion Amount : +6
Perspective Vertical : 0
Perspective Horizontal : -1
Perspective Rotate : +1.0
Perspective Scale : 100
Convert To Grayscale : False
Tone Curve Name : Linear
Camera Profile : Embedded
Lens Profile Setup : LensDefaults
Has Settings : True
Crop Top : 0.141081
Crop Left : 0.071741
Crop Bottom : 0.99666
Crop Right : 0.920734
Crop Angle : 0.203241
Crop Constrain To Warp : 1
Crop Width : 528
Crop Height : 800
Crop Unit : pixels
Has Crop : True
Already Applied : True
Flash Fired : False
Flash Return : No return detection
Flash Mode : Unknown
Flash Function : False
Flash Red Eye Mode : False
Creator Postal Code : 1110
Creator Region : Metro Manila
Creator Country : Philippines
Creator City : Quezon City
Creator Work Email : ianyao@ymail.com
Creator : Ian Robert Ng Yao
Rights : Philippine Copyright
Tone Curve : 0, 0, 255, 255
Image Width : 198
Image Height : 300
Bits Per Sample : 8
Color Components : 3
Aperture : 5.6
Image Size : 198x300
Megapixels : 0.059
Scale Factor To 35 mm Equivalent : 1.5
Shutter Speed : 1/30
Create Date : 2011:04:24 10:25:31.50
Date/Time Original : 2011:04:24 10:25:31.50
Flash : No Flash
Circle Of Confusion : 0.020 mm
Depth Of Field : inf (1.51 m - inf)
Field Of View : 67.4 deg
Focal Length : 18.0 mm (35 mm equivalent: 27.0 mm)
Hyperfocal Distance : 2.89 m
Light Value : 6.9
Lens ID : AF-S DX VR Zoom-Nikkor 18-200mm f/3.5-5.6G IF-ED [II] or AF-S DX VR Zoom-Nikkor 18-200mm f/3.5-5.6G IF-ED