Uber Exif Photo
Object Name : Black and White bench
Keywords : B&W, Japan, Kyushu, Nikkor 24-70 2.8G, building, house, 九州, 日本
Camera Model Name : NIKON D200
Software : Adobe Photoshop Lightroom 3.4.1
Modify Date : 2011:05:26 15:01:25
Exposure Time : 1/125
F Number : 8.0
ISO : 200
Date/Time Original : 2011:01:01 23:27:08
Create Date : 2011:01:01 23:27:08
Shutter Speed Value : 1/125
Aperture Value : 8.0
Focal Length : 24.0 mm
Method : Details Enhancer
Strength : 100.0
Color Saturation : 100.0
Luminosity : 10.0
White Clip : 3.812700
Black Clip : 0.437050
Smoothing Mode : Light
Smoothing : High
Microcontrast : 10.0
Microsmoothing : 2.5
Gamma : 1.6
Highlights Smoothing : 19.0
Shadows Smoothing : 7.0
Shadows Clipping : 0.0
Color Temperature : 2.7
Saturation Highlights : 10.0
Saturation Shadows : 9.7
Creator Tool : Adobe Photoshop Lightroom 3.4.1
Version : 6.4.1
Process Version : 5.7
White Balance : As Shot
Incremental Temperature : 0
Incremental Tint : 0
Exposure : -0.10
Shadows : 17
Brightness : 0
Contrast : +3
Sharpness : 0
Luminance Smoothing : 83
Color Noise Reduction : 19
Chromatic Aberration R : 0
Chromatic Aberration B : 0
Vignette Amount : -11
Vignette Midpoint : 50
Shadow Tint : 0
Red Hue : 0
Red Saturation : 0
Green Hue : 0
Green Saturation : 0
Blue Hue : 0
Blue Saturation : 0
Fill Light : 10
Highlight Recovery : 10
Clarity : -9
Defringe : 0
Gray Mixer Red : -10
Gray Mixer Orange : -19
Gray Mixer Yellow : -23
Gray Mixer Green : -27
Gray Mixer Aqua : -16
Gray Mixer Blue : +12
Gray Mixer Purple : +16
Gray Mixer Magenta : +3
Split Toning Shadow Hue : 0
Split Toning Shadow Saturation : 0
Split Toning Highlight Hue : 0
Split Toning Highlight Saturation : 0
Split Toning Balance : 0
Parametric Shadows : -66
Parametric Darks : -39
Parametric Lights : +47
Parametric Highlights : +54
Parametric Shadow Split : 25
Parametric Midtone Split : 50
Parametric Highlight Split : 75
Sharpen Radius : +1.0
Sharpen Detail : 25
Sharpen Edge Masking : 0
Post Crop Vignette Amount : -30
Post Crop Vignette Midpoint : 31
Post Crop Vignette Feather : 100
Post Crop Vignette Roundness : +95
Post Crop Vignette Style : Highlight Priority
Post Crop Vignette Highlight Contrast : 8
Grain Amount : 0
Luminance Noise Reduction Detail : 74
Color Noise Reduction Detail : 50
Luminance Noise Reduction Contrast : 41
Lens Profile Enable : 0
Lens Manual Distortion Amount : 0
Perspective Vertical : 0
Perspective Horizontal : 0
Perspective Rotate : 0.0
Perspective Scale : 100
Convert To Grayscale : True
Tone Curve Name : Linear
Camera Profile : Embedded
Lens Profile Setup : LensDefaults
Has Settings : True
Has Crop : False
Already Applied : True
Date Created : 2011:01:01 23:27:08+09:00
Title : Black and White bench
Subject : B&W, Japan, Kyushu, Nikkor 24-70 2.8G, building, house, 九州, 日本
Tone Curve : 0, 0, 255, 255
Image Width : 201
Image Height : 300
Bits Per Sample : 8
Color Components : 1
Aperture : 8.0
Image Size : 201x300
Megapixels : 0.060
Shutter Speed : 1/125
Light Value : 12.0