Uber Exif Photo
By-line : Oleg Zinkovetsky
By-line Title : photographer
Copyright Notice : Oleg Zinkovetsky
Copyright Flag : True
Photometric Interpretation : RGB
Make : NIKON CORPORATION
Camera Model Name : NIKON D300S
Orientation : Horizontal (normal)
Samples Per Pixel : 3
Software : Adobe Photoshop CS5 Macintosh
Modify Date : 2011:05:22 22:27:43
Artist : Oleg Zinkovetsky
Copyright : Oleg Zinkovetsky
Exposure Time : 1/40
F Number : 2.8
Exposure Program : Aperture-priority AE
ISO : 1250
Sensitivity Type : Unknown
Date/Time Original : 2011:03:11 13:41:17
Create Date : 2011:03:11 13:41:17
Shutter Speed Value : 1/40
Aperture Value : 2.8
Exposure Compensation : -1
Max Aperture Value : 2.8
Subject Distance : 2.51 m
Metering Mode : Multi-segment
Light Source : Unknown
Focal Length : 17.0 mm
Color Space : sRGB
Exif Image Width : 2221
Exif Image Height : 3370
Sensing Method : One-chip color area
Scene Type : Directly photographed
CFA Pattern : [Red,Green][Green,Blue]
Custom Rendered : Normal
Exposure Mode : Auto
White Balance : Auto
Digital Zoom Ratio : 1
Focal Length In 35mm Format : 25 mm
Scene Capture Type : Standard
Gain Control : High gain up
Contrast : High
Saturation : Normal
Sharpness : Normal
Subject Distance Range : Unknown
Serial Number : 3013775
Lens Info : 17-55mm f/2.8
Lens Model : 17.0-55.0 mm f/2.8
Profile Description : sRGB IEC61966-2.1
Creator Tool : Ver.1.01
Rating : 1
Lens : 17.0-55.0 mm f/2.8
Image Number : 123817
Approximate Focus Distance : 2.51
Marked : True
Authors Position : photographer
Date Created : 2011:03:11 13:41:17.01
Color Mode : RGB
ICC Profile Name : sRGB IEC61966-2.1
Version : 6.2
Process Version : 5.7
Color Temperature : 2600
Tint : -10
Exposure : +0.05
Shadows : 7
Brightness : +50
Luminance Smoothing : 0
Color Noise Reduction : 25
Chromatic Aberration R : 0
Chromatic Aberration B : 0
Vignette Amount : 0
Shadow Tint : 0
Red Hue : 0
Red Saturation : 0
Green Hue : 0
Green Saturation : 0
Blue Hue : 0
Blue Saturation : 0
Fill Light : 0
Vibrance : +24
Highlight Recovery : 9
Clarity : +24
Defringe : 0
Hue Adjustment Red : 0
Hue Adjustment Orange : 0
Hue Adjustment Yellow : 0
Hue Adjustment Green : 0
Hue Adjustment Aqua : 0
Hue Adjustment Blue : 0
Hue Adjustment Purple : 0
Hue Adjustment Magenta : 0
Saturation Adjustment Red : 0
Saturation Adjustment Orange : 0
Saturation Adjustment Yellow : 0
Saturation Adjustment Green : 0
Saturation Adjustment Aqua : 0
Saturation Adjustment Blue : 0
Saturation Adjustment Purple : 0
Saturation Adjustment Magenta : 0
Luminance Adjustment Red : 0
Luminance Adjustment Orange : 0
Luminance Adjustment Yellow : 0
Luminance Adjustment Green : 0
Luminance Adjustment Aqua : 0
Luminance Adjustment Blue : 0
Luminance Adjustment Purple : 0
Luminance Adjustment Magenta : 0
Split Toning Shadow Hue : 0
Split Toning Shadow Saturation : 0
Split Toning Highlight Hue : 0
Split Toning Highlight Saturation : 0
Split Toning Balance : 0
Parametric Shadows : 0
Parametric Darks : 0
Parametric Lights : 0
Parametric Highlights : 0
Parametric Shadow Split : 25
Parametric Midtone Split : 50
Parametric Highlight Split : 75
Sharpen Radius : +1.0
Sharpen Detail : 25
Sharpen Edge Masking : 0
Post Crop Vignette Amount : 0
Grain Amount : 0
Color Noise Reduction Detail : 50
Lens Profile Enable : 1
Lens Manual Distortion Amount : 0
Perspective Vertical : 0
Perspective Horizontal : 0
Perspective Rotate : 0.0
Perspective Scale : 100
Convert To Grayscale : False
Tone Curve Name : Medium Contrast
Camera Profile : Adobe Standard
Lens Profile Setup : LensDefaults
Lens Profile Name : Adobe (Nikon AF-S DX Zoom-Nikkor 17-55mm f/2.8G IF-ED)
Lens Profile Filename : NIKON D90 (Nikon AF-S DX Zoom-NIKKOR 17-55mm f2.8G IF-ED) - RAW.lcp
Lens Profile Distortion Scale : 100
Lens Profile Chromatic Aberration Scale : 100
Lens Profile Vignetting Scale : 100
Has Settings : True
Crop Top : 0.047345
Crop Left : 0.042446
Crop Bottom : 0.873232
Crop Right : 0.91945
Crop Angle : -1.56669
Crop Constrain To Warp : 0
Crop Width : 3694
Crop Height : 2454
Crop Unit : pixels
Has Crop : True
Already Applied : True
Format : image/jpeg
Date/Time Digitized : 2011:03:11 13:41:17.10-05:00
Tone Curve : 0, 0, 32, 22, 64, 56, 128, 128, 192, 196, 255, 255
Paint Correction What : Correction
Paint Correction Amount : 1.000000
Paint Correction Active : true
Paint Correction Exposure : -0.173913
Paint Correction Saturation : 0.000000
Paint Correction Contrast : 0.000000
Paint Correction Clarity : 0.000000
Paint Correction Sharpness : 0.000000
Paint Correction Brightness : 0.000000
Paint Correction Toning Hue : 0.000000
Paint Correction Toning Saturation : 0.000000
Paint Correction Mask What : Mask/Paint
Paint Correction Mask Value : 1.000000
Paint Correction Mask Radius : 0.097006
Paint Correction Mask Flow : 1.000000
Paint Correction Mask Center Weight : 0.000000
Creator : Oleg Zinkovetsky
Rights : Oleg Zinkovetsky
Creator Postal Code : 11223
Creator Work Telephone : 1 347 628 3235
Creator Region : NY
Creator City : Brooklyn
Creator Country : USA
Creator Address : 367 AVENUE U, 2nd floor
Flash Fired : False
Flash Return : No return detection
Flash Mode : Unknown
Flash Function : False
Flash Red Eye Mode : False
Image Width : 198
Image Height : 300
Bits Per Sample : 8
Color Components : 3
Aperture : 2.8
Image Size : 198x300
Megapixels : 0.059
Scale Factor To 35 mm Equivalent : 1.5
Shutter Speed : 1/40
Create Date : 2011:03:11 13:41:17.10
Date/Time Original : 2011:03:11 13:41:17.10
Flash : No Flash
Circle Of Confusion : 0.020 mm
Depth Of Field : 3.27 m (1.68 - 4.96 m)
Field Of View : 71.5 deg
Focal Length : 17.0 mm (35 mm equivalent: 25.0 mm)
Hyperfocal Distance : 5.05 m
Light Value : 4.6
Lens ID : AF-S DX Zoom-Nikkor 17-55mm f/2.8G IF-ED