Uber Exif Photo
By-line : LeMuse photography
Copyright Notice : LeMuse photography, inc.
Copyright Flag : True
Make : NIKON CORPORATION
Camera Model Name : NIKON D300S
Orientation : Horizontal (normal)
Software : Adobe Photoshop CS3 Macintosh
Modify Date : 2010:09:30 09:25:05
Artist : LeMuse photography
Copyright : LeMuse photography, inc.
Exposure Time : 1/320
F Number : 2.8
Exposure Program : Manual
ISO : 320
Sensitivity Type : Unknown
Date/Time Original : 2010:09:04 14:44:12
Create Date : 2010:09:04 14:44:12
Shutter Speed Value : 1/320
Aperture Value : 2.8
Exposure Compensation : +2/3
Max Aperture Value : 2.8
Subject Distance : 20 m
Metering Mode : Center-weighted average
Light Source : Unknown
Focal Length : 140.0 mm
Color Space : sRGB
Exif Image Width : 4288
Exif Image Height : 2848
Sensing Method : One-chip color area
Scene Type : Directly photographed
CFA Pattern : [Red,Green][Green,Blue]
Custom Rendered : Normal
Exposure Mode : Manual
White Balance : Auto
Digital Zoom Ratio : 1
Focal Length In 35mm Format : 210 mm
Scene Capture Type : Standard
Gain Control : None
Contrast : Normal
Saturation : Normal
Sharpness : Normal
Subject Distance Range : Unknown
Serial Number : 3013775
Lens Info : 70-200mm f/2.8
Lens Model : 70.0-200.0 mm f/2.8
Photometric Interpretation : RGB
Samples Per Pixel : 3
Date/Time Digitized : 2010:09:04 14:44:12.31-04:00
Creator Tool : Adobe Photoshop CS3 Macintosh
Lens : 70.0-200.0 mm f/2.8
Image Number : 97671
Approximate Focus Distance : 20
Marked : True
Version : 6.2
Process Version : 5.7
Color Temperature : 5300
Tint : +4
Exposure : -0.80
Shadows : 5
Brightness : +50
Luminance Smoothing : 0
Color Noise Reduction : 25
Chromatic Aberration R : 0
Chromatic Aberration B : 0
Vignette Amount : 0
Shadow Tint : 0
Red Hue : 0
Red Saturation : 0
Green Hue : 0
Green Saturation : 0
Blue Hue : 0
Blue Saturation : 0
Fill Light : 0
Vibrance : +24
Highlight Recovery : 17
Clarity : +24
Defringe : 0
Hue Adjustment Red : 0
Hue Adjustment Orange : 0
Hue Adjustment Yellow : 0
Hue Adjustment Green : 0
Hue Adjustment Aqua : 0
Hue Adjustment Blue : 0
Hue Adjustment Purple : 0
Hue Adjustment Magenta : 0
Saturation Adjustment Red : 0
Saturation Adjustment Orange : 0
Saturation Adjustment Yellow : 0
Saturation Adjustment Green : 0
Saturation Adjustment Aqua : 0
Saturation Adjustment Blue : 0
Saturation Adjustment Purple : 0
Saturation Adjustment Magenta : 0
Luminance Adjustment Red : 0
Luminance Adjustment Orange : 0
Luminance Adjustment Yellow : 0
Luminance Adjustment Green : 0
Luminance Adjustment Aqua : 0
Luminance Adjustment Blue : 0
Luminance Adjustment Purple : 0
Luminance Adjustment Magenta : 0
Split Toning Shadow Hue : 0
Split Toning Shadow Saturation : 0
Split Toning Highlight Hue : 0
Split Toning Highlight Saturation : 0
Split Toning Balance : 0
Parametric Shadows : 0
Parametric Darks : 0
Parametric Lights : 0
Parametric Highlights : 0
Parametric Shadow Split : 25
Parametric Midtone Split : 50
Parametric Highlight Split : 75
Sharpen Radius : +1.0
Sharpen Detail : 25
Sharpen Edge Masking : 0
Post Crop Vignette Amount : 0
Grain Amount : 0
Color Noise Reduction Detail : 50
Lens Profile Enable : 0
Lens Manual Distortion Amount : 0
Perspective Vertical : 0
Perspective Horizontal : 0
Perspective Rotate : 0.0
Perspective Scale : 100
Convert To Grayscale : False
Tone Curve Name : Medium Contrast
Camera Profile : Adobe Standard
Lens Profile Setup : LensDefaults
Has Settings : True
Has Crop : False
Already Applied : True
ICC Profile Name : sRGB IEC61966-2.1
Format : image/jpeg
Flash Fired : False
Flash Return : No return detection
Flash Mode : Unknown
Flash Function : False
Flash Red Eye Mode : False
Tone Curve : 0, 0, 32, 22, 64, 56, 128, 128, 192, 196, 255, 255
Creator : LeMuse photography, inc.
Rights : LeMuse photography, inc.
Derived From : Creator Postal Code : 11223
Creator Work Telephone : 888.353.6873
Creator Region : NY
Creator Country : USA
Creator City : Brooklyn
Creator Address : 367 Avenue U, 2nd floor
Creator Work Email : lemuse@gmail.com
Creator Work URL : www.lemusephotography.com
Image Width : 300
Image Height : 199
Bits Per Sample : 8
Color Components : 1
Aperture : 2.8
Image Size : 300x199
Megapixels : 0.060
Scale Factor To 35 mm Equivalent : 1.5
Shutter Speed : 1/320
Create Date : 2010:09:04 14:44:12.31
Date/Time Original : 2010:09:04 14:44:12.31
Flash : No Flash
Circle Of Confusion : 0.020 mm
Depth Of Field : 2.28 m (18.92 - 21.21 m)
Field Of View : 9.8 deg
Focal Length : 140.0 mm (35 mm equivalent: 210.0 mm)
Hyperfocal Distance : 349.46 m
Light Value : 9.6
Lens ID : AF-S VR Zoom-Nikkor 70-200mm f/2.8G IF-ED