Uber Exif Photo
By-line : LeMuse photography
Copyright Notice : LeMuse photography, inc.
Copyright Flag : True
Make : NIKON CORPORATION
Camera Model Name : NIKON D300S
Software : Adobe Photoshop CS5 Macintosh
Modify Date : 2011:06:13 17:24:48
Copyright : LeMuse photography, inc.
Exposure Time : 1/2500
F Number : 2.8
Exposure Program : Manual
ISO : 200
Sensitivity Type : Unknown
Date/Time Original : 2011:06:01 13:57:40
Create Date : 2011:06:01 13:57:40
Shutter Speed Value : 1/2500
Aperture Value : 2.8
Exposure Compensation : +4
Max Aperture Value : 2.8
Subject Distance : 7.08 m
Metering Mode : Spot
Light Source : Unknown
Focal Length : 160.0 mm
Sensing Method : One-chip color area
Scene Type : Directly photographed
CFA Pattern : [Red,Green][Green,Blue]
Custom Rendered : Normal
Exposure Mode : Manual
White Balance : Auto
Digital Zoom Ratio : 1
Focal Length In 35mm Format : 240 mm
Scene Capture Type : Standard
Gain Control : None
Contrast : Normal
Saturation : Normal
Sharpness : Normal
Subject Distance Range : Unknown
Serial Number : 3013775
Lens Info : 70-200mm f/2.8
Lens Model : 70.0-200.0 mm f/2.8
Profile Description : sRGB IEC61966-2.1
Creator Tool : Adobe Photoshop Lightroom
Lens : 70.0-200.0 mm f/2.8
Image Number : 143639
Approximate Focus Distance : 7.08
Date Created : 2011:06:01 13:57:40.049
Format : image/jpeg
Date/Time Digitized : 2011:06:01 13:57:40.49-04:00
Exif Image Width : 1993
Exif Image Height : 3000
Color Space : sRGB
Marked : True
Version : 6.2
Process Version : 5.7
Incremental Temperature : 0
Incremental Tint : 0
Exposure : 0.00
Shadows : 0
Brightness : +50
Luminance Smoothing : 0
Color Noise Reduction : 25
Chromatic Aberration R : 0
Chromatic Aberration B : 0
Vignette Amount : 0
Shadow Tint : 0
Red Hue : 0
Red Saturation : 0
Green Hue : 0
Green Saturation : 0
Blue Hue : 0
Blue Saturation : 0
Fill Light : 0
Vibrance : +24
Highlight Recovery : 9
Clarity : +24
Defringe : 0
Hue Adjustment Red : 0
Hue Adjustment Orange : 0
Hue Adjustment Yellow : 0
Hue Adjustment Green : 0
Hue Adjustment Aqua : 0
Hue Adjustment Blue : 0
Hue Adjustment Purple : 0
Hue Adjustment Magenta : 0
Saturation Adjustment Red : 0
Saturation Adjustment Orange : 0
Saturation Adjustment Yellow : 0
Saturation Adjustment Green : 0
Saturation Adjustment Aqua : 0
Saturation Adjustment Blue : 0
Saturation Adjustment Purple : 0
Saturation Adjustment Magenta : 0
Luminance Adjustment Red : 0
Luminance Adjustment Orange : 0
Luminance Adjustment Yellow : 0
Luminance Adjustment Green : 0
Luminance Adjustment Aqua : 0
Luminance Adjustment Blue : 0
Luminance Adjustment Purple : 0
Luminance Adjustment Magenta : 0
Split Toning Shadow Hue : 0
Split Toning Shadow Saturation : 0
Split Toning Highlight Hue : 0
Split Toning Highlight Saturation : 0
Split Toning Balance : 0
Parametric Shadows : 0
Parametric Darks : 0
Parametric Lights : 0
Parametric Highlights : 0
Parametric Shadow Split : 25
Parametric Midtone Split : 50
Parametric Highlight Split : 75
Sharpen Radius : +1.0
Sharpen Detail : 25
Sharpen Edge Masking : 0
Post Crop Vignette Amount : 0
Grain Amount : 0
Color Noise Reduction Detail : 50
Lens Profile Enable : 0
Lens Manual Distortion Amount : 0
Perspective Vertical : 0
Perspective Horizontal : 0
Perspective Rotate : 0.0
Perspective Scale : 100
Convert To Grayscale : False
Tone Curve Name : Linear
Camera Profile : Adobe Standard
Lens Profile Setup : LensDefaults
Has Settings : True
Has Crop : False
Already Applied : True
Creator : LeMuse photography, inc.
Rights : LeMuse photography, inc.
Flash Fired : True
Flash Return : Return detected
Flash Mode : On
Flash Function : False
Flash Red Eye Mode : False
Creator Postal Code : 11223
Creator Work Telephone : 888.353.6873
Creator Region : NY
Creator Country : USA
Creator City : Brooklyn
Creator Address : 367 Avenue U, 2nd floor
Creator Work Email : lemuse@gmail.com
Creator Work URL : www.lemusephotography.com
Tone Curve : 0, 0, 255, 255
Image Width : 199
Image Height : 300
Bits Per Sample : 8
Color Components : 3
Aperture : 2.8
Image Size : 199x300
Megapixels : 0.060
Scale Factor To 35 mm Equivalent : 1.5
Shutter Speed : 1/2500
Create Date : 2011:06:01 13:57:40.49
Date/Time Original : 2011:06:01 13:57:40.49
Flash : On, Return detected
Circle Of Confusion : 0.020 mm
Depth Of Field : 0.21 m (6.97 - 7.19 m)
Field Of View : 8.6 deg
Focal Length : 160.0 mm (35 mm equivalent: 240.0 mm)
Hyperfocal Distance : 456.44 m
Light Value : 13.3
Lens ID : AF-S VR Zoom-Nikkor 70-200mm f/2.8G IF-ED